BEGIN:VCALENDAR
VERSION:2.0
PRODID:https://www.kufer.de/kuferweb / DE
METHOD:PUBLISH
CALSCALE:GREGORIAN
X-WR-TIMEZONE:Europe/Berlin
BEGIN:VTIMEZONE
TZID:Europe/Berlin
X-LIC-LOCATION:Europe/Berlin
BEGIN:DAYLIGHT
TZOFFSETFROM:+0100
TZOFFSETTO:+0200
TZNAME:CEST
DTSTART:19700329T020000
RRULE:FREQ=YEARLY;INTERVAL=1;BYDAY=-1SU;BYMONTH=3
END:DAYLIGHT
BEGIN:STANDARD
TZOFFSETFROM:+0200
TZOFFSETTO:+0100
TZNAME:CET
DTSTART:19701025T030000
RRULE:FREQ=YEARLY;INTERVAL=1;BYDAY=-1SU;BYMONTH=10
END:STANDARD
END:VTIMEZONE
BEGIN:VEVENT
DTSTAMP:20260421T213333
DTSTART;TZID=Europe/Berlin:20260923T183000
DTEND;TZID=Europe/Berlin:20260923T193000
UID:W33559861-20260923T183000@VHSBÖBLINGEN-SINDELFINGEN
SUMMARY:Rückengymnastik (W33559861) 
LOCATION:WE, GMS, Aula, In der Röte 92, 71093 Weil im Schönbuch
END:VEVENT
BEGIN:VEVENT
DTSTAMP:20260421T213333
DTSTART;TZID=Europe/Berlin:20260930T183000
DTEND;TZID=Europe/Berlin:20260930T193000
UID:W33559861-20260930T183000@VHSBÖBLINGEN-SINDELFINGEN
SUMMARY:Rückengymnastik (W33559861) 
LOCATION:WE, GMS, Aula, In der Röte 92, 71093 Weil im Schönbuch
END:VEVENT
BEGIN:VEVENT
DTSTAMP:20260421T213333
DTSTART;TZID=Europe/Berlin:20261007T183000
DTEND;TZID=Europe/Berlin:20261007T193000
UID:W33559861-20261007T183000@VHSBÖBLINGEN-SINDELFINGEN
SUMMARY:Rückengymnastik (W33559861) 
LOCATION:WE, GMS, Aula, In der Röte 92, 71093 Weil im Schönbuch
END:VEVENT
BEGIN:VEVENT
DTSTAMP:20260421T213333
DTSTART;TZID=Europe/Berlin:20261014T183000
DTEND;TZID=Europe/Berlin:20261014T193000
UID:W33559861-20261014T183000@VHSBÖBLINGEN-SINDELFINGEN
SUMMARY:Rückengymnastik (W33559861) 
LOCATION:WE, GMS, Aula, In der Röte 92, 71093 Weil im Schönbuch
END:VEVENT
BEGIN:VEVENT
DTSTAMP:20260421T213333
DTSTART;TZID=Europe/Berlin:20261021T183000
DTEND;TZID=Europe/Berlin:20261021T193000
UID:W33559861-20261021T183000@VHSBÖBLINGEN-SINDELFINGEN
SUMMARY:Rückengymnastik (W33559861) 
LOCATION:WE, GMS, Aula, In der Röte 92, 71093 Weil im Schönbuch
END:VEVENT
BEGIN:VEVENT
DTSTAMP:20260421T213333
DTSTART;TZID=Europe/Berlin:20261104T183000
DTEND;TZID=Europe/Berlin:20261104T193000
UID:W33559861-20261104T183000@VHSBÖBLINGEN-SINDELFINGEN
SUMMARY:Rückengymnastik (W33559861) 
LOCATION:WE, GMS, Aula, In der Röte 92, 71093 Weil im Schönbuch
END:VEVENT
BEGIN:VEVENT
DTSTAMP:20260421T213333
DTSTART;TZID=Europe/Berlin:20261111T183000
DTEND;TZID=Europe/Berlin:20261111T193000
UID:W33559861-20261111T183000@VHSBÖBLINGEN-SINDELFINGEN
SUMMARY:Rückengymnastik (W33559861) 
LOCATION:WE, GMS, Aula, In der Röte 92, 71093 Weil im Schönbuch
END:VEVENT
BEGIN:VEVENT
DTSTAMP:20260421T213333
DTSTART;TZID=Europe/Berlin:20261118T183000
DTEND;TZID=Europe/Berlin:20261118T193000
UID:W33559861-20261118T183000@VHSBÖBLINGEN-SINDELFINGEN
SUMMARY:Rückengymnastik (W33559861) 
LOCATION:WE, GMS, Aula, In der Röte 92, 71093 Weil im Schönbuch
END:VEVENT
BEGIN:VEVENT
DTSTAMP:20260421T213333
DTSTART;TZID=Europe/Berlin:20261125T183000
DTEND;TZID=Europe/Berlin:20261125T193000
UID:W33559861-20261125T183000@VHSBÖBLINGEN-SINDELFINGEN
SUMMARY:Rückengymnastik (W33559861) 
LOCATION:WE, GMS, Aula, In der Röte 92, 71093 Weil im Schönbuch
END:VEVENT
BEGIN:VEVENT
DTSTAMP:20260421T213333
DTSTART;TZID=Europe/Berlin:20261202T183000
DTEND;TZID=Europe/Berlin:20261202T193000
UID:W33559861-20261202T183000@VHSBÖBLINGEN-SINDELFINGEN
SUMMARY:Rückengymnastik (W33559861) 
LOCATION:WE, GMS, Aula, In der Röte 92, 71093 Weil im Schönbuch
END:VEVENT
BEGIN:VEVENT
DTSTAMP:20260421T213333
DTSTART;TZID=Europe/Berlin:20261209T183000
DTEND;TZID=Europe/Berlin:20261209T193000
UID:W33559861-20261209T183000@VHSBÖBLINGEN-SINDELFINGEN
SUMMARY:Rückengymnastik (W33559861) 
LOCATION:WE, GMS, Aula, In der Röte 92, 71093 Weil im Schönbuch
END:VEVENT
BEGIN:VEVENT
DTSTAMP:20260421T213333
DTSTART;TZID=Europe/Berlin:20261216T183000
DTEND;TZID=Europe/Berlin:20261216T193000
UID:W33559861-20261216T183000@VHSBÖBLINGEN-SINDELFINGEN
SUMMARY:Rückengymnastik (W33559861) 
LOCATION:WE, GMS, Aula, In der Röte 92, 71093 Weil im Schönbuch
END:VEVENT
BEGIN:VEVENT
DTSTAMP:20260421T213333
DTSTART;TZID=Europe/Berlin:20270113T183000
DTEND;TZID=Europe/Berlin:20270113T193000
UID:W33559861-20270113T183000@VHSBÖBLINGEN-SINDELFINGEN
SUMMARY:Rückengymnastik (W33559861) 
LOCATION:WE, GMS, Aula, In der Röte 92, 71093 Weil im Schönbuch
END:VEVENT
BEGIN:VEVENT
DTSTAMP:20260421T213333
DTSTART;TZID=Europe/Berlin:20270120T183000
DTEND;TZID=Europe/Berlin:20270120T193000
UID:W33559861-20270120T183000@VHSBÖBLINGEN-SINDELFINGEN
SUMMARY:Rückengymnastik (W33559861) 
LOCATION:WE, GMS, Aula, In der Röte 92, 71093 Weil im Schönbuch
END:VEVENT
BEGIN:VEVENT
DTSTAMP:20260421T213333
DTSTART;TZID=Europe/Berlin:20270127T183000
DTEND;TZID=Europe/Berlin:20270127T193000
UID:W33559861-20270127T183000@VHSBÖBLINGEN-SINDELFINGEN
SUMMARY:Rückengymnastik (W33559861) 
LOCATION:WE, GMS, Aula, In der Röte 92, 71093 Weil im Schönbuch
END:VEVENT
BEGIN:VEVENT
DTSTAMP:20260421T213333
DTSTART;TZID=Europe/Berlin:20270203T183000
DTEND;TZID=Europe/Berlin:20270203T193000
UID:W33559861-20270203T183000@VHSBÖBLINGEN-SINDELFINGEN
SUMMARY:Rückengymnastik (W33559861) 
LOCATION:WE, GMS, Aula, In der Röte 92, 71093 Weil im Schönbuch
END:VEVENT
END:VCALENDAR