BEGIN:VCALENDAR
VERSION:2.0
PRODID:https://www.kufer.de/kuferweb / DE
METHOD:PUBLISH
CALSCALE:GREGORIAN
X-WR-TIMEZONE:Europe/Berlin
BEGIN:VTIMEZONE
TZID:Europe/Berlin
X-LIC-LOCATION:Europe/Berlin
BEGIN:DAYLIGHT
TZOFFSETFROM:+0100
TZOFFSETTO:+0200
TZNAME:CEST
DTSTART:19700329T020000
RRULE:FREQ=YEARLY;INTERVAL=1;BYDAY=-1SU;BYMONTH=3
END:DAYLIGHT
BEGIN:STANDARD
TZOFFSETFROM:+0200
TZOFFSETTO:+0100
TZNAME:CET
DTSTART:19701025T030000
RRULE:FREQ=YEARLY;INTERVAL=1;BYDAY=-1SU;BYMONTH=10
END:STANDARD
END:VTIMEZONE
BEGIN:VEVENT
DTSTAMP:20260421T041442
DTSTART;TZID=Europe/Berlin:20260922T141500
DTEND;TZID=Europe/Berlin:20260922T151500
UID:W33559461-20260922T141500@VHSBÖBLINGEN-SINDELFINGEN
SUMMARY:Rückengymnastik (W33559461) 
LOCATION:WE, Halle Neuweiler, ___, Hennersdorfer Straße, 71093 Weil im Schönbuch
END:VEVENT
BEGIN:VEVENT
DTSTAMP:20260421T041442
DTSTART;TZID=Europe/Berlin:20260929T141500
DTEND;TZID=Europe/Berlin:20260929T151500
UID:W33559461-20260929T141500@VHSBÖBLINGEN-SINDELFINGEN
SUMMARY:Rückengymnastik (W33559461) 
LOCATION:WE, Halle Neuweiler, ___, Hennersdorfer Straße, 71093 Weil im Schönbuch
END:VEVENT
BEGIN:VEVENT
DTSTAMP:20260421T041442
DTSTART;TZID=Europe/Berlin:20261006T141500
DTEND;TZID=Europe/Berlin:20261006T151500
UID:W33559461-20261006T141500@VHSBÖBLINGEN-SINDELFINGEN
SUMMARY:Rückengymnastik (W33559461) 
LOCATION:WE, Halle Neuweiler, ___, Hennersdorfer Straße, 71093 Weil im Schönbuch
END:VEVENT
BEGIN:VEVENT
DTSTAMP:20260421T041442
DTSTART;TZID=Europe/Berlin:20261013T141500
DTEND;TZID=Europe/Berlin:20261013T151500
UID:W33559461-20261013T141500@VHSBÖBLINGEN-SINDELFINGEN
SUMMARY:Rückengymnastik (W33559461) 
LOCATION:WE, Halle Neuweiler, ___, Hennersdorfer Straße, 71093 Weil im Schönbuch
END:VEVENT
BEGIN:VEVENT
DTSTAMP:20260421T041442
DTSTART;TZID=Europe/Berlin:20261020T141500
DTEND;TZID=Europe/Berlin:20261020T151500
UID:W33559461-20261020T141500@VHSBÖBLINGEN-SINDELFINGEN
SUMMARY:Rückengymnastik (W33559461) 
LOCATION:WE, Halle Neuweiler, ___, Hennersdorfer Straße, 71093 Weil im Schönbuch
END:VEVENT
BEGIN:VEVENT
DTSTAMP:20260421T041442
DTSTART;TZID=Europe/Berlin:20261103T141500
DTEND;TZID=Europe/Berlin:20261103T151500
UID:W33559461-20261103T141500@VHSBÖBLINGEN-SINDELFINGEN
SUMMARY:Rückengymnastik (W33559461) 
LOCATION:WE, Halle Neuweiler, ___, Hennersdorfer Straße, 71093 Weil im Schönbuch
END:VEVENT
BEGIN:VEVENT
DTSTAMP:20260421T041442
DTSTART;TZID=Europe/Berlin:20261110T141500
DTEND;TZID=Europe/Berlin:20261110T151500
UID:W33559461-20261110T141500@VHSBÖBLINGEN-SINDELFINGEN
SUMMARY:Rückengymnastik (W33559461) 
LOCATION:WE, Halle Neuweiler, ___, Hennersdorfer Straße, 71093 Weil im Schönbuch
END:VEVENT
BEGIN:VEVENT
DTSTAMP:20260421T041442
DTSTART;TZID=Europe/Berlin:20261117T141500
DTEND;TZID=Europe/Berlin:20261117T151500
UID:W33559461-20261117T141500@VHSBÖBLINGEN-SINDELFINGEN
SUMMARY:Rückengymnastik (W33559461) 
LOCATION:WE, Halle Neuweiler, ___, Hennersdorfer Straße, 71093 Weil im Schönbuch
END:VEVENT
BEGIN:VEVENT
DTSTAMP:20260421T041442
DTSTART;TZID=Europe/Berlin:20261124T141500
DTEND;TZID=Europe/Berlin:20261124T151500
UID:W33559461-20261124T141500@VHSBÖBLINGEN-SINDELFINGEN
SUMMARY:Rückengymnastik (W33559461) 
LOCATION:WE, Halle Neuweiler, ___, Hennersdorfer Straße, 71093 Weil im Schönbuch
END:VEVENT
BEGIN:VEVENT
DTSTAMP:20260421T041442
DTSTART;TZID=Europe/Berlin:20261201T141500
DTEND;TZID=Europe/Berlin:20261201T151500
UID:W33559461-20261201T141500@VHSBÖBLINGEN-SINDELFINGEN
SUMMARY:Rückengymnastik (W33559461) 
LOCATION:WE, Halle Neuweiler, ___, Hennersdorfer Straße, 71093 Weil im Schönbuch
END:VEVENT
BEGIN:VEVENT
DTSTAMP:20260421T041442
DTSTART;TZID=Europe/Berlin:20261208T141500
DTEND;TZID=Europe/Berlin:20261208T151500
UID:W33559461-20261208T141500@VHSBÖBLINGEN-SINDELFINGEN
SUMMARY:Rückengymnastik (W33559461) 
LOCATION:WE, Halle Neuweiler, ___, Hennersdorfer Straße, 71093 Weil im Schönbuch
END:VEVENT
BEGIN:VEVENT
DTSTAMP:20260421T041442
DTSTART;TZID=Europe/Berlin:20261215T141500
DTEND;TZID=Europe/Berlin:20261215T151500
UID:W33559461-20261215T141500@VHSBÖBLINGEN-SINDELFINGEN
SUMMARY:Rückengymnastik (W33559461) 
LOCATION:WE, Halle Neuweiler, ___, Hennersdorfer Straße, 71093 Weil im Schönbuch
END:VEVENT
BEGIN:VEVENT
DTSTAMP:20260421T041442
DTSTART;TZID=Europe/Berlin:20261222T141500
DTEND;TZID=Europe/Berlin:20261222T151500
UID:W33559461-20261222T141500@VHSBÖBLINGEN-SINDELFINGEN
SUMMARY:Rückengymnastik (W33559461) 
LOCATION:WE, Halle Neuweiler, ___, Hennersdorfer Straße, 71093 Weil im Schönbuch
END:VEVENT
BEGIN:VEVENT
DTSTAMP:20260421T041442
DTSTART;TZID=Europe/Berlin:20270112T141500
DTEND;TZID=Europe/Berlin:20270112T151500
UID:W33559461-20270112T141500@VHSBÖBLINGEN-SINDELFINGEN
SUMMARY:Rückengymnastik (W33559461) 
LOCATION:WE, Halle Neuweiler, ___, Hennersdorfer Straße, 71093 Weil im Schönbuch
END:VEVENT
BEGIN:VEVENT
DTSTAMP:20260421T041442
DTSTART;TZID=Europe/Berlin:20270119T141500
DTEND;TZID=Europe/Berlin:20270119T151500
UID:W33559461-20270119T141500@VHSBÖBLINGEN-SINDELFINGEN
SUMMARY:Rückengymnastik (W33559461) 
LOCATION:WE, Halle Neuweiler, ___, Hennersdorfer Straße, 71093 Weil im Schönbuch
END:VEVENT
BEGIN:VEVENT
DTSTAMP:20260421T041442
DTSTART;TZID=Europe/Berlin:20270126T141500
DTEND;TZID=Europe/Berlin:20270126T151500
UID:W33559461-20270126T141500@VHSBÖBLINGEN-SINDELFINGEN
SUMMARY:Rückengymnastik (W33559461) 
LOCATION:WE, Halle Neuweiler, ___, Hennersdorfer Straße, 71093 Weil im Schönbuch
END:VEVENT
BEGIN:VEVENT
DTSTAMP:20260421T041442
DTSTART;TZID=Europe/Berlin:20270202T141500
DTEND;TZID=Europe/Berlin:20270202T151500
UID:W33559461-20270202T141500@VHSBÖBLINGEN-SINDELFINGEN
SUMMARY:Rückengymnastik (W33559461) 
LOCATION:WE, Halle Neuweiler, ___, Hennersdorfer Straße, 71093 Weil im Schönbuch
END:VEVENT
END:VCALENDAR