BEGIN:VCALENDAR
VERSION:2.0
PRODID:https://www.kufer.de/kuferweb / DE
METHOD:PUBLISH
CALSCALE:GREGORIAN
X-WR-TIMEZONE:Europe/Berlin
BEGIN:VTIMEZONE
TZID:Europe/Berlin
X-LIC-LOCATION:Europe/Berlin
BEGIN:DAYLIGHT
TZOFFSETFROM:+0100
TZOFFSETTO:+0200
TZNAME:CEST
DTSTART:19700329T020000
RRULE:FREQ=YEARLY;INTERVAL=1;BYDAY=-1SU;BYMONTH=3
END:DAYLIGHT
BEGIN:STANDARD
TZOFFSETFROM:+0200
TZOFFSETTO:+0100
TZNAME:CET
DTSTART:19701025T030000
RRULE:FREQ=YEARLY;INTERVAL=1;BYDAY=-1SU;BYMONTH=10
END:STANDARD
END:VTIMEZONE
BEGIN:VEVENT
DTSTAMP:20260421T041559
DTSTART;TZID=Europe/Berlin:20260914T170000
DTEND;TZID=Europe/Berlin:20260914T180000
UID:W33559015-20260914T170000@VHSBÖBLINGEN-SINDELFINGEN
SUMMARY:Rückentraining (W33559015) 
LOCATION:EH, Sportzentrum Schalkwiese Halle 2, G3, Hildrizhauser Str. 80, 71139 Ehningen
END:VEVENT
BEGIN:VEVENT
DTSTAMP:20260421T041559
DTSTART;TZID=Europe/Berlin:20260921T170000
DTEND;TZID=Europe/Berlin:20260921T180000
UID:W33559015-20260921T170000@VHSBÖBLINGEN-SINDELFINGEN
SUMMARY:Rückentraining (W33559015) 
LOCATION:EH, Sportzentrum Schalkwiese Halle 2, G3, Hildrizhauser Str. 80, 71139 Ehningen
END:VEVENT
BEGIN:VEVENT
DTSTAMP:20260421T041559
DTSTART;TZID=Europe/Berlin:20260928T170000
DTEND;TZID=Europe/Berlin:20260928T180000
UID:W33559015-20260928T170000@VHSBÖBLINGEN-SINDELFINGEN
SUMMARY:Rückentraining (W33559015) 
LOCATION:EH, Sportzentrum Schalkwiese Halle 2, G3, Hildrizhauser Str. 80, 71139 Ehningen
END:VEVENT
BEGIN:VEVENT
DTSTAMP:20260421T041559
DTSTART;TZID=Europe/Berlin:20261005T170000
DTEND;TZID=Europe/Berlin:20261005T180000
UID:W33559015-20261005T170000@VHSBÖBLINGEN-SINDELFINGEN
SUMMARY:Rückentraining (W33559015) 
LOCATION:EH, Sportzentrum Schalkwiese Halle 2, G3, Hildrizhauser Str. 80, 71139 Ehningen
END:VEVENT
BEGIN:VEVENT
DTSTAMP:20260421T041559
DTSTART;TZID=Europe/Berlin:20261012T170000
DTEND;TZID=Europe/Berlin:20261012T180000
UID:W33559015-20261012T170000@VHSBÖBLINGEN-SINDELFINGEN
SUMMARY:Rückentraining (W33559015) 
LOCATION:EH, Sportzentrum Schalkwiese Halle 2, G3, Hildrizhauser Str. 80, 71139 Ehningen
END:VEVENT
BEGIN:VEVENT
DTSTAMP:20260421T041559
DTSTART;TZID=Europe/Berlin:20261019T170000
DTEND;TZID=Europe/Berlin:20261019T180000
UID:W33559015-20261019T170000@VHSBÖBLINGEN-SINDELFINGEN
SUMMARY:Rückentraining (W33559015) 
LOCATION:EH, Sportzentrum Schalkwiese Halle 2, G3, Hildrizhauser Str. 80, 71139 Ehningen
END:VEVENT
BEGIN:VEVENT
DTSTAMP:20260421T041559
DTSTART;TZID=Europe/Berlin:20261102T170000
DTEND;TZID=Europe/Berlin:20261102T180000
UID:W33559015-20261102T170000@VHSBÖBLINGEN-SINDELFINGEN
SUMMARY:Rückentraining (W33559015) 
LOCATION:EH, Sportzentrum Schalkwiese Halle 2, G3, Hildrizhauser Str. 80, 71139 Ehningen
END:VEVENT
BEGIN:VEVENT
DTSTAMP:20260421T041559
DTSTART;TZID=Europe/Berlin:20261109T170000
DTEND;TZID=Europe/Berlin:20261109T180000
UID:W33559015-20261109T170000@VHSBÖBLINGEN-SINDELFINGEN
SUMMARY:Rückentraining (W33559015) 
LOCATION:EH, Sportzentrum Schalkwiese Halle 2, G3, Hildrizhauser Str. 80, 71139 Ehningen
END:VEVENT
BEGIN:VEVENT
DTSTAMP:20260421T041559
DTSTART;TZID=Europe/Berlin:20261116T170000
DTEND;TZID=Europe/Berlin:20261116T180000
UID:W33559015-20261116T170000@VHSBÖBLINGEN-SINDELFINGEN
SUMMARY:Rückentraining (W33559015) 
LOCATION:EH, Sportzentrum Schalkwiese Halle 2, G3, Hildrizhauser Str. 80, 71139 Ehningen
END:VEVENT
BEGIN:VEVENT
DTSTAMP:20260421T041559
DTSTART;TZID=Europe/Berlin:20261123T170000
DTEND;TZID=Europe/Berlin:20261123T180000
UID:W33559015-20261123T170000@VHSBÖBLINGEN-SINDELFINGEN
SUMMARY:Rückentraining (W33559015) 
LOCATION:EH, Sportzentrum Schalkwiese Halle 2, G3, Hildrizhauser Str. 80, 71139 Ehningen
END:VEVENT
BEGIN:VEVENT
DTSTAMP:20260421T041559
DTSTART;TZID=Europe/Berlin:20261130T170000
DTEND;TZID=Europe/Berlin:20261130T180000
UID:W33559015-20261130T170000@VHSBÖBLINGEN-SINDELFINGEN
SUMMARY:Rückentraining (W33559015) 
LOCATION:EH, Sportzentrum Schalkwiese Halle 2, G3, Hildrizhauser Str. 80, 71139 Ehningen
END:VEVENT
BEGIN:VEVENT
DTSTAMP:20260421T041559
DTSTART;TZID=Europe/Berlin:20261207T170000
DTEND;TZID=Europe/Berlin:20261207T180000
UID:W33559015-20261207T170000@VHSBÖBLINGEN-SINDELFINGEN
SUMMARY:Rückentraining (W33559015) 
LOCATION:EH, Sportzentrum Schalkwiese Halle 2, G3, Hildrizhauser Str. 80, 71139 Ehningen
END:VEVENT
BEGIN:VEVENT
DTSTAMP:20260421T041559
DTSTART;TZID=Europe/Berlin:20261214T170000
DTEND;TZID=Europe/Berlin:20261214T180000
UID:W33559015-20261214T170000@VHSBÖBLINGEN-SINDELFINGEN
SUMMARY:Rückentraining (W33559015) 
LOCATION:EH, Sportzentrum Schalkwiese Halle 2, G3, Hildrizhauser Str. 80, 71139 Ehningen
END:VEVENT
BEGIN:VEVENT
DTSTAMP:20260421T041559
DTSTART;TZID=Europe/Berlin:20261221T170000
DTEND;TZID=Europe/Berlin:20261221T180000
UID:W33559015-20261221T170000@VHSBÖBLINGEN-SINDELFINGEN
SUMMARY:Rückentraining (W33559015) 
LOCATION:EH, Sportzentrum Schalkwiese Halle 2, G3, Hildrizhauser Str. 80, 71139 Ehningen
END:VEVENT
BEGIN:VEVENT
DTSTAMP:20260421T041559
DTSTART;TZID=Europe/Berlin:20270111T170000
DTEND;TZID=Europe/Berlin:20270111T180000
UID:W33559015-20270111T170000@VHSBÖBLINGEN-SINDELFINGEN
SUMMARY:Rückentraining (W33559015) 
LOCATION:EH, Sportzentrum Schalkwiese Halle 2, G3, Hildrizhauser Str. 80, 71139 Ehningen
END:VEVENT
BEGIN:VEVENT
DTSTAMP:20260421T041559
DTSTART;TZID=Europe/Berlin:20270118T170000
DTEND;TZID=Europe/Berlin:20270118T180000
UID:W33559015-20270118T170000@VHSBÖBLINGEN-SINDELFINGEN
SUMMARY:Rückentraining (W33559015) 
LOCATION:EH, Sportzentrum Schalkwiese Halle 2, G3, Hildrizhauser Str. 80, 71139 Ehningen
END:VEVENT
BEGIN:VEVENT
DTSTAMP:20260421T041559
DTSTART;TZID=Europe/Berlin:20270125T170000
DTEND;TZID=Europe/Berlin:20270125T180000
UID:W33559015-20270125T170000@VHSBÖBLINGEN-SINDELFINGEN
SUMMARY:Rückentraining (W33559015) 
LOCATION:EH, Sportzentrum Schalkwiese Halle 2, G3, Hildrizhauser Str. 80, 71139 Ehningen
END:VEVENT
BEGIN:VEVENT
DTSTAMP:20260421T041559
DTSTART;TZID=Europe/Berlin:20270201T170000
DTEND;TZID=Europe/Berlin:20270201T180000
UID:W33559015-20270201T170000@VHSBÖBLINGEN-SINDELFINGEN
SUMMARY:Rückentraining (W33559015) 
LOCATION:EH, Sportzentrum Schalkwiese Halle 2, G3, Hildrizhauser Str. 80, 71139 Ehningen
END:VEVENT
END:VCALENDAR