BEGIN:VCALENDAR
VERSION:2.0
PRODID:https://www.kufer.de/kuferweb / DE
METHOD:PUBLISH
CALSCALE:GREGORIAN
X-WR-TIMEZONE:Europe/Berlin
BEGIN:VTIMEZONE
TZID:Europe/Berlin
X-LIC-LOCATION:Europe/Berlin
BEGIN:DAYLIGHT
TZOFFSETFROM:+0100
TZOFFSETTO:+0200
TZNAME:CEST
DTSTART:19700329T020000
RRULE:FREQ=YEARLY;INTERVAL=1;BYDAY=-1SU;BYMONTH=3
END:DAYLIGHT
BEGIN:STANDARD
TZOFFSETFROM:+0200
TZOFFSETTO:+0100
TZNAME:CET
DTSTART:19701025T030000
RRULE:FREQ=YEARLY;INTERVAL=1;BYDAY=-1SU;BYMONTH=10
END:STANDARD
END:VTIMEZONE
BEGIN:VEVENT
DTSTAMP:20260421T134615
DTSTART;TZID=Europe/Berlin:20260922T085500
DTEND;TZID=Europe/Berlin:20260922T095500
UID:W33553624-20260922T085500@VHSBÖBLINGEN-SINDELFINGEN
SUMMARY:Wirbelsäulengymnastik (W33553624) 
LOCATION:Bürgerhaus Maichingen, Übungsraum 1, Sindelfinger Str. 44, 71069 Sindelfingen
END:VEVENT
BEGIN:VEVENT
DTSTAMP:20260421T134615
DTSTART;TZID=Europe/Berlin:20260929T085500
DTEND;TZID=Europe/Berlin:20260929T095500
UID:W33553624-20260929T085500@VHSBÖBLINGEN-SINDELFINGEN
SUMMARY:Wirbelsäulengymnastik (W33553624) 
LOCATION:Bürgerhaus Maichingen, Übungsraum 1, Sindelfinger Str. 44, 71069 Sindelfingen
END:VEVENT
BEGIN:VEVENT
DTSTAMP:20260421T134615
DTSTART;TZID=Europe/Berlin:20261006T085500
DTEND;TZID=Europe/Berlin:20261006T095500
UID:W33553624-20261006T085500@VHSBÖBLINGEN-SINDELFINGEN
SUMMARY:Wirbelsäulengymnastik (W33553624) 
LOCATION:Bürgerhaus Maichingen, Übungsraum 1, Sindelfinger Str. 44, 71069 Sindelfingen
END:VEVENT
BEGIN:VEVENT
DTSTAMP:20260421T134615
DTSTART;TZID=Europe/Berlin:20261013T085500
DTEND;TZID=Europe/Berlin:20261013T095500
UID:W33553624-20261013T085500@VHSBÖBLINGEN-SINDELFINGEN
SUMMARY:Wirbelsäulengymnastik (W33553624) 
LOCATION:Bürgerhaus Maichingen, Übungsraum 1, Sindelfinger Str. 44, 71069 Sindelfingen
END:VEVENT
BEGIN:VEVENT
DTSTAMP:20260421T134615
DTSTART;TZID=Europe/Berlin:20261020T085500
DTEND;TZID=Europe/Berlin:20261020T095500
UID:W33553624-20261020T085500@VHSBÖBLINGEN-SINDELFINGEN
SUMMARY:Wirbelsäulengymnastik (W33553624) 
LOCATION:Bürgerhaus Maichingen, Übungsraum 1, Sindelfinger Str. 44, 71069 Sindelfingen
END:VEVENT
BEGIN:VEVENT
DTSTAMP:20260421T134615
DTSTART;TZID=Europe/Berlin:20261103T085500
DTEND;TZID=Europe/Berlin:20261103T095500
UID:W33553624-20261103T085500@VHSBÖBLINGEN-SINDELFINGEN
SUMMARY:Wirbelsäulengymnastik (W33553624) 
LOCATION:Bürgerhaus Maichingen, Übungsraum 1, Sindelfinger Str. 44, 71069 Sindelfingen
END:VEVENT
BEGIN:VEVENT
DTSTAMP:20260421T134615
DTSTART;TZID=Europe/Berlin:20261110T085500
DTEND;TZID=Europe/Berlin:20261110T095500
UID:W33553624-20261110T085500@VHSBÖBLINGEN-SINDELFINGEN
SUMMARY:Wirbelsäulengymnastik (W33553624) 
LOCATION:Bürgerhaus Maichingen, Übungsraum 1, Sindelfinger Str. 44, 71069 Sindelfingen
END:VEVENT
BEGIN:VEVENT
DTSTAMP:20260421T134615
DTSTART;TZID=Europe/Berlin:20261117T085500
DTEND;TZID=Europe/Berlin:20261117T095500
UID:W33553624-20261117T085500@VHSBÖBLINGEN-SINDELFINGEN
SUMMARY:Wirbelsäulengymnastik (W33553624) 
LOCATION:Bürgerhaus Maichingen, Übungsraum 1, Sindelfinger Str. 44, 71069 Sindelfingen
END:VEVENT
BEGIN:VEVENT
DTSTAMP:20260421T134615
DTSTART;TZID=Europe/Berlin:20261124T085500
DTEND;TZID=Europe/Berlin:20261124T095500
UID:W33553624-20261124T085500@VHSBÖBLINGEN-SINDELFINGEN
SUMMARY:Wirbelsäulengymnastik (W33553624) 
LOCATION:Bürgerhaus Maichingen, Übungsraum 1, Sindelfinger Str. 44, 71069 Sindelfingen
END:VEVENT
BEGIN:VEVENT
DTSTAMP:20260421T134615
DTSTART;TZID=Europe/Berlin:20261201T085500
DTEND;TZID=Europe/Berlin:20261201T095500
UID:W33553624-20261201T085500@VHSBÖBLINGEN-SINDELFINGEN
SUMMARY:Wirbelsäulengymnastik (W33553624) 
LOCATION:Bürgerhaus Maichingen, Übungsraum 1, Sindelfinger Str. 44, 71069 Sindelfingen
END:VEVENT
BEGIN:VEVENT
DTSTAMP:20260421T134615
DTSTART;TZID=Europe/Berlin:20261208T085500
DTEND;TZID=Europe/Berlin:20261208T095500
UID:W33553624-20261208T085500@VHSBÖBLINGEN-SINDELFINGEN
SUMMARY:Wirbelsäulengymnastik (W33553624) 
LOCATION:Bürgerhaus Maichingen, Übungsraum 1, Sindelfinger Str. 44, 71069 Sindelfingen
END:VEVENT
BEGIN:VEVENT
DTSTAMP:20260421T134615
DTSTART;TZID=Europe/Berlin:20261215T085500
DTEND;TZID=Europe/Berlin:20261215T095500
UID:W33553624-20261215T085500@VHSBÖBLINGEN-SINDELFINGEN
SUMMARY:Wirbelsäulengymnastik (W33553624) 
LOCATION:Bürgerhaus Maichingen, Übungsraum 1, Sindelfinger Str. 44, 71069 Sindelfingen
END:VEVENT
BEGIN:VEVENT
DTSTAMP:20260421T134615
DTSTART;TZID=Europe/Berlin:20261222T085500
DTEND;TZID=Europe/Berlin:20261222T095500
UID:W33553624-20261222T085500@VHSBÖBLINGEN-SINDELFINGEN
SUMMARY:Wirbelsäulengymnastik (W33553624) 
LOCATION:Bürgerhaus Maichingen, Übungsraum 1, Sindelfinger Str. 44, 71069 Sindelfingen
END:VEVENT
BEGIN:VEVENT
DTSTAMP:20260421T134615
DTSTART;TZID=Europe/Berlin:20270112T085500
DTEND;TZID=Europe/Berlin:20270112T095500
UID:W33553624-20270112T085500@VHSBÖBLINGEN-SINDELFINGEN
SUMMARY:Wirbelsäulengymnastik (W33553624) 
LOCATION:Bürgerhaus Maichingen, Übungsraum 1, Sindelfinger Str. 44, 71069 Sindelfingen
END:VEVENT
BEGIN:VEVENT
DTSTAMP:20260421T134615
DTSTART;TZID=Europe/Berlin:20270119T085500
DTEND;TZID=Europe/Berlin:20270119T095500
UID:W33553624-20270119T085500@VHSBÖBLINGEN-SINDELFINGEN
SUMMARY:Wirbelsäulengymnastik (W33553624) 
LOCATION:Bürgerhaus Maichingen, Übungsraum 1, Sindelfinger Str. 44, 71069 Sindelfingen
END:VEVENT
END:VCALENDAR