BEGIN:VCALENDAR
VERSION:2.0
PRODID:https://www.kufer.de/kuferweb / DE
METHOD:PUBLISH
CALSCALE:GREGORIAN
X-WR-TIMEZONE:Europe/Berlin
BEGIN:VTIMEZONE
TZID:Europe/Berlin
X-LIC-LOCATION:Europe/Berlin
BEGIN:DAYLIGHT
TZOFFSETFROM:+0100
TZOFFSETTO:+0200
TZNAME:CEST
DTSTART:19700329T020000
RRULE:FREQ=YEARLY;INTERVAL=1;BYDAY=-1SU;BYMONTH=3
END:DAYLIGHT
BEGIN:STANDARD
TZOFFSETFROM:+0200
TZOFFSETTO:+0100
TZNAME:CET
DTSTART:19701025T030000
RRULE:FREQ=YEARLY;INTERVAL=1;BYDAY=-1SU;BYMONTH=10
END:STANDARD
END:VTIMEZONE
BEGIN:VEVENT
DTSTAMP:20260421T060828
DTSTART;TZID=Europe/Berlin:20260922T075000
DTEND;TZID=Europe/Berlin:20260922T085000
UID:W33553524-20260922T075000@VHSBÖBLINGEN-SINDELFINGEN
SUMMARY:Wirbelsäulengymnastik (W33553524) 
LOCATION:Bürgerhaus Maichingen, Übungsraum 1, Sindelfinger Str. 44, 71069 Sindelfingen
END:VEVENT
BEGIN:VEVENT
DTSTAMP:20260421T060828
DTSTART;TZID=Europe/Berlin:20260929T075000
DTEND;TZID=Europe/Berlin:20260929T085000
UID:W33553524-20260929T075000@VHSBÖBLINGEN-SINDELFINGEN
SUMMARY:Wirbelsäulengymnastik (W33553524) 
LOCATION:Bürgerhaus Maichingen, Übungsraum 1, Sindelfinger Str. 44, 71069 Sindelfingen
END:VEVENT
BEGIN:VEVENT
DTSTAMP:20260421T060828
DTSTART;TZID=Europe/Berlin:20261006T075000
DTEND;TZID=Europe/Berlin:20261006T085000
UID:W33553524-20261006T075000@VHSBÖBLINGEN-SINDELFINGEN
SUMMARY:Wirbelsäulengymnastik (W33553524) 
LOCATION:Bürgerhaus Maichingen, Übungsraum 1, Sindelfinger Str. 44, 71069 Sindelfingen
END:VEVENT
BEGIN:VEVENT
DTSTAMP:20260421T060828
DTSTART;TZID=Europe/Berlin:20261013T075000
DTEND;TZID=Europe/Berlin:20261013T085000
UID:W33553524-20261013T075000@VHSBÖBLINGEN-SINDELFINGEN
SUMMARY:Wirbelsäulengymnastik (W33553524) 
LOCATION:Bürgerhaus Maichingen, Übungsraum 1, Sindelfinger Str. 44, 71069 Sindelfingen
END:VEVENT
BEGIN:VEVENT
DTSTAMP:20260421T060828
DTSTART;TZID=Europe/Berlin:20261020T075000
DTEND;TZID=Europe/Berlin:20261020T085000
UID:W33553524-20261020T075000@VHSBÖBLINGEN-SINDELFINGEN
SUMMARY:Wirbelsäulengymnastik (W33553524) 
LOCATION:Bürgerhaus Maichingen, Übungsraum 1, Sindelfinger Str. 44, 71069 Sindelfingen
END:VEVENT
BEGIN:VEVENT
DTSTAMP:20260421T060828
DTSTART;TZID=Europe/Berlin:20261103T075000
DTEND;TZID=Europe/Berlin:20261103T085000
UID:W33553524-20261103T075000@VHSBÖBLINGEN-SINDELFINGEN
SUMMARY:Wirbelsäulengymnastik (W33553524) 
LOCATION:Bürgerhaus Maichingen, Übungsraum 1, Sindelfinger Str. 44, 71069 Sindelfingen
END:VEVENT
BEGIN:VEVENT
DTSTAMP:20260421T060828
DTSTART;TZID=Europe/Berlin:20261110T075000
DTEND;TZID=Europe/Berlin:20261110T085000
UID:W33553524-20261110T075000@VHSBÖBLINGEN-SINDELFINGEN
SUMMARY:Wirbelsäulengymnastik (W33553524) 
LOCATION:Bürgerhaus Maichingen, Übungsraum 1, Sindelfinger Str. 44, 71069 Sindelfingen
END:VEVENT
BEGIN:VEVENT
DTSTAMP:20260421T060828
DTSTART;TZID=Europe/Berlin:20261117T075000
DTEND;TZID=Europe/Berlin:20261117T085000
UID:W33553524-20261117T075000@VHSBÖBLINGEN-SINDELFINGEN
SUMMARY:Wirbelsäulengymnastik (W33553524) 
LOCATION:Bürgerhaus Maichingen, Übungsraum 1, Sindelfinger Str. 44, 71069 Sindelfingen
END:VEVENT
BEGIN:VEVENT
DTSTAMP:20260421T060828
DTSTART;TZID=Europe/Berlin:20261124T075000
DTEND;TZID=Europe/Berlin:20261124T085000
UID:W33553524-20261124T075000@VHSBÖBLINGEN-SINDELFINGEN
SUMMARY:Wirbelsäulengymnastik (W33553524) 
LOCATION:Bürgerhaus Maichingen, Übungsraum 1, Sindelfinger Str. 44, 71069 Sindelfingen
END:VEVENT
BEGIN:VEVENT
DTSTAMP:20260421T060828
DTSTART;TZID=Europe/Berlin:20261201T075000
DTEND;TZID=Europe/Berlin:20261201T085000
UID:W33553524-20261201T075000@VHSBÖBLINGEN-SINDELFINGEN
SUMMARY:Wirbelsäulengymnastik (W33553524) 
LOCATION:Bürgerhaus Maichingen, Übungsraum 1, Sindelfinger Str. 44, 71069 Sindelfingen
END:VEVENT
BEGIN:VEVENT
DTSTAMP:20260421T060828
DTSTART;TZID=Europe/Berlin:20261208T075000
DTEND;TZID=Europe/Berlin:20261208T085000
UID:W33553524-20261208T075000@VHSBÖBLINGEN-SINDELFINGEN
SUMMARY:Wirbelsäulengymnastik (W33553524) 
LOCATION:Bürgerhaus Maichingen, Übungsraum 1, Sindelfinger Str. 44, 71069 Sindelfingen
END:VEVENT
BEGIN:VEVENT
DTSTAMP:20260421T060828
DTSTART;TZID=Europe/Berlin:20261215T075000
DTEND;TZID=Europe/Berlin:20261215T085000
UID:W33553524-20261215T075000@VHSBÖBLINGEN-SINDELFINGEN
SUMMARY:Wirbelsäulengymnastik (W33553524) 
LOCATION:Bürgerhaus Maichingen, Übungsraum 1, Sindelfinger Str. 44, 71069 Sindelfingen
END:VEVENT
BEGIN:VEVENT
DTSTAMP:20260421T060828
DTSTART;TZID=Europe/Berlin:20261222T075000
DTEND;TZID=Europe/Berlin:20261222T085000
UID:W33553524-20261222T075000@VHSBÖBLINGEN-SINDELFINGEN
SUMMARY:Wirbelsäulengymnastik (W33553524) 
LOCATION:Bürgerhaus Maichingen, Übungsraum 1, Sindelfinger Str. 44, 71069 Sindelfingen
END:VEVENT
BEGIN:VEVENT
DTSTAMP:20260421T060828
DTSTART;TZID=Europe/Berlin:20270112T075000
DTEND;TZID=Europe/Berlin:20270112T085000
UID:W33553524-20270112T075000@VHSBÖBLINGEN-SINDELFINGEN
SUMMARY:Wirbelsäulengymnastik (W33553524) 
LOCATION:Bürgerhaus Maichingen, Übungsraum 1, Sindelfinger Str. 44, 71069 Sindelfingen
END:VEVENT
BEGIN:VEVENT
DTSTAMP:20260421T060828
DTSTART;TZID=Europe/Berlin:20270119T075000
DTEND;TZID=Europe/Berlin:20270119T085000
UID:W33553524-20270119T075000@VHSBÖBLINGEN-SINDELFINGEN
SUMMARY:Wirbelsäulengymnastik (W33553524) 
LOCATION:Bürgerhaus Maichingen, Übungsraum 1, Sindelfinger Str. 44, 71069 Sindelfingen
END:VEVENT
END:VCALENDAR