BEGIN:VCALENDAR
VERSION:2.0
PRODID:https://www.kufer.de/kuferweb / DE
METHOD:PUBLISH
CALSCALE:GREGORIAN
X-WR-TIMEZONE:Europe/Berlin
BEGIN:VTIMEZONE
TZID:Europe/Berlin
X-LIC-LOCATION:Europe/Berlin
BEGIN:DAYLIGHT
TZOFFSETFROM:+0100
TZOFFSETTO:+0200
TZNAME:CEST
DTSTART:19700329T020000
RRULE:FREQ=YEARLY;INTERVAL=1;BYDAY=-1SU;BYMONTH=3
END:DAYLIGHT
BEGIN:STANDARD
TZOFFSETFROM:+0200
TZOFFSETTO:+0100
TZNAME:CET
DTSTART:19701025T030000
RRULE:FREQ=YEARLY;INTERVAL=1;BYDAY=-1SU;BYMONTH=10
END:STANDARD
END:VTIMEZONE
BEGIN:VEVENT
DTSTAMP:20260421T215753
DTSTART;TZID=Europe/Berlin:20260916T091000
DTEND;TZID=Europe/Berlin:20260916T101000
UID:W33548429-20260916T091000@VHSBÖBLINGEN-SINDELFINGEN
SUMMARY:Wirbelsäulengymnastik (W33548429) 
LOCATION:SC, Altes Schulhaus, Raum 13, Große Gasse 3, 71101 Schönaich
END:VEVENT
BEGIN:VEVENT
DTSTAMP:20260421T215753
DTSTART;TZID=Europe/Berlin:20260923T091000
DTEND;TZID=Europe/Berlin:20260923T101000
UID:W33548429-20260923T091000@VHSBÖBLINGEN-SINDELFINGEN
SUMMARY:Wirbelsäulengymnastik (W33548429) 
LOCATION:SC, Altes Schulhaus, Raum 13, Große Gasse 3, 71101 Schönaich
END:VEVENT
BEGIN:VEVENT
DTSTAMP:20260421T215753
DTSTART;TZID=Europe/Berlin:20260930T091000
DTEND;TZID=Europe/Berlin:20260930T101000
UID:W33548429-20260930T091000@VHSBÖBLINGEN-SINDELFINGEN
SUMMARY:Wirbelsäulengymnastik (W33548429) 
LOCATION:SC, Altes Schulhaus, Raum 13, Große Gasse 3, 71101 Schönaich
END:VEVENT
BEGIN:VEVENT
DTSTAMP:20260421T215753
DTSTART;TZID=Europe/Berlin:20261007T091000
DTEND;TZID=Europe/Berlin:20261007T101000
UID:W33548429-20261007T091000@VHSBÖBLINGEN-SINDELFINGEN
SUMMARY:Wirbelsäulengymnastik (W33548429) 
LOCATION:SC, Altes Schulhaus, Raum 13, Große Gasse 3, 71101 Schönaich
END:VEVENT
BEGIN:VEVENT
DTSTAMP:20260421T215753
DTSTART;TZID=Europe/Berlin:20261014T091000
DTEND;TZID=Europe/Berlin:20261014T101000
UID:W33548429-20261014T091000@VHSBÖBLINGEN-SINDELFINGEN
SUMMARY:Wirbelsäulengymnastik (W33548429) 
LOCATION:SC, Altes Schulhaus, Raum 13, Große Gasse 3, 71101 Schönaich
END:VEVENT
BEGIN:VEVENT
DTSTAMP:20260421T215753
DTSTART;TZID=Europe/Berlin:20261021T091000
DTEND;TZID=Europe/Berlin:20261021T101000
UID:W33548429-20261021T091000@VHSBÖBLINGEN-SINDELFINGEN
SUMMARY:Wirbelsäulengymnastik (W33548429) 
LOCATION:SC, Altes Schulhaus, Raum 13, Große Gasse 3, 71101 Schönaich
END:VEVENT
BEGIN:VEVENT
DTSTAMP:20260421T215753
DTSTART;TZID=Europe/Berlin:20261104T091000
DTEND;TZID=Europe/Berlin:20261104T101000
UID:W33548429-20261104T091000@VHSBÖBLINGEN-SINDELFINGEN
SUMMARY:Wirbelsäulengymnastik (W33548429) 
LOCATION:SC, Altes Schulhaus, Raum 13, Große Gasse 3, 71101 Schönaich
END:VEVENT
BEGIN:VEVENT
DTSTAMP:20260421T215753
DTSTART;TZID=Europe/Berlin:20261111T091000
DTEND;TZID=Europe/Berlin:20261111T101000
UID:W33548429-20261111T091000@VHSBÖBLINGEN-SINDELFINGEN
SUMMARY:Wirbelsäulengymnastik (W33548429) 
LOCATION:SC, Altes Schulhaus, Raum 13, Große Gasse 3, 71101 Schönaich
END:VEVENT
BEGIN:VEVENT
DTSTAMP:20260421T215753
DTSTART;TZID=Europe/Berlin:20261118T091000
DTEND;TZID=Europe/Berlin:20261118T101000
UID:W33548429-20261118T091000@VHSBÖBLINGEN-SINDELFINGEN
SUMMARY:Wirbelsäulengymnastik (W33548429) 
LOCATION:SC, Altes Schulhaus, Raum 13, Große Gasse 3, 71101 Schönaich
END:VEVENT
BEGIN:VEVENT
DTSTAMP:20260421T215753
DTSTART;TZID=Europe/Berlin:20261125T091000
DTEND;TZID=Europe/Berlin:20261125T101000
UID:W33548429-20261125T091000@VHSBÖBLINGEN-SINDELFINGEN
SUMMARY:Wirbelsäulengymnastik (W33548429) 
LOCATION:SC, Altes Schulhaus, Raum 13, Große Gasse 3, 71101 Schönaich
END:VEVENT
BEGIN:VEVENT
DTSTAMP:20260421T215753
DTSTART;TZID=Europe/Berlin:20261202T091000
DTEND;TZID=Europe/Berlin:20261202T101000
UID:W33548429-20261202T091000@VHSBÖBLINGEN-SINDELFINGEN
SUMMARY:Wirbelsäulengymnastik (W33548429) 
LOCATION:SC, Altes Schulhaus, Raum 13, Große Gasse 3, 71101 Schönaich
END:VEVENT
BEGIN:VEVENT
DTSTAMP:20260421T215753
DTSTART;TZID=Europe/Berlin:20261209T091000
DTEND;TZID=Europe/Berlin:20261209T101000
UID:W33548429-20261209T091000@VHSBÖBLINGEN-SINDELFINGEN
SUMMARY:Wirbelsäulengymnastik (W33548429) 
LOCATION:SC, Altes Schulhaus, Raum 13, Große Gasse 3, 71101 Schönaich
END:VEVENT
BEGIN:VEVENT
DTSTAMP:20260421T215753
DTSTART;TZID=Europe/Berlin:20261216T091000
DTEND;TZID=Europe/Berlin:20261216T101000
UID:W33548429-20261216T091000@VHSBÖBLINGEN-SINDELFINGEN
SUMMARY:Wirbelsäulengymnastik (W33548429) 
LOCATION:SC, Altes Schulhaus, Raum 13, Große Gasse 3, 71101 Schönaich
END:VEVENT
BEGIN:VEVENT
DTSTAMP:20260421T215753
DTSTART;TZID=Europe/Berlin:20270113T091000
DTEND;TZID=Europe/Berlin:20270113T101000
UID:W33548429-20270113T091000@VHSBÖBLINGEN-SINDELFINGEN
SUMMARY:Wirbelsäulengymnastik (W33548429) 
LOCATION:SC, Altes Schulhaus, Raum 13, Große Gasse 3, 71101 Schönaich
END:VEVENT
BEGIN:VEVENT
DTSTAMP:20260421T215753
DTSTART;TZID=Europe/Berlin:20270120T091000
DTEND;TZID=Europe/Berlin:20270120T101000
UID:W33548429-20270120T091000@VHSBÖBLINGEN-SINDELFINGEN
SUMMARY:Wirbelsäulengymnastik (W33548429) 
LOCATION:SC, Altes Schulhaus, Raum 13, Große Gasse 3, 71101 Schönaich
END:VEVENT
BEGIN:VEVENT
DTSTAMP:20260421T215753
DTSTART;TZID=Europe/Berlin:20270127T091000
DTEND;TZID=Europe/Berlin:20270127T101000
UID:W33548429-20270127T091000@VHSBÖBLINGEN-SINDELFINGEN
SUMMARY:Wirbelsäulengymnastik (W33548429) 
LOCATION:SC, Altes Schulhaus, Raum 13, Große Gasse 3, 71101 Schönaich
END:VEVENT
BEGIN:VEVENT
DTSTAMP:20260421T215753
DTSTART;TZID=Europe/Berlin:20270203T091000
DTEND;TZID=Europe/Berlin:20270203T101000
UID:W33548429-20270203T091000@VHSBÖBLINGEN-SINDELFINGEN
SUMMARY:Wirbelsäulengymnastik (W33548429) 
LOCATION:SC, Altes Schulhaus, Raum 13, Große Gasse 3, 71101 Schönaich
END:VEVENT
END:VCALENDAR