BEGIN:VCALENDAR
VERSION:2.0
PRODID:https://www.kufer.de/kuferweb / DE
METHOD:PUBLISH
CALSCALE:GREGORIAN
X-WR-TIMEZONE:Europe/Berlin
BEGIN:VTIMEZONE
TZID:Europe/Berlin
X-LIC-LOCATION:Europe/Berlin
BEGIN:DAYLIGHT
TZOFFSETFROM:+0100
TZOFFSETTO:+0200
TZNAME:CEST
DTSTART:19700329T020000
RRULE:FREQ=YEARLY;INTERVAL=1;BYDAY=-1SU;BYMONTH=3
END:DAYLIGHT
BEGIN:STANDARD
TZOFFSETFROM:+0200
TZOFFSETTO:+0100
TZNAME:CET
DTSTART:19701025T030000
RRULE:FREQ=YEARLY;INTERVAL=1;BYDAY=-1SU;BYMONTH=10
END:STANDARD
END:VTIMEZONE
BEGIN:VEVENT
DTSTAMP:20260420T225256
DTSTART;TZID=Europe/Berlin:20260922T174500
DTEND;TZID=Europe/Berlin:20260922T184500
UID:W33548421-20260922T174500@VHSBÖBLINGEN-SINDELFINGEN
SUMMARY:Wirbelsäulengymnastik (W33548421) 
LOCATION:HO, Grund- und Werkrealschule, Gymnastikpavillon, Berkenstr. 18, 71088 Holzgerlingen
END:VEVENT
BEGIN:VEVENT
DTSTAMP:20260420T225256
DTSTART;TZID=Europe/Berlin:20260929T174500
DTEND;TZID=Europe/Berlin:20260929T184500
UID:W33548421-20260929T174500@VHSBÖBLINGEN-SINDELFINGEN
SUMMARY:Wirbelsäulengymnastik (W33548421) 
LOCATION:HO, Grund- und Werkrealschule, Gymnastikpavillon, Berkenstr. 18, 71088 Holzgerlingen
END:VEVENT
BEGIN:VEVENT
DTSTAMP:20260420T225256
DTSTART;TZID=Europe/Berlin:20261006T174500
DTEND;TZID=Europe/Berlin:20261006T184500
UID:W33548421-20261006T174500@VHSBÖBLINGEN-SINDELFINGEN
SUMMARY:Wirbelsäulengymnastik (W33548421) 
LOCATION:HO, Grund- und Werkrealschule, Gymnastikpavillon, Berkenstr. 18, 71088 Holzgerlingen
END:VEVENT
BEGIN:VEVENT
DTSTAMP:20260420T225256
DTSTART;TZID=Europe/Berlin:20261013T174500
DTEND;TZID=Europe/Berlin:20261013T184500
UID:W33548421-20261013T174500@VHSBÖBLINGEN-SINDELFINGEN
SUMMARY:Wirbelsäulengymnastik (W33548421) 
LOCATION:HO, Grund- und Werkrealschule, Gymnastikpavillon, Berkenstr. 18, 71088 Holzgerlingen
END:VEVENT
BEGIN:VEVENT
DTSTAMP:20260420T225256
DTSTART;TZID=Europe/Berlin:20261020T174500
DTEND;TZID=Europe/Berlin:20261020T184500
UID:W33548421-20261020T174500@VHSBÖBLINGEN-SINDELFINGEN
SUMMARY:Wirbelsäulengymnastik (W33548421) 
LOCATION:HO, Grund- und Werkrealschule, Gymnastikpavillon, Berkenstr. 18, 71088 Holzgerlingen
END:VEVENT
BEGIN:VEVENT
DTSTAMP:20260420T225256
DTSTART;TZID=Europe/Berlin:20261103T174500
DTEND;TZID=Europe/Berlin:20261103T184500
UID:W33548421-20261103T174500@VHSBÖBLINGEN-SINDELFINGEN
SUMMARY:Wirbelsäulengymnastik (W33548421) 
LOCATION:HO, Grund- und Werkrealschule, Gymnastikpavillon, Berkenstr. 18, 71088 Holzgerlingen
END:VEVENT
BEGIN:VEVENT
DTSTAMP:20260420T225256
DTSTART;TZID=Europe/Berlin:20261110T174500
DTEND;TZID=Europe/Berlin:20261110T184500
UID:W33548421-20261110T174500@VHSBÖBLINGEN-SINDELFINGEN
SUMMARY:Wirbelsäulengymnastik (W33548421) 
LOCATION:HO, Grund- und Werkrealschule, Gymnastikpavillon, Berkenstr. 18, 71088 Holzgerlingen
END:VEVENT
BEGIN:VEVENT
DTSTAMP:20260420T225256
DTSTART;TZID=Europe/Berlin:20261117T174500
DTEND;TZID=Europe/Berlin:20261117T184500
UID:W33548421-20261117T174500@VHSBÖBLINGEN-SINDELFINGEN
SUMMARY:Wirbelsäulengymnastik (W33548421) 
LOCATION:HO, Grund- und Werkrealschule, Gymnastikpavillon, Berkenstr. 18, 71088 Holzgerlingen
END:VEVENT
BEGIN:VEVENT
DTSTAMP:20260420T225256
DTSTART;TZID=Europe/Berlin:20261124T174500
DTEND;TZID=Europe/Berlin:20261124T184500
UID:W33548421-20261124T174500@VHSBÖBLINGEN-SINDELFINGEN
SUMMARY:Wirbelsäulengymnastik (W33548421) 
LOCATION:HO, Grund- und Werkrealschule, Gymnastikpavillon, Berkenstr. 18, 71088 Holzgerlingen
END:VEVENT
BEGIN:VEVENT
DTSTAMP:20260420T225256
DTSTART;TZID=Europe/Berlin:20261201T174500
DTEND;TZID=Europe/Berlin:20261201T184500
UID:W33548421-20261201T174500@VHSBÖBLINGEN-SINDELFINGEN
SUMMARY:Wirbelsäulengymnastik (W33548421) 
LOCATION:HO, Grund- und Werkrealschule, Gymnastikpavillon, Berkenstr. 18, 71088 Holzgerlingen
END:VEVENT
BEGIN:VEVENT
DTSTAMP:20260420T225256
DTSTART;TZID=Europe/Berlin:20261208T174500
DTEND;TZID=Europe/Berlin:20261208T184500
UID:W33548421-20261208T174500@VHSBÖBLINGEN-SINDELFINGEN
SUMMARY:Wirbelsäulengymnastik (W33548421) 
LOCATION:HO, Grund- und Werkrealschule, Gymnastikpavillon, Berkenstr. 18, 71088 Holzgerlingen
END:VEVENT
BEGIN:VEVENT
DTSTAMP:20260420T225256
DTSTART;TZID=Europe/Berlin:20261215T174500
DTEND;TZID=Europe/Berlin:20261215T184500
UID:W33548421-20261215T174500@VHSBÖBLINGEN-SINDELFINGEN
SUMMARY:Wirbelsäulengymnastik (W33548421) 
LOCATION:HO, Grund- und Werkrealschule, Gymnastikpavillon, Berkenstr. 18, 71088 Holzgerlingen
END:VEVENT
BEGIN:VEVENT
DTSTAMP:20260420T225256
DTSTART;TZID=Europe/Berlin:20270119T174500
DTEND;TZID=Europe/Berlin:20270119T184500
UID:W33548421-20270119T174500@VHSBÖBLINGEN-SINDELFINGEN
SUMMARY:Wirbelsäulengymnastik (W33548421) 
LOCATION:HO, Grund- und Werkrealschule, Gymnastikpavillon, Berkenstr. 18, 71088 Holzgerlingen
END:VEVENT
BEGIN:VEVENT
DTSTAMP:20260420T225256
DTSTART;TZID=Europe/Berlin:20270126T174500
DTEND;TZID=Europe/Berlin:20270126T184500
UID:W33548421-20270126T174500@VHSBÖBLINGEN-SINDELFINGEN
SUMMARY:Wirbelsäulengymnastik (W33548421) 
LOCATION:HO, Grund- und Werkrealschule, Gymnastikpavillon, Berkenstr. 18, 71088 Holzgerlingen
END:VEVENT
BEGIN:VEVENT
DTSTAMP:20260420T225256
DTSTART;TZID=Europe/Berlin:20270202T174500
DTEND;TZID=Europe/Berlin:20270202T184500
UID:W33548421-20270202T174500@VHSBÖBLINGEN-SINDELFINGEN
SUMMARY:Wirbelsäulengymnastik (W33548421) 
LOCATION:HO, Grund- und Werkrealschule, Gymnastikpavillon, Berkenstr. 18, 71088 Holzgerlingen
END:VEVENT
END:VCALENDAR