BEGIN:VCALENDAR
VERSION:2.0
PRODID:https://www.kufer.de/kuferweb / DE
METHOD:PUBLISH
CALSCALE:GREGORIAN
X-WR-TIMEZONE:Europe/Berlin
BEGIN:VTIMEZONE
TZID:Europe/Berlin
X-LIC-LOCATION:Europe/Berlin
BEGIN:DAYLIGHT
TZOFFSETFROM:+0100
TZOFFSETTO:+0200
TZNAME:CEST
DTSTART:19700329T020000
RRULE:FREQ=YEARLY;INTERVAL=1;BYDAY=-1SU;BYMONTH=3
END:DAYLIGHT
BEGIN:STANDARD
TZOFFSETFROM:+0200
TZOFFSETTO:+0100
TZNAME:CET
DTSTART:19701025T030000
RRULE:FREQ=YEARLY;INTERVAL=1;BYDAY=-1SU;BYMONTH=10
END:STANDARD
END:VTIMEZONE
BEGIN:VEVENT
DTSTAMP:20260421T101923
DTSTART;TZID=Europe/Berlin:20260921T194000
DTEND;TZID=Europe/Berlin:20260921T204000
UID:W33545021-20260921T194000@VHSBÖBLINGEN-SINDELFINGEN
SUMMARY:Rückhalt - das umfassende Rückenprogramm (W33545021) 
LOCATION:HO, Rektor-Franke-Haus, Saal, Böblinger Str. 28, 71088 Holzgerlingen
END:VEVENT
BEGIN:VEVENT
DTSTAMP:20260421T101923
DTSTART;TZID=Europe/Berlin:20260928T194000
DTEND;TZID=Europe/Berlin:20260928T204000
UID:W33545021-20260928T194000@VHSBÖBLINGEN-SINDELFINGEN
SUMMARY:Rückhalt - das umfassende Rückenprogramm (W33545021) 
LOCATION:HO, Rektor-Franke-Haus, Saal, Böblinger Str. 28, 71088 Holzgerlingen
END:VEVENT
BEGIN:VEVENT
DTSTAMP:20260421T101923
DTSTART;TZID=Europe/Berlin:20261005T194000
DTEND;TZID=Europe/Berlin:20261005T204000
UID:W33545021-20261005T194000@VHSBÖBLINGEN-SINDELFINGEN
SUMMARY:Rückhalt - das umfassende Rückenprogramm (W33545021) 
LOCATION:HO, Rektor-Franke-Haus, Saal, Böblinger Str. 28, 71088 Holzgerlingen
END:VEVENT
BEGIN:VEVENT
DTSTAMP:20260421T101923
DTSTART;TZID=Europe/Berlin:20261012T194000
DTEND;TZID=Europe/Berlin:20261012T204000
UID:W33545021-20261012T194000@VHSBÖBLINGEN-SINDELFINGEN
SUMMARY:Rückhalt - das umfassende Rückenprogramm (W33545021) 
LOCATION:HO, Rektor-Franke-Haus, Saal, Böblinger Str. 28, 71088 Holzgerlingen
END:VEVENT
BEGIN:VEVENT
DTSTAMP:20260421T101923
DTSTART;TZID=Europe/Berlin:20261019T194000
DTEND;TZID=Europe/Berlin:20261019T204000
UID:W33545021-20261019T194000@VHSBÖBLINGEN-SINDELFINGEN
SUMMARY:Rückhalt - das umfassende Rückenprogramm (W33545021) 
LOCATION:HO, Rektor-Franke-Haus, Saal, Böblinger Str. 28, 71088 Holzgerlingen
END:VEVENT
BEGIN:VEVENT
DTSTAMP:20260421T101923
DTSTART;TZID=Europe/Berlin:20261102T194000
DTEND;TZID=Europe/Berlin:20261102T204000
UID:W33545021-20261102T194000@VHSBÖBLINGEN-SINDELFINGEN
SUMMARY:Rückhalt - das umfassende Rückenprogramm (W33545021) 
LOCATION:HO, Rektor-Franke-Haus, Saal, Böblinger Str. 28, 71088 Holzgerlingen
END:VEVENT
BEGIN:VEVENT
DTSTAMP:20260421T101923
DTSTART;TZID=Europe/Berlin:20261109T194000
DTEND;TZID=Europe/Berlin:20261109T204000
UID:W33545021-20261109T194000@VHSBÖBLINGEN-SINDELFINGEN
SUMMARY:Rückhalt - das umfassende Rückenprogramm (W33545021) 
LOCATION:HO, Rektor-Franke-Haus, Saal, Böblinger Str. 28, 71088 Holzgerlingen
END:VEVENT
BEGIN:VEVENT
DTSTAMP:20260421T101923
DTSTART;TZID=Europe/Berlin:20261116T194000
DTEND;TZID=Europe/Berlin:20261116T204000
UID:W33545021-20261116T194000@VHSBÖBLINGEN-SINDELFINGEN
SUMMARY:Rückhalt - das umfassende Rückenprogramm (W33545021) 
LOCATION:HO, Rektor-Franke-Haus, Saal, Böblinger Str. 28, 71088 Holzgerlingen
END:VEVENT
BEGIN:VEVENT
DTSTAMP:20260421T101923
DTSTART;TZID=Europe/Berlin:20261123T194000
DTEND;TZID=Europe/Berlin:20261123T204000
UID:W33545021-20261123T194000@VHSBÖBLINGEN-SINDELFINGEN
SUMMARY:Rückhalt - das umfassende Rückenprogramm (W33545021) 
LOCATION:HO, Rektor-Franke-Haus, Saal, Böblinger Str. 28, 71088 Holzgerlingen
END:VEVENT
BEGIN:VEVENT
DTSTAMP:20260421T101923
DTSTART;TZID=Europe/Berlin:20261130T194000
DTEND;TZID=Europe/Berlin:20261130T204000
UID:W33545021-20261130T194000@VHSBÖBLINGEN-SINDELFINGEN
SUMMARY:Rückhalt - das umfassende Rückenprogramm (W33545021) 
LOCATION:HO, Rektor-Franke-Haus, Saal, Böblinger Str. 28, 71088 Holzgerlingen
END:VEVENT
BEGIN:VEVENT
DTSTAMP:20260421T101923
DTSTART;TZID=Europe/Berlin:20261207T194000
DTEND;TZID=Europe/Berlin:20261207T204000
UID:W33545021-20261207T194000@VHSBÖBLINGEN-SINDELFINGEN
SUMMARY:Rückhalt - das umfassende Rückenprogramm (W33545021) 
LOCATION:HO, Rektor-Franke-Haus, Saal, Böblinger Str. 28, 71088 Holzgerlingen
END:VEVENT
BEGIN:VEVENT
DTSTAMP:20260421T101923
DTSTART;TZID=Europe/Berlin:20261214T194000
DTEND;TZID=Europe/Berlin:20261214T204000
UID:W33545021-20261214T194000@VHSBÖBLINGEN-SINDELFINGEN
SUMMARY:Rückhalt - das umfassende Rückenprogramm (W33545021) 
LOCATION:HO, Rektor-Franke-Haus, Saal, Böblinger Str. 28, 71088 Holzgerlingen
END:VEVENT
BEGIN:VEVENT
DTSTAMP:20260421T101923
DTSTART;TZID=Europe/Berlin:20261221T194000
DTEND;TZID=Europe/Berlin:20261221T204000
UID:W33545021-20261221T194000@VHSBÖBLINGEN-SINDELFINGEN
SUMMARY:Rückhalt - das umfassende Rückenprogramm (W33545021) 
LOCATION:HO, Rektor-Franke-Haus, Saal, Böblinger Str. 28, 71088 Holzgerlingen
END:VEVENT
BEGIN:VEVENT
DTSTAMP:20260421T101923
DTSTART;TZID=Europe/Berlin:20270111T194000
DTEND;TZID=Europe/Berlin:20270111T204000
UID:W33545021-20270111T194000@VHSBÖBLINGEN-SINDELFINGEN
SUMMARY:Rückhalt - das umfassende Rückenprogramm (W33545021) 
LOCATION:HO, Rektor-Franke-Haus, Saal, Böblinger Str. 28, 71088 Holzgerlingen
END:VEVENT
BEGIN:VEVENT
DTSTAMP:20260421T101923
DTSTART;TZID=Europe/Berlin:20270118T194000
DTEND;TZID=Europe/Berlin:20270118T204000
UID:W33545021-20270118T194000@VHSBÖBLINGEN-SINDELFINGEN
SUMMARY:Rückhalt - das umfassende Rückenprogramm (W33545021) 
LOCATION:HO, Rektor-Franke-Haus, Saal, Böblinger Str. 28, 71088 Holzgerlingen
END:VEVENT
BEGIN:VEVENT
DTSTAMP:20260421T101923
DTSTART;TZID=Europe/Berlin:20270125T194000
DTEND;TZID=Europe/Berlin:20270125T204000
UID:W33545021-20270125T194000@VHSBÖBLINGEN-SINDELFINGEN
SUMMARY:Rückhalt - das umfassende Rückenprogramm (W33545021) 
LOCATION:HO, Rektor-Franke-Haus, Saal, Böblinger Str. 28, 71088 Holzgerlingen
END:VEVENT
BEGIN:VEVENT
DTSTAMP:20260421T101923
DTSTART;TZID=Europe/Berlin:20270201T194000
DTEND;TZID=Europe/Berlin:20270201T204000
UID:W33545021-20270201T194000@VHSBÖBLINGEN-SINDELFINGEN
SUMMARY:Rückhalt - das umfassende Rückenprogramm (W33545021) 
LOCATION:HO, Rektor-Franke-Haus, Saal, Böblinger Str. 28, 71088 Holzgerlingen
END:VEVENT
END:VCALENDAR