BEGIN:VCALENDAR
VERSION:2.0
PRODID:https://www.kufer.de/kuferweb / DE
METHOD:PUBLISH
CALSCALE:GREGORIAN
X-WR-TIMEZONE:Europe/Berlin
BEGIN:VTIMEZONE
TZID:Europe/Berlin
X-LIC-LOCATION:Europe/Berlin
BEGIN:DAYLIGHT
TZOFFSETFROM:+0100
TZOFFSETTO:+0200
TZNAME:CEST
DTSTART:19700329T020000
RRULE:FREQ=YEARLY;INTERVAL=1;BYDAY=-1SU;BYMONTH=3
END:DAYLIGHT
BEGIN:STANDARD
TZOFFSETFROM:+0200
TZOFFSETTO:+0100
TZNAME:CET
DTSTART:19701025T030000
RRULE:FREQ=YEARLY;INTERVAL=1;BYDAY=-1SU;BYMONTH=10
END:STANDARD
END:VTIMEZONE
BEGIN:VEVENT
DTSTAMP:20260421T134600
DTSTART;TZID=Europe/Berlin:20260916T181500
DTEND;TZID=Europe/Berlin:20260916T191500
UID:W33544712-20260916T181500@VHSBÖBLINGEN-SINDELFINGEN
SUMMARY:Rückhalt - das umfassende Rückenprogramm (W33544712) 
LOCATION:AL, Peter-Creuzberger-Halle, Mehrzweckraum, Im Furtweg 24, 71155 Altdorf
END:VEVENT
BEGIN:VEVENT
DTSTAMP:20260421T134600
DTSTART;TZID=Europe/Berlin:20260923T181500
DTEND;TZID=Europe/Berlin:20260923T191500
UID:W33544712-20260923T181500@VHSBÖBLINGEN-SINDELFINGEN
SUMMARY:Rückhalt - das umfassende Rückenprogramm (W33544712) 
LOCATION:AL, Peter-Creuzberger-Halle, Mehrzweckraum, Im Furtweg 24, 71155 Altdorf
END:VEVENT
BEGIN:VEVENT
DTSTAMP:20260421T134600
DTSTART;TZID=Europe/Berlin:20260930T181500
DTEND;TZID=Europe/Berlin:20260930T191500
UID:W33544712-20260930T181500@VHSBÖBLINGEN-SINDELFINGEN
SUMMARY:Rückhalt - das umfassende Rückenprogramm (W33544712) 
LOCATION:AL, Peter-Creuzberger-Halle, Mehrzweckraum, Im Furtweg 24, 71155 Altdorf
END:VEVENT
BEGIN:VEVENT
DTSTAMP:20260421T134600
DTSTART;TZID=Europe/Berlin:20261007T181500
DTEND;TZID=Europe/Berlin:20261007T191500
UID:W33544712-20261007T181500@VHSBÖBLINGEN-SINDELFINGEN
SUMMARY:Rückhalt - das umfassende Rückenprogramm (W33544712) 
LOCATION:AL, Peter-Creuzberger-Halle, Mehrzweckraum, Im Furtweg 24, 71155 Altdorf
END:VEVENT
BEGIN:VEVENT
DTSTAMP:20260421T134600
DTSTART;TZID=Europe/Berlin:20261014T181500
DTEND;TZID=Europe/Berlin:20261014T191500
UID:W33544712-20261014T181500@VHSBÖBLINGEN-SINDELFINGEN
SUMMARY:Rückhalt - das umfassende Rückenprogramm (W33544712) 
LOCATION:AL, Peter-Creuzberger-Halle, Mehrzweckraum, Im Furtweg 24, 71155 Altdorf
END:VEVENT
BEGIN:VEVENT
DTSTAMP:20260421T134600
DTSTART;TZID=Europe/Berlin:20261021T181500
DTEND;TZID=Europe/Berlin:20261021T191500
UID:W33544712-20261021T181500@VHSBÖBLINGEN-SINDELFINGEN
SUMMARY:Rückhalt - das umfassende Rückenprogramm (W33544712) 
LOCATION:AL, Peter-Creuzberger-Halle, Mehrzweckraum, Im Furtweg 24, 71155 Altdorf
END:VEVENT
BEGIN:VEVENT
DTSTAMP:20260421T134600
DTSTART;TZID=Europe/Berlin:20261104T181500
DTEND;TZID=Europe/Berlin:20261104T191500
UID:W33544712-20261104T181500@VHSBÖBLINGEN-SINDELFINGEN
SUMMARY:Rückhalt - das umfassende Rückenprogramm (W33544712) 
LOCATION:AL, Peter-Creuzberger-Halle, Mehrzweckraum, Im Furtweg 24, 71155 Altdorf
END:VEVENT
BEGIN:VEVENT
DTSTAMP:20260421T134600
DTSTART;TZID=Europe/Berlin:20261111T181500
DTEND;TZID=Europe/Berlin:20261111T191500
UID:W33544712-20261111T181500@VHSBÖBLINGEN-SINDELFINGEN
SUMMARY:Rückhalt - das umfassende Rückenprogramm (W33544712) 
LOCATION:AL, Peter-Creuzberger-Halle, Mehrzweckraum, Im Furtweg 24, 71155 Altdorf
END:VEVENT
BEGIN:VEVENT
DTSTAMP:20260421T134600
DTSTART;TZID=Europe/Berlin:20261118T181500
DTEND;TZID=Europe/Berlin:20261118T191500
UID:W33544712-20261118T181500@VHSBÖBLINGEN-SINDELFINGEN
SUMMARY:Rückhalt - das umfassende Rückenprogramm (W33544712) 
LOCATION:AL, Peter-Creuzberger-Halle, Mehrzweckraum, Im Furtweg 24, 71155 Altdorf
END:VEVENT
BEGIN:VEVENT
DTSTAMP:20260421T134600
DTSTART;TZID=Europe/Berlin:20261125T181500
DTEND;TZID=Europe/Berlin:20261125T191500
UID:W33544712-20261125T181500@VHSBÖBLINGEN-SINDELFINGEN
SUMMARY:Rückhalt - das umfassende Rückenprogramm (W33544712) 
LOCATION:AL, Peter-Creuzberger-Halle, Mehrzweckraum, Im Furtweg 24, 71155 Altdorf
END:VEVENT
BEGIN:VEVENT
DTSTAMP:20260421T134600
DTSTART;TZID=Europe/Berlin:20261202T181500
DTEND;TZID=Europe/Berlin:20261202T191500
UID:W33544712-20261202T181500@VHSBÖBLINGEN-SINDELFINGEN
SUMMARY:Rückhalt - das umfassende Rückenprogramm (W33544712) 
LOCATION:AL, Peter-Creuzberger-Halle, Mehrzweckraum, Im Furtweg 24, 71155 Altdorf
END:VEVENT
BEGIN:VEVENT
DTSTAMP:20260421T134600
DTSTART;TZID=Europe/Berlin:20261209T181500
DTEND;TZID=Europe/Berlin:20261209T191500
UID:W33544712-20261209T181500@VHSBÖBLINGEN-SINDELFINGEN
SUMMARY:Rückhalt - das umfassende Rückenprogramm (W33544712) 
LOCATION:AL, Peter-Creuzberger-Halle, Mehrzweckraum, Im Furtweg 24, 71155 Altdorf
END:VEVENT
BEGIN:VEVENT
DTSTAMP:20260421T134600
DTSTART;TZID=Europe/Berlin:20261216T181500
DTEND;TZID=Europe/Berlin:20261216T191500
UID:W33544712-20261216T181500@VHSBÖBLINGEN-SINDELFINGEN
SUMMARY:Rückhalt - das umfassende Rückenprogramm (W33544712) 
LOCATION:AL, Peter-Creuzberger-Halle, Mehrzweckraum, Im Furtweg 24, 71155 Altdorf
END:VEVENT
BEGIN:VEVENT
DTSTAMP:20260421T134600
DTSTART;TZID=Europe/Berlin:20270113T181500
DTEND;TZID=Europe/Berlin:20270113T191500
UID:W33544712-20270113T181500@VHSBÖBLINGEN-SINDELFINGEN
SUMMARY:Rückhalt - das umfassende Rückenprogramm (W33544712) 
LOCATION:AL, Peter-Creuzberger-Halle, Mehrzweckraum, Im Furtweg 24, 71155 Altdorf
END:VEVENT
BEGIN:VEVENT
DTSTAMP:20260421T134600
DTSTART;TZID=Europe/Berlin:20270120T181500
DTEND;TZID=Europe/Berlin:20270120T191500
UID:W33544712-20270120T181500@VHSBÖBLINGEN-SINDELFINGEN
SUMMARY:Rückhalt - das umfassende Rückenprogramm (W33544712) 
LOCATION:AL, Peter-Creuzberger-Halle, Mehrzweckraum, Im Furtweg 24, 71155 Altdorf
END:VEVENT
BEGIN:VEVENT
DTSTAMP:20260421T134600
DTSTART;TZID=Europe/Berlin:20270127T181500
DTEND;TZID=Europe/Berlin:20270127T191500
UID:W33544712-20270127T181500@VHSBÖBLINGEN-SINDELFINGEN
SUMMARY:Rückhalt - das umfassende Rückenprogramm (W33544712) 
LOCATION:AL, Peter-Creuzberger-Halle, Mehrzweckraum, Im Furtweg 24, 71155 Altdorf
END:VEVENT
BEGIN:VEVENT
DTSTAMP:20260421T134600
DTSTART;TZID=Europe/Berlin:20270203T181500
DTEND;TZID=Europe/Berlin:20270203T191500
UID:W33544712-20270203T181500@VHSBÖBLINGEN-SINDELFINGEN
SUMMARY:Rückhalt - das umfassende Rückenprogramm (W33544712) 
LOCATION:AL, Peter-Creuzberger-Halle, Mehrzweckraum, Im Furtweg 24, 71155 Altdorf
END:VEVENT
END:VCALENDAR