BEGIN:VCALENDAR
VERSION:2.0
PRODID:https://www.kufer.de/kuferweb / DE
METHOD:PUBLISH
CALSCALE:GREGORIAN
X-WR-TIMEZONE:Europe/Berlin
BEGIN:VTIMEZONE
TZID:Europe/Berlin
X-LIC-LOCATION:Europe/Berlin
BEGIN:DAYLIGHT
TZOFFSETFROM:+0100
TZOFFSETTO:+0200
TZNAME:CEST
DTSTART:19700329T020000
RRULE:FREQ=YEARLY;INTERVAL=1;BYDAY=-1SU;BYMONTH=3
END:DAYLIGHT
BEGIN:STANDARD
TZOFFSETFROM:+0200
TZOFFSETTO:+0100
TZNAME:CET
DTSTART:19701025T030000
RRULE:FREQ=YEARLY;INTERVAL=1;BYDAY=-1SU;BYMONTH=10
END:STANDARD
END:VTIMEZONE
BEGIN:VEVENT
DTSTAMP:20260420T182125
DTSTART;TZID=Europe/Berlin:20260916T171500
DTEND;TZID=Europe/Berlin:20260916T181500
UID:W33544612-20260916T171500@VHSBÖBLINGEN-SINDELFINGEN
SUMMARY:Rückhalt - das umfassende Rückenprogramm (W33544612) 
LOCATION:AL, Peter-Creuzberger-Halle, Mehrzweckraum, Im Furtweg 24, 71155 Altdorf
END:VEVENT
BEGIN:VEVENT
DTSTAMP:20260420T182125
DTSTART;TZID=Europe/Berlin:20260923T171500
DTEND;TZID=Europe/Berlin:20260923T181500
UID:W33544612-20260923T171500@VHSBÖBLINGEN-SINDELFINGEN
SUMMARY:Rückhalt - das umfassende Rückenprogramm (W33544612) 
LOCATION:AL, Peter-Creuzberger-Halle, Mehrzweckraum, Im Furtweg 24, 71155 Altdorf
END:VEVENT
BEGIN:VEVENT
DTSTAMP:20260420T182125
DTSTART;TZID=Europe/Berlin:20260930T171500
DTEND;TZID=Europe/Berlin:20260930T181500
UID:W33544612-20260930T171500@VHSBÖBLINGEN-SINDELFINGEN
SUMMARY:Rückhalt - das umfassende Rückenprogramm (W33544612) 
LOCATION:AL, Peter-Creuzberger-Halle, Mehrzweckraum, Im Furtweg 24, 71155 Altdorf
END:VEVENT
BEGIN:VEVENT
DTSTAMP:20260420T182125
DTSTART;TZID=Europe/Berlin:20261007T171500
DTEND;TZID=Europe/Berlin:20261007T181500
UID:W33544612-20261007T171500@VHSBÖBLINGEN-SINDELFINGEN
SUMMARY:Rückhalt - das umfassende Rückenprogramm (W33544612) 
LOCATION:AL, Peter-Creuzberger-Halle, Mehrzweckraum, Im Furtweg 24, 71155 Altdorf
END:VEVENT
BEGIN:VEVENT
DTSTAMP:20260420T182125
DTSTART;TZID=Europe/Berlin:20261014T171500
DTEND;TZID=Europe/Berlin:20261014T181500
UID:W33544612-20261014T171500@VHSBÖBLINGEN-SINDELFINGEN
SUMMARY:Rückhalt - das umfassende Rückenprogramm (W33544612) 
LOCATION:AL, Peter-Creuzberger-Halle, Mehrzweckraum, Im Furtweg 24, 71155 Altdorf
END:VEVENT
BEGIN:VEVENT
DTSTAMP:20260420T182125
DTSTART;TZID=Europe/Berlin:20261021T171500
DTEND;TZID=Europe/Berlin:20261021T181500
UID:W33544612-20261021T171500@VHSBÖBLINGEN-SINDELFINGEN
SUMMARY:Rückhalt - das umfassende Rückenprogramm (W33544612) 
LOCATION:AL, Peter-Creuzberger-Halle, Mehrzweckraum, Im Furtweg 24, 71155 Altdorf
END:VEVENT
BEGIN:VEVENT
DTSTAMP:20260420T182125
DTSTART;TZID=Europe/Berlin:20261104T171500
DTEND;TZID=Europe/Berlin:20261104T181500
UID:W33544612-20261104T171500@VHSBÖBLINGEN-SINDELFINGEN
SUMMARY:Rückhalt - das umfassende Rückenprogramm (W33544612) 
LOCATION:AL, Peter-Creuzberger-Halle, Mehrzweckraum, Im Furtweg 24, 71155 Altdorf
END:VEVENT
BEGIN:VEVENT
DTSTAMP:20260420T182125
DTSTART;TZID=Europe/Berlin:20261111T171500
DTEND;TZID=Europe/Berlin:20261111T181500
UID:W33544612-20261111T171500@VHSBÖBLINGEN-SINDELFINGEN
SUMMARY:Rückhalt - das umfassende Rückenprogramm (W33544612) 
LOCATION:AL, Peter-Creuzberger-Halle, Mehrzweckraum, Im Furtweg 24, 71155 Altdorf
END:VEVENT
BEGIN:VEVENT
DTSTAMP:20260420T182125
DTSTART;TZID=Europe/Berlin:20261118T171500
DTEND;TZID=Europe/Berlin:20261118T181500
UID:W33544612-20261118T171500@VHSBÖBLINGEN-SINDELFINGEN
SUMMARY:Rückhalt - das umfassende Rückenprogramm (W33544612) 
LOCATION:AL, Peter-Creuzberger-Halle, Mehrzweckraum, Im Furtweg 24, 71155 Altdorf
END:VEVENT
BEGIN:VEVENT
DTSTAMP:20260420T182125
DTSTART;TZID=Europe/Berlin:20261125T171500
DTEND;TZID=Europe/Berlin:20261125T181500
UID:W33544612-20261125T171500@VHSBÖBLINGEN-SINDELFINGEN
SUMMARY:Rückhalt - das umfassende Rückenprogramm (W33544612) 
LOCATION:AL, Peter-Creuzberger-Halle, Mehrzweckraum, Im Furtweg 24, 71155 Altdorf
END:VEVENT
BEGIN:VEVENT
DTSTAMP:20260420T182125
DTSTART;TZID=Europe/Berlin:20261202T171500
DTEND;TZID=Europe/Berlin:20261202T181500
UID:W33544612-20261202T171500@VHSBÖBLINGEN-SINDELFINGEN
SUMMARY:Rückhalt - das umfassende Rückenprogramm (W33544612) 
LOCATION:AL, Peter-Creuzberger-Halle, Mehrzweckraum, Im Furtweg 24, 71155 Altdorf
END:VEVENT
BEGIN:VEVENT
DTSTAMP:20260420T182125
DTSTART;TZID=Europe/Berlin:20261209T171500
DTEND;TZID=Europe/Berlin:20261209T181500
UID:W33544612-20261209T171500@VHSBÖBLINGEN-SINDELFINGEN
SUMMARY:Rückhalt - das umfassende Rückenprogramm (W33544612) 
LOCATION:AL, Peter-Creuzberger-Halle, Mehrzweckraum, Im Furtweg 24, 71155 Altdorf
END:VEVENT
BEGIN:VEVENT
DTSTAMP:20260420T182125
DTSTART;TZID=Europe/Berlin:20261216T171500
DTEND;TZID=Europe/Berlin:20261216T181500
UID:W33544612-20261216T171500@VHSBÖBLINGEN-SINDELFINGEN
SUMMARY:Rückhalt - das umfassende Rückenprogramm (W33544612) 
LOCATION:AL, Peter-Creuzberger-Halle, Mehrzweckraum, Im Furtweg 24, 71155 Altdorf
END:VEVENT
BEGIN:VEVENT
DTSTAMP:20260420T182125
DTSTART;TZID=Europe/Berlin:20270113T171500
DTEND;TZID=Europe/Berlin:20270113T181500
UID:W33544612-20270113T171500@VHSBÖBLINGEN-SINDELFINGEN
SUMMARY:Rückhalt - das umfassende Rückenprogramm (W33544612) 
LOCATION:AL, Peter-Creuzberger-Halle, Mehrzweckraum, Im Furtweg 24, 71155 Altdorf
END:VEVENT
BEGIN:VEVENT
DTSTAMP:20260420T182125
DTSTART;TZID=Europe/Berlin:20270120T171500
DTEND;TZID=Europe/Berlin:20270120T181500
UID:W33544612-20270120T171500@VHSBÖBLINGEN-SINDELFINGEN
SUMMARY:Rückhalt - das umfassende Rückenprogramm (W33544612) 
LOCATION:AL, Peter-Creuzberger-Halle, Mehrzweckraum, Im Furtweg 24, 71155 Altdorf
END:VEVENT
BEGIN:VEVENT
DTSTAMP:20260420T182125
DTSTART;TZID=Europe/Berlin:20270127T171500
DTEND;TZID=Europe/Berlin:20270127T181500
UID:W33544612-20270127T171500@VHSBÖBLINGEN-SINDELFINGEN
SUMMARY:Rückhalt - das umfassende Rückenprogramm (W33544612) 
LOCATION:AL, Peter-Creuzberger-Halle, Mehrzweckraum, Im Furtweg 24, 71155 Altdorf
END:VEVENT
BEGIN:VEVENT
DTSTAMP:20260420T182125
DTSTART;TZID=Europe/Berlin:20270203T171500
DTEND;TZID=Europe/Berlin:20270203T181500
UID:W33544612-20270203T171500@VHSBÖBLINGEN-SINDELFINGEN
SUMMARY:Rückhalt - das umfassende Rückenprogramm (W33544612) 
LOCATION:AL, Peter-Creuzberger-Halle, Mehrzweckraum, Im Furtweg 24, 71155 Altdorf
END:VEVENT
END:VCALENDAR