BEGIN:VCALENDAR
VERSION:2.0
PRODID:https://www.kufer.de/kuferweb / DE
METHOD:PUBLISH
CALSCALE:GREGORIAN
X-WR-TIMEZONE:Europe/Berlin
BEGIN:VTIMEZONE
TZID:Europe/Berlin
X-LIC-LOCATION:Europe/Berlin
BEGIN:DAYLIGHT
TZOFFSETFROM:+0100
TZOFFSETTO:+0200
TZNAME:CEST
DTSTART:19700329T020000
RRULE:FREQ=YEARLY;INTERVAL=1;BYDAY=-1SU;BYMONTH=3
END:DAYLIGHT
BEGIN:STANDARD
TZOFFSETFROM:+0200
TZOFFSETTO:+0100
TZNAME:CET
DTSTART:19701025T030000
RRULE:FREQ=YEARLY;INTERVAL=1;BYDAY=-1SU;BYMONTH=10
END:STANDARD
END:VTIMEZONE
BEGIN:VEVENT
DTSTAMP:20260421T171458
DTSTART;TZID=Europe/Berlin:20260930T100000
DTEND;TZID=Europe/Berlin:20260930T110000
UID:W33544112-20260930T100000@VHSBÖBLINGEN-SINDELFINGEN
SUMMARY:Rückhalt - das umfassende Rückenprogramm (W33544112) 
LOCATION:AL, Peter-Creuzberger-Halle, Mehrzweckraum, Im Furtweg 24, 71155 Altdorf
END:VEVENT
BEGIN:VEVENT
DTSTAMP:20260421T171458
DTSTART;TZID=Europe/Berlin:20261007T100000
DTEND;TZID=Europe/Berlin:20261007T110000
UID:W33544112-20261007T100000@VHSBÖBLINGEN-SINDELFINGEN
SUMMARY:Rückhalt - das umfassende Rückenprogramm (W33544112) 
LOCATION:AL, Peter-Creuzberger-Halle, Mehrzweckraum, Im Furtweg 24, 71155 Altdorf
END:VEVENT
BEGIN:VEVENT
DTSTAMP:20260421T171458
DTSTART;TZID=Europe/Berlin:20261014T100000
DTEND;TZID=Europe/Berlin:20261014T110000
UID:W33544112-20261014T100000@VHSBÖBLINGEN-SINDELFINGEN
SUMMARY:Rückhalt - das umfassende Rückenprogramm (W33544112) 
LOCATION:AL, Peter-Creuzberger-Halle, Mehrzweckraum, Im Furtweg 24, 71155 Altdorf
END:VEVENT
BEGIN:VEVENT
DTSTAMP:20260421T171458
DTSTART;TZID=Europe/Berlin:20261021T100000
DTEND;TZID=Europe/Berlin:20261021T110000
UID:W33544112-20261021T100000@VHSBÖBLINGEN-SINDELFINGEN
SUMMARY:Rückhalt - das umfassende Rückenprogramm (W33544112) 
LOCATION:AL, Peter-Creuzberger-Halle, Mehrzweckraum, Im Furtweg 24, 71155 Altdorf
END:VEVENT
BEGIN:VEVENT
DTSTAMP:20260421T171458
DTSTART;TZID=Europe/Berlin:20261104T100000
DTEND;TZID=Europe/Berlin:20261104T110000
UID:W33544112-20261104T100000@VHSBÖBLINGEN-SINDELFINGEN
SUMMARY:Rückhalt - das umfassende Rückenprogramm (W33544112) 
LOCATION:AL, Peter-Creuzberger-Halle, Mehrzweckraum, Im Furtweg 24, 71155 Altdorf
END:VEVENT
BEGIN:VEVENT
DTSTAMP:20260421T171458
DTSTART;TZID=Europe/Berlin:20261111T100000
DTEND;TZID=Europe/Berlin:20261111T110000
UID:W33544112-20261111T100000@VHSBÖBLINGEN-SINDELFINGEN
SUMMARY:Rückhalt - das umfassende Rückenprogramm (W33544112) 
LOCATION:AL, Peter-Creuzberger-Halle, Mehrzweckraum, Im Furtweg 24, 71155 Altdorf
END:VEVENT
BEGIN:VEVENT
DTSTAMP:20260421T171458
DTSTART;TZID=Europe/Berlin:20261118T100000
DTEND;TZID=Europe/Berlin:20261118T110000
UID:W33544112-20261118T100000@VHSBÖBLINGEN-SINDELFINGEN
SUMMARY:Rückhalt - das umfassende Rückenprogramm (W33544112) 
LOCATION:AL, Peter-Creuzberger-Halle, Mehrzweckraum, Im Furtweg 24, 71155 Altdorf
END:VEVENT
BEGIN:VEVENT
DTSTAMP:20260421T171458
DTSTART;TZID=Europe/Berlin:20261125T100000
DTEND;TZID=Europe/Berlin:20261125T110000
UID:W33544112-20261125T100000@VHSBÖBLINGEN-SINDELFINGEN
SUMMARY:Rückhalt - das umfassende Rückenprogramm (W33544112) 
LOCATION:AL, Peter-Creuzberger-Halle, Mehrzweckraum, Im Furtweg 24, 71155 Altdorf
END:VEVENT
BEGIN:VEVENT
DTSTAMP:20260421T171458
DTSTART;TZID=Europe/Berlin:20261202T100000
DTEND;TZID=Europe/Berlin:20261202T110000
UID:W33544112-20261202T100000@VHSBÖBLINGEN-SINDELFINGEN
SUMMARY:Rückhalt - das umfassende Rückenprogramm (W33544112) 
LOCATION:AL, Peter-Creuzberger-Halle, Mehrzweckraum, Im Furtweg 24, 71155 Altdorf
END:VEVENT
BEGIN:VEVENT
DTSTAMP:20260421T171458
DTSTART;TZID=Europe/Berlin:20261209T100000
DTEND;TZID=Europe/Berlin:20261209T110000
UID:W33544112-20261209T100000@VHSBÖBLINGEN-SINDELFINGEN
SUMMARY:Rückhalt - das umfassende Rückenprogramm (W33544112) 
LOCATION:AL, Peter-Creuzberger-Halle, Mehrzweckraum, Im Furtweg 24, 71155 Altdorf
END:VEVENT
BEGIN:VEVENT
DTSTAMP:20260421T171458
DTSTART;TZID=Europe/Berlin:20261216T100000
DTEND;TZID=Europe/Berlin:20261216T110000
UID:W33544112-20261216T100000@VHSBÖBLINGEN-SINDELFINGEN
SUMMARY:Rückhalt - das umfassende Rückenprogramm (W33544112) 
LOCATION:AL, Peter-Creuzberger-Halle, Mehrzweckraum, Im Furtweg 24, 71155 Altdorf
END:VEVENT
BEGIN:VEVENT
DTSTAMP:20260421T171458
DTSTART;TZID=Europe/Berlin:20270113T100000
DTEND;TZID=Europe/Berlin:20270113T110000
UID:W33544112-20270113T100000@VHSBÖBLINGEN-SINDELFINGEN
SUMMARY:Rückhalt - das umfassende Rückenprogramm (W33544112) 
LOCATION:AL, Peter-Creuzberger-Halle, Mehrzweckraum, Im Furtweg 24, 71155 Altdorf
END:VEVENT
BEGIN:VEVENT
DTSTAMP:20260421T171458
DTSTART;TZID=Europe/Berlin:20270120T100000
DTEND;TZID=Europe/Berlin:20270120T110000
UID:W33544112-20270120T100000@VHSBÖBLINGEN-SINDELFINGEN
SUMMARY:Rückhalt - das umfassende Rückenprogramm (W33544112) 
LOCATION:AL, Peter-Creuzberger-Halle, Mehrzweckraum, Im Furtweg 24, 71155 Altdorf
END:VEVENT
BEGIN:VEVENT
DTSTAMP:20260421T171458
DTSTART;TZID=Europe/Berlin:20270127T100000
DTEND;TZID=Europe/Berlin:20270127T110000
UID:W33544112-20270127T100000@VHSBÖBLINGEN-SINDELFINGEN
SUMMARY:Rückhalt - das umfassende Rückenprogramm (W33544112) 
LOCATION:AL, Peter-Creuzberger-Halle, Mehrzweckraum, Im Furtweg 24, 71155 Altdorf
END:VEVENT
BEGIN:VEVENT
DTSTAMP:20260421T171458
DTSTART;TZID=Europe/Berlin:20270203T100000
DTEND;TZID=Europe/Berlin:20270203T110000
UID:W33544112-20270203T100000@VHSBÖBLINGEN-SINDELFINGEN
SUMMARY:Rückhalt - das umfassende Rückenprogramm (W33544112) 
LOCATION:AL, Peter-Creuzberger-Halle, Mehrzweckraum, Im Furtweg 24, 71155 Altdorf
END:VEVENT
END:VCALENDAR