BEGIN:VCALENDAR
VERSION:2.0
PRODID:https://www.kufer.de/kuferweb / DE
METHOD:PUBLISH
CALSCALE:GREGORIAN
X-WR-TIMEZONE:Europe/Berlin
BEGIN:VTIMEZONE
TZID:Europe/Berlin
X-LIC-LOCATION:Europe/Berlin
BEGIN:DAYLIGHT
TZOFFSETFROM:+0100
TZOFFSETTO:+0200
TZNAME:CEST
DTSTART:19700329T020000
RRULE:FREQ=YEARLY;INTERVAL=1;BYDAY=-1SU;BYMONTH=3
END:DAYLIGHT
BEGIN:STANDARD
TZOFFSETFROM:+0200
TZOFFSETTO:+0100
TZNAME:CET
DTSTART:19701025T030000
RRULE:FREQ=YEARLY;INTERVAL=1;BYDAY=-1SU;BYMONTH=10
END:STANDARD
END:VTIMEZONE
BEGIN:VEVENT
DTSTAMP:20260420T200009
DTSTART;TZID=Europe/Berlin:20260917T190000
DTEND;TZID=Europe/Berlin:20260917T200000
UID:W33534610-20260917T190000@VHSBÖBLINGEN-SINDELFINGEN
SUMMARY:Rückhalt - das umfassende Rückenprogramm (W33534610) 
LOCATION:Käthe-Kollwitz-Schule, ___, Maienplatz 12, 71032 Böblingen
END:VEVENT
BEGIN:VEVENT
DTSTAMP:20260420T200009
DTSTART;TZID=Europe/Berlin:20260924T190000
DTEND;TZID=Europe/Berlin:20260924T200000
UID:W33534610-20260924T190000@VHSBÖBLINGEN-SINDELFINGEN
SUMMARY:Rückhalt - das umfassende Rückenprogramm (W33534610) 
LOCATION:Käthe-Kollwitz-Schule, ___, Maienplatz 12, 71032 Böblingen
END:VEVENT
BEGIN:VEVENT
DTSTAMP:20260420T200009
DTSTART;TZID=Europe/Berlin:20261001T190000
DTEND;TZID=Europe/Berlin:20261001T200000
UID:W33534610-20261001T190000@VHSBÖBLINGEN-SINDELFINGEN
SUMMARY:Rückhalt - das umfassende Rückenprogramm (W33534610) 
LOCATION:Käthe-Kollwitz-Schule, ___, Maienplatz 12, 71032 Böblingen
END:VEVENT
BEGIN:VEVENT
DTSTAMP:20260420T200009
DTSTART;TZID=Europe/Berlin:20261008T190000
DTEND;TZID=Europe/Berlin:20261008T200000
UID:W33534610-20261008T190000@VHSBÖBLINGEN-SINDELFINGEN
SUMMARY:Rückhalt - das umfassende Rückenprogramm (W33534610) 
LOCATION:Käthe-Kollwitz-Schule, ___, Maienplatz 12, 71032 Böblingen
END:VEVENT
BEGIN:VEVENT
DTSTAMP:20260420T200009
DTSTART;TZID=Europe/Berlin:20261015T190000
DTEND;TZID=Europe/Berlin:20261015T200000
UID:W33534610-20261015T190000@VHSBÖBLINGEN-SINDELFINGEN
SUMMARY:Rückhalt - das umfassende Rückenprogramm (W33534610) 
LOCATION:Käthe-Kollwitz-Schule, ___, Maienplatz 12, 71032 Böblingen
END:VEVENT
BEGIN:VEVENT
DTSTAMP:20260420T200009
DTSTART;TZID=Europe/Berlin:20261022T190000
DTEND;TZID=Europe/Berlin:20261022T200000
UID:W33534610-20261022T190000@VHSBÖBLINGEN-SINDELFINGEN
SUMMARY:Rückhalt - das umfassende Rückenprogramm (W33534610) 
LOCATION:Käthe-Kollwitz-Schule, ___, Maienplatz 12, 71032 Böblingen
END:VEVENT
BEGIN:VEVENT
DTSTAMP:20260420T200009
DTSTART;TZID=Europe/Berlin:20261105T190000
DTEND;TZID=Europe/Berlin:20261105T200000
UID:W33534610-20261105T190000@VHSBÖBLINGEN-SINDELFINGEN
SUMMARY:Rückhalt - das umfassende Rückenprogramm (W33534610) 
LOCATION:Käthe-Kollwitz-Schule, ___, Maienplatz 12, 71032 Böblingen
END:VEVENT
BEGIN:VEVENT
DTSTAMP:20260420T200009
DTSTART;TZID=Europe/Berlin:20261112T190000
DTEND;TZID=Europe/Berlin:20261112T200000
UID:W33534610-20261112T190000@VHSBÖBLINGEN-SINDELFINGEN
SUMMARY:Rückhalt - das umfassende Rückenprogramm (W33534610) 
LOCATION:Käthe-Kollwitz-Schule, ___, Maienplatz 12, 71032 Böblingen
END:VEVENT
BEGIN:VEVENT
DTSTAMP:20260420T200009
DTSTART;TZID=Europe/Berlin:20261119T190000
DTEND;TZID=Europe/Berlin:20261119T200000
UID:W33534610-20261119T190000@VHSBÖBLINGEN-SINDELFINGEN
SUMMARY:Rückhalt - das umfassende Rückenprogramm (W33534610) 
LOCATION:Käthe-Kollwitz-Schule, ___, Maienplatz 12, 71032 Böblingen
END:VEVENT
BEGIN:VEVENT
DTSTAMP:20260420T200009
DTSTART;TZID=Europe/Berlin:20261126T190000
DTEND;TZID=Europe/Berlin:20261126T200000
UID:W33534610-20261126T190000@VHSBÖBLINGEN-SINDELFINGEN
SUMMARY:Rückhalt - das umfassende Rückenprogramm (W33534610) 
LOCATION:Käthe-Kollwitz-Schule, ___, Maienplatz 12, 71032 Böblingen
END:VEVENT
BEGIN:VEVENT
DTSTAMP:20260420T200009
DTSTART;TZID=Europe/Berlin:20261203T190000
DTEND;TZID=Europe/Berlin:20261203T200000
UID:W33534610-20261203T190000@VHSBÖBLINGEN-SINDELFINGEN
SUMMARY:Rückhalt - das umfassende Rückenprogramm (W33534610) 
LOCATION:Käthe-Kollwitz-Schule, ___, Maienplatz 12, 71032 Böblingen
END:VEVENT
BEGIN:VEVENT
DTSTAMP:20260420T200009
DTSTART;TZID=Europe/Berlin:20261210T190000
DTEND;TZID=Europe/Berlin:20261210T200000
UID:W33534610-20261210T190000@VHSBÖBLINGEN-SINDELFINGEN
SUMMARY:Rückhalt - das umfassende Rückenprogramm (W33534610) 
LOCATION:Käthe-Kollwitz-Schule, ___, Maienplatz 12, 71032 Böblingen
END:VEVENT
BEGIN:VEVENT
DTSTAMP:20260420T200009
DTSTART;TZID=Europe/Berlin:20261217T190000
DTEND;TZID=Europe/Berlin:20261217T200000
UID:W33534610-20261217T190000@VHSBÖBLINGEN-SINDELFINGEN
SUMMARY:Rückhalt - das umfassende Rückenprogramm (W33534610) 
LOCATION:Käthe-Kollwitz-Schule, ___, Maienplatz 12, 71032 Böblingen
END:VEVENT
BEGIN:VEVENT
DTSTAMP:20260420T200009
DTSTART;TZID=Europe/Berlin:20270114T190000
DTEND;TZID=Europe/Berlin:20270114T200000
UID:W33534610-20270114T190000@VHSBÖBLINGEN-SINDELFINGEN
SUMMARY:Rückhalt - das umfassende Rückenprogramm (W33534610) 
LOCATION:Käthe-Kollwitz-Schule, ___, Maienplatz 12, 71032 Böblingen
END:VEVENT
BEGIN:VEVENT
DTSTAMP:20260420T200009
DTSTART;TZID=Europe/Berlin:20270121T190000
DTEND;TZID=Europe/Berlin:20270121T200000
UID:W33534610-20270121T190000@VHSBÖBLINGEN-SINDELFINGEN
SUMMARY:Rückhalt - das umfassende Rückenprogramm (W33534610) 
LOCATION:Käthe-Kollwitz-Schule, ___, Maienplatz 12, 71032 Böblingen
END:VEVENT
BEGIN:VEVENT
DTSTAMP:20260420T200009
DTSTART;TZID=Europe/Berlin:20270128T190000
DTEND;TZID=Europe/Berlin:20270128T200000
UID:W33534610-20270128T190000@VHSBÖBLINGEN-SINDELFINGEN
SUMMARY:Rückhalt - das umfassende Rückenprogramm (W33534610) 
LOCATION:Käthe-Kollwitz-Schule, ___, Maienplatz 12, 71032 Böblingen
END:VEVENT
BEGIN:VEVENT
DTSTAMP:20260420T200009
DTSTART;TZID=Europe/Berlin:20270204T190000
DTEND;TZID=Europe/Berlin:20270204T200000
UID:W33534610-20270204T190000@VHSBÖBLINGEN-SINDELFINGEN
SUMMARY:Rückhalt - das umfassende Rückenprogramm (W33534610) 
LOCATION:Käthe-Kollwitz-Schule, ___, Maienplatz 12, 71032 Böblingen
END:VEVENT
END:VCALENDAR