BEGIN:VCALENDAR
VERSION:2.0
PRODID:https://www.kufer.de/kuferweb / DE
METHOD:PUBLISH
CALSCALE:GREGORIAN
X-WR-TIMEZONE:Europe/Berlin
BEGIN:VTIMEZONE
TZID:Europe/Berlin
X-LIC-LOCATION:Europe/Berlin
BEGIN:DAYLIGHT
TZOFFSETFROM:+0100
TZOFFSETTO:+0200
TZNAME:CEST
DTSTART:19700329T020000
RRULE:FREQ=YEARLY;INTERVAL=1;BYDAY=-1SU;BYMONTH=3
END:DAYLIGHT
BEGIN:STANDARD
TZOFFSETFROM:+0200
TZOFFSETTO:+0100
TZNAME:CET
DTSTART:19701025T030000
RRULE:FREQ=YEARLY;INTERVAL=1;BYDAY=-1SU;BYMONTH=10
END:STANDARD
END:VTIMEZONE
BEGIN:VEVENT
DTSTAMP:20260421T145737
DTSTART;TZID=Europe/Berlin:20260916T080000
DTEND;TZID=Europe/Berlin:20260916T090000
UID:W33465029-20260916T080000@VHSBÖBLINGEN-SINDELFINGEN
SUMMARY:Funktionelle Gymnastik (W33465029) 
LOCATION:SC, Altes Schulhaus, Raum 13, Große Gasse 3, 71101 Schönaich
END:VEVENT
BEGIN:VEVENT
DTSTAMP:20260421T145737
DTSTART;TZID=Europe/Berlin:20260923T080000
DTEND;TZID=Europe/Berlin:20260923T090000
UID:W33465029-20260923T080000@VHSBÖBLINGEN-SINDELFINGEN
SUMMARY:Funktionelle Gymnastik (W33465029) 
LOCATION:SC, Altes Schulhaus, Raum 13, Große Gasse 3, 71101 Schönaich
END:VEVENT
BEGIN:VEVENT
DTSTAMP:20260421T145737
DTSTART;TZID=Europe/Berlin:20260930T080000
DTEND;TZID=Europe/Berlin:20260930T090000
UID:W33465029-20260930T080000@VHSBÖBLINGEN-SINDELFINGEN
SUMMARY:Funktionelle Gymnastik (W33465029) 
LOCATION:SC, Altes Schulhaus, Raum 13, Große Gasse 3, 71101 Schönaich
END:VEVENT
BEGIN:VEVENT
DTSTAMP:20260421T145737
DTSTART;TZID=Europe/Berlin:20261007T080000
DTEND;TZID=Europe/Berlin:20261007T090000
UID:W33465029-20261007T080000@VHSBÖBLINGEN-SINDELFINGEN
SUMMARY:Funktionelle Gymnastik (W33465029) 
LOCATION:SC, Altes Schulhaus, Raum 13, Große Gasse 3, 71101 Schönaich
END:VEVENT
BEGIN:VEVENT
DTSTAMP:20260421T145737
DTSTART;TZID=Europe/Berlin:20261014T080000
DTEND;TZID=Europe/Berlin:20261014T090000
UID:W33465029-20261014T080000@VHSBÖBLINGEN-SINDELFINGEN
SUMMARY:Funktionelle Gymnastik (W33465029) 
LOCATION:SC, Altes Schulhaus, Raum 13, Große Gasse 3, 71101 Schönaich
END:VEVENT
BEGIN:VEVENT
DTSTAMP:20260421T145737
DTSTART;TZID=Europe/Berlin:20261021T080000
DTEND;TZID=Europe/Berlin:20261021T090000
UID:W33465029-20261021T080000@VHSBÖBLINGEN-SINDELFINGEN
SUMMARY:Funktionelle Gymnastik (W33465029) 
LOCATION:SC, Altes Schulhaus, Raum 13, Große Gasse 3, 71101 Schönaich
END:VEVENT
BEGIN:VEVENT
DTSTAMP:20260421T145737
DTSTART;TZID=Europe/Berlin:20261104T080000
DTEND;TZID=Europe/Berlin:20261104T090000
UID:W33465029-20261104T080000@VHSBÖBLINGEN-SINDELFINGEN
SUMMARY:Funktionelle Gymnastik (W33465029) 
LOCATION:SC, Altes Schulhaus, Raum 13, Große Gasse 3, 71101 Schönaich
END:VEVENT
BEGIN:VEVENT
DTSTAMP:20260421T145737
DTSTART;TZID=Europe/Berlin:20261111T080000
DTEND;TZID=Europe/Berlin:20261111T090000
UID:W33465029-20261111T080000@VHSBÖBLINGEN-SINDELFINGEN
SUMMARY:Funktionelle Gymnastik (W33465029) 
LOCATION:SC, Altes Schulhaus, Raum 13, Große Gasse 3, 71101 Schönaich
END:VEVENT
BEGIN:VEVENT
DTSTAMP:20260421T145737
DTSTART;TZID=Europe/Berlin:20261118T080000
DTEND;TZID=Europe/Berlin:20261118T090000
UID:W33465029-20261118T080000@VHSBÖBLINGEN-SINDELFINGEN
SUMMARY:Funktionelle Gymnastik (W33465029) 
LOCATION:SC, Altes Schulhaus, Raum 13, Große Gasse 3, 71101 Schönaich
END:VEVENT
BEGIN:VEVENT
DTSTAMP:20260421T145737
DTSTART;TZID=Europe/Berlin:20261125T080000
DTEND;TZID=Europe/Berlin:20261125T090000
UID:W33465029-20261125T080000@VHSBÖBLINGEN-SINDELFINGEN
SUMMARY:Funktionelle Gymnastik (W33465029) 
LOCATION:SC, Altes Schulhaus, Raum 13, Große Gasse 3, 71101 Schönaich
END:VEVENT
BEGIN:VEVENT
DTSTAMP:20260421T145737
DTSTART;TZID=Europe/Berlin:20261202T080000
DTEND;TZID=Europe/Berlin:20261202T090000
UID:W33465029-20261202T080000@VHSBÖBLINGEN-SINDELFINGEN
SUMMARY:Funktionelle Gymnastik (W33465029) 
LOCATION:SC, Altes Schulhaus, Raum 13, Große Gasse 3, 71101 Schönaich
END:VEVENT
BEGIN:VEVENT
DTSTAMP:20260421T145737
DTSTART;TZID=Europe/Berlin:20261209T080000
DTEND;TZID=Europe/Berlin:20261209T090000
UID:W33465029-20261209T080000@VHSBÖBLINGEN-SINDELFINGEN
SUMMARY:Funktionelle Gymnastik (W33465029) 
LOCATION:SC, Altes Schulhaus, Raum 13, Große Gasse 3, 71101 Schönaich
END:VEVENT
BEGIN:VEVENT
DTSTAMP:20260421T145737
DTSTART;TZID=Europe/Berlin:20261216T080000
DTEND;TZID=Europe/Berlin:20261216T090000
UID:W33465029-20261216T080000@VHSBÖBLINGEN-SINDELFINGEN
SUMMARY:Funktionelle Gymnastik (W33465029) 
LOCATION:SC, Altes Schulhaus, Raum 13, Große Gasse 3, 71101 Schönaich
END:VEVENT
BEGIN:VEVENT
DTSTAMP:20260421T145737
DTSTART;TZID=Europe/Berlin:20270113T080000
DTEND;TZID=Europe/Berlin:20270113T090000
UID:W33465029-20270113T080000@VHSBÖBLINGEN-SINDELFINGEN
SUMMARY:Funktionelle Gymnastik (W33465029) 
LOCATION:SC, Altes Schulhaus, Raum 13, Große Gasse 3, 71101 Schönaich
END:VEVENT
BEGIN:VEVENT
DTSTAMP:20260421T145737
DTSTART;TZID=Europe/Berlin:20270120T080000
DTEND;TZID=Europe/Berlin:20270120T090000
UID:W33465029-20270120T080000@VHSBÖBLINGEN-SINDELFINGEN
SUMMARY:Funktionelle Gymnastik (W33465029) 
LOCATION:SC, Altes Schulhaus, Raum 13, Große Gasse 3, 71101 Schönaich
END:VEVENT
BEGIN:VEVENT
DTSTAMP:20260421T145737
DTSTART;TZID=Europe/Berlin:20270127T080000
DTEND;TZID=Europe/Berlin:20270127T090000
UID:W33465029-20270127T080000@VHSBÖBLINGEN-SINDELFINGEN
SUMMARY:Funktionelle Gymnastik (W33465029) 
LOCATION:SC, Altes Schulhaus, Raum 13, Große Gasse 3, 71101 Schönaich
END:VEVENT
BEGIN:VEVENT
DTSTAMP:20260421T145737
DTSTART;TZID=Europe/Berlin:20270203T080000
DTEND;TZID=Europe/Berlin:20270203T090000
UID:W33465029-20270203T080000@VHSBÖBLINGEN-SINDELFINGEN
SUMMARY:Funktionelle Gymnastik (W33465029) 
LOCATION:SC, Altes Schulhaus, Raum 13, Große Gasse 3, 71101 Schönaich
END:VEVENT
END:VCALENDAR