BEGIN:VCALENDAR
VERSION:2.0
PRODID:https://www.kufer.de/kuferweb / DE
METHOD:PUBLISH
CALSCALE:GREGORIAN
X-WR-TIMEZONE:Europe/Berlin
BEGIN:VTIMEZONE
TZID:Europe/Berlin
X-LIC-LOCATION:Europe/Berlin
BEGIN:DAYLIGHT
TZOFFSETFROM:+0100
TZOFFSETTO:+0200
TZNAME:CEST
DTSTART:19700329T020000
RRULE:FREQ=YEARLY;INTERVAL=1;BYDAY=-1SU;BYMONTH=3
END:DAYLIGHT
BEGIN:STANDARD
TZOFFSETFROM:+0200
TZOFFSETTO:+0100
TZNAME:CET
DTSTART:19701025T030000
RRULE:FREQ=YEARLY;INTERVAL=1;BYDAY=-1SU;BYMONTH=10
END:STANDARD
END:VTIMEZONE
BEGIN:VEVENT
DTSTAMP:20260421T071458
DTSTART;TZID=Europe/Berlin:20260924T085000
DTEND;TZID=Europe/Berlin:20260924T095000
UID:W33462029-20260924T085000@VHSBÖBLINGEN-SINDELFINGEN
SUMMARY:Funktionelle Gymnastik (W33462029) 
LOCATION:SC, Altes Schulhaus, Raum 13, Große Gasse 3, 71101 Schönaich
END:VEVENT
BEGIN:VEVENT
DTSTAMP:20260421T071458
DTSTART;TZID=Europe/Berlin:20261001T085000
DTEND;TZID=Europe/Berlin:20261001T095000
UID:W33462029-20261001T085000@VHSBÖBLINGEN-SINDELFINGEN
SUMMARY:Funktionelle Gymnastik (W33462029) 
LOCATION:SC, Altes Schulhaus, Raum 13, Große Gasse 3, 71101 Schönaich
END:VEVENT
BEGIN:VEVENT
DTSTAMP:20260421T071458
DTSTART;TZID=Europe/Berlin:20261008T085000
DTEND;TZID=Europe/Berlin:20261008T095000
UID:W33462029-20261008T085000@VHSBÖBLINGEN-SINDELFINGEN
SUMMARY:Funktionelle Gymnastik (W33462029) 
LOCATION:SC, Altes Schulhaus, Raum 13, Große Gasse 3, 71101 Schönaich
END:VEVENT
BEGIN:VEVENT
DTSTAMP:20260421T071458
DTSTART;TZID=Europe/Berlin:20261015T085000
DTEND;TZID=Europe/Berlin:20261015T095000
UID:W33462029-20261015T085000@VHSBÖBLINGEN-SINDELFINGEN
SUMMARY:Funktionelle Gymnastik (W33462029) 
LOCATION:SC, Altes Schulhaus, Raum 13, Große Gasse 3, 71101 Schönaich
END:VEVENT
BEGIN:VEVENT
DTSTAMP:20260421T071458
DTSTART;TZID=Europe/Berlin:20261022T085000
DTEND;TZID=Europe/Berlin:20261022T095000
UID:W33462029-20261022T085000@VHSBÖBLINGEN-SINDELFINGEN
SUMMARY:Funktionelle Gymnastik (W33462029) 
LOCATION:SC, Altes Schulhaus, Raum 13, Große Gasse 3, 71101 Schönaich
END:VEVENT
BEGIN:VEVENT
DTSTAMP:20260421T071458
DTSTART;TZID=Europe/Berlin:20261105T085000
DTEND;TZID=Europe/Berlin:20261105T095000
UID:W33462029-20261105T085000@VHSBÖBLINGEN-SINDELFINGEN
SUMMARY:Funktionelle Gymnastik (W33462029) 
LOCATION:SC, Altes Schulhaus, Raum 13, Große Gasse 3, 71101 Schönaich
END:VEVENT
BEGIN:VEVENT
DTSTAMP:20260421T071458
DTSTART;TZID=Europe/Berlin:20261112T085000
DTEND;TZID=Europe/Berlin:20261112T095000
UID:W33462029-20261112T085000@VHSBÖBLINGEN-SINDELFINGEN
SUMMARY:Funktionelle Gymnastik (W33462029) 
LOCATION:SC, Altes Schulhaus, Raum 13, Große Gasse 3, 71101 Schönaich
END:VEVENT
BEGIN:VEVENT
DTSTAMP:20260421T071458
DTSTART;TZID=Europe/Berlin:20261119T085000
DTEND;TZID=Europe/Berlin:20261119T095000
UID:W33462029-20261119T085000@VHSBÖBLINGEN-SINDELFINGEN
SUMMARY:Funktionelle Gymnastik (W33462029) 
LOCATION:SC, Altes Schulhaus, Raum 13, Große Gasse 3, 71101 Schönaich
END:VEVENT
BEGIN:VEVENT
DTSTAMP:20260421T071458
DTSTART;TZID=Europe/Berlin:20261126T085000
DTEND;TZID=Europe/Berlin:20261126T095000
UID:W33462029-20261126T085000@VHSBÖBLINGEN-SINDELFINGEN
SUMMARY:Funktionelle Gymnastik (W33462029) 
LOCATION:SC, Altes Schulhaus, Raum 13, Große Gasse 3, 71101 Schönaich
END:VEVENT
BEGIN:VEVENT
DTSTAMP:20260421T071458
DTSTART;TZID=Europe/Berlin:20261203T085000
DTEND;TZID=Europe/Berlin:20261203T095000
UID:W33462029-20261203T085000@VHSBÖBLINGEN-SINDELFINGEN
SUMMARY:Funktionelle Gymnastik (W33462029) 
LOCATION:SC, Altes Schulhaus, Raum 13, Große Gasse 3, 71101 Schönaich
END:VEVENT
BEGIN:VEVENT
DTSTAMP:20260421T071458
DTSTART;TZID=Europe/Berlin:20261210T085000
DTEND;TZID=Europe/Berlin:20261210T095000
UID:W33462029-20261210T085000@VHSBÖBLINGEN-SINDELFINGEN
SUMMARY:Funktionelle Gymnastik (W33462029) 
LOCATION:SC, Altes Schulhaus, Raum 13, Große Gasse 3, 71101 Schönaich
END:VEVENT
BEGIN:VEVENT
DTSTAMP:20260421T071458
DTSTART;TZID=Europe/Berlin:20261217T085000
DTEND;TZID=Europe/Berlin:20261217T095000
UID:W33462029-20261217T085000@VHSBÖBLINGEN-SINDELFINGEN
SUMMARY:Funktionelle Gymnastik (W33462029) 
LOCATION:SC, Altes Schulhaus, Raum 13, Große Gasse 3, 71101 Schönaich
END:VEVENT
BEGIN:VEVENT
DTSTAMP:20260421T071458
DTSTART;TZID=Europe/Berlin:20270114T085000
DTEND;TZID=Europe/Berlin:20270114T095000
UID:W33462029-20270114T085000@VHSBÖBLINGEN-SINDELFINGEN
SUMMARY:Funktionelle Gymnastik (W33462029) 
LOCATION:SC, Altes Schulhaus, Raum 13, Große Gasse 3, 71101 Schönaich
END:VEVENT
BEGIN:VEVENT
DTSTAMP:20260421T071458
DTSTART;TZID=Europe/Berlin:20270121T085000
DTEND;TZID=Europe/Berlin:20270121T095000
UID:W33462029-20270121T085000@VHSBÖBLINGEN-SINDELFINGEN
SUMMARY:Funktionelle Gymnastik (W33462029) 
LOCATION:SC, Altes Schulhaus, Raum 13, Große Gasse 3, 71101 Schönaich
END:VEVENT
BEGIN:VEVENT
DTSTAMP:20260421T071458
DTSTART;TZID=Europe/Berlin:20270128T085000
DTEND;TZID=Europe/Berlin:20270128T095000
UID:W33462029-20270128T085000@VHSBÖBLINGEN-SINDELFINGEN
SUMMARY:Funktionelle Gymnastik (W33462029) 
LOCATION:SC, Altes Schulhaus, Raum 13, Große Gasse 3, 71101 Schönaich
END:VEVENT
END:VCALENDAR