BEGIN:VCALENDAR
VERSION:2.0
PRODID:https://www.kufer.de/kuferweb / DE
METHOD:PUBLISH
CALSCALE:GREGORIAN
X-WR-TIMEZONE:Europe/Berlin
BEGIN:VTIMEZONE
TZID:Europe/Berlin
X-LIC-LOCATION:Europe/Berlin
BEGIN:DAYLIGHT
TZOFFSETFROM:+0100
TZOFFSETTO:+0200
TZNAME:CEST
DTSTART:19700329T020000
RRULE:FREQ=YEARLY;INTERVAL=1;BYDAY=-1SU;BYMONTH=3
END:DAYLIGHT
BEGIN:STANDARD
TZOFFSETFROM:+0200
TZOFFSETTO:+0100
TZNAME:CET
DTSTART:19701025T030000
RRULE:FREQ=YEARLY;INTERVAL=1;BYDAY=-1SU;BYMONTH=10
END:STANDARD
END:VTIMEZONE
BEGIN:VEVENT
DTSTAMP:20260421T071518
DTSTART;TZID=Europe/Berlin:20260923T190000
DTEND;TZID=Europe/Berlin:20260923T203000
UID:W32874010-20260923T190000@VHSBÖBLINGEN-SINDELFINGEN
SUMMARY:Taijiquan Yangstil (W32874010) 
LOCATION:Paul-Lechler-Schule 2, ___, Pestalozzistr. 9, 71032 Böblingen
END:VEVENT
BEGIN:VEVENT
DTSTAMP:20260421T071518
DTSTART;TZID=Europe/Berlin:20260930T190000
DTEND;TZID=Europe/Berlin:20260930T203000
UID:W32874010-20260930T190000@VHSBÖBLINGEN-SINDELFINGEN
SUMMARY:Taijiquan Yangstil (W32874010) 
LOCATION:Paul-Lechler-Schule 2, ___, Pestalozzistr. 9, 71032 Böblingen
END:VEVENT
BEGIN:VEVENT
DTSTAMP:20260421T071518
DTSTART;TZID=Europe/Berlin:20261007T190000
DTEND;TZID=Europe/Berlin:20261007T203000
UID:W32874010-20261007T190000@VHSBÖBLINGEN-SINDELFINGEN
SUMMARY:Taijiquan Yangstil (W32874010) 
LOCATION:Paul-Lechler-Schule 2, ___, Pestalozzistr. 9, 71032 Böblingen
END:VEVENT
BEGIN:VEVENT
DTSTAMP:20260421T071518
DTSTART;TZID=Europe/Berlin:20261014T190000
DTEND;TZID=Europe/Berlin:20261014T203000
UID:W32874010-20261014T190000@VHSBÖBLINGEN-SINDELFINGEN
SUMMARY:Taijiquan Yangstil (W32874010) 
LOCATION:Paul-Lechler-Schule 2, ___, Pestalozzistr. 9, 71032 Böblingen
END:VEVENT
BEGIN:VEVENT
DTSTAMP:20260421T071518
DTSTART;TZID=Europe/Berlin:20261021T190000
DTEND;TZID=Europe/Berlin:20261021T203000
UID:W32874010-20261021T190000@VHSBÖBLINGEN-SINDELFINGEN
SUMMARY:Taijiquan Yangstil (W32874010) 
LOCATION:Paul-Lechler-Schule 2, ___, Pestalozzistr. 9, 71032 Böblingen
END:VEVENT
BEGIN:VEVENT
DTSTAMP:20260421T071518
DTSTART;TZID=Europe/Berlin:20261111T190000
DTEND;TZID=Europe/Berlin:20261111T203000
UID:W32874010-20261111T190000@VHSBÖBLINGEN-SINDELFINGEN
SUMMARY:Taijiquan Yangstil (W32874010) 
LOCATION:Paul-Lechler-Schule 2, ___, Pestalozzistr. 9, 71032 Böblingen
END:VEVENT
BEGIN:VEVENT
DTSTAMP:20260421T071518
DTSTART;TZID=Europe/Berlin:20261118T190000
DTEND;TZID=Europe/Berlin:20261118T203000
UID:W32874010-20261118T190000@VHSBÖBLINGEN-SINDELFINGEN
SUMMARY:Taijiquan Yangstil (W32874010) 
LOCATION:Paul-Lechler-Schule 2, ___, Pestalozzistr. 9, 71032 Böblingen
END:VEVENT
BEGIN:VEVENT
DTSTAMP:20260421T071518
DTSTART;TZID=Europe/Berlin:20261125T190000
DTEND;TZID=Europe/Berlin:20261125T203000
UID:W32874010-20261125T190000@VHSBÖBLINGEN-SINDELFINGEN
SUMMARY:Taijiquan Yangstil (W32874010) 
LOCATION:Paul-Lechler-Schule 2, ___, Pestalozzistr. 9, 71032 Böblingen
END:VEVENT
BEGIN:VEVENT
DTSTAMP:20260421T071518
DTSTART;TZID=Europe/Berlin:20261202T190000
DTEND;TZID=Europe/Berlin:20261202T203000
UID:W32874010-20261202T190000@VHSBÖBLINGEN-SINDELFINGEN
SUMMARY:Taijiquan Yangstil (W32874010) 
LOCATION:Paul-Lechler-Schule 2, ___, Pestalozzistr. 9, 71032 Böblingen
END:VEVENT
BEGIN:VEVENT
DTSTAMP:20260421T071518
DTSTART;TZID=Europe/Berlin:20261209T190000
DTEND;TZID=Europe/Berlin:20261209T203000
UID:W32874010-20261209T190000@VHSBÖBLINGEN-SINDELFINGEN
SUMMARY:Taijiquan Yangstil (W32874010) 
LOCATION:Paul-Lechler-Schule 2, ___, Pestalozzistr. 9, 71032 Böblingen
END:VEVENT
BEGIN:VEVENT
DTSTAMP:20260421T071518
DTSTART;TZID=Europe/Berlin:20261216T190000
DTEND;TZID=Europe/Berlin:20261216T203000
UID:W32874010-20261216T190000@VHSBÖBLINGEN-SINDELFINGEN
SUMMARY:Taijiquan Yangstil (W32874010) 
LOCATION:Paul-Lechler-Schule 2, ___, Pestalozzistr. 9, 71032 Böblingen
END:VEVENT
BEGIN:VEVENT
DTSTAMP:20260421T071518
DTSTART;TZID=Europe/Berlin:20270120T190000
DTEND;TZID=Europe/Berlin:20270120T203000
UID:W32874010-20270120T190000@VHSBÖBLINGEN-SINDELFINGEN
SUMMARY:Taijiquan Yangstil (W32874010) 
LOCATION:Paul-Lechler-Schule 2, ___, Pestalozzistr. 9, 71032 Böblingen
END:VEVENT
BEGIN:VEVENT
DTSTAMP:20260421T071518
DTSTART;TZID=Europe/Berlin:20270127T190000
DTEND;TZID=Europe/Berlin:20270127T203000
UID:W32874010-20270127T190000@VHSBÖBLINGEN-SINDELFINGEN
SUMMARY:Taijiquan Yangstil (W32874010) 
LOCATION:Paul-Lechler-Schule 2, ___, Pestalozzistr. 9, 71032 Böblingen
END:VEVENT
BEGIN:VEVENT
DTSTAMP:20260421T071518
DTSTART;TZID=Europe/Berlin:20270203T190000
DTEND;TZID=Europe/Berlin:20270203T203000
UID:W32874010-20270203T190000@VHSBÖBLINGEN-SINDELFINGEN
SUMMARY:Taijiquan Yangstil (W32874010) 
LOCATION:Paul-Lechler-Schule 2, ___, Pestalozzistr. 9, 71032 Böblingen
END:VEVENT
END:VCALENDAR