BEGIN:VCALENDAR
VERSION:2.0
PRODID:https://www.kufer.de/kuferweb / DE
METHOD:PUBLISH
CALSCALE:GREGORIAN
X-WR-TIMEZONE:Europe/Berlin
BEGIN:VTIMEZONE
TZID:Europe/Berlin
X-LIC-LOCATION:Europe/Berlin
BEGIN:DAYLIGHT
TZOFFSETFROM:+0100
TZOFFSETTO:+0200
TZNAME:CEST
DTSTART:19700329T020000
RRULE:FREQ=YEARLY;INTERVAL=1;BYDAY=-1SU;BYMONTH=3
END:DAYLIGHT
BEGIN:STANDARD
TZOFFSETFROM:+0200
TZOFFSETTO:+0100
TZNAME:CET
DTSTART:19701025T030000
RRULE:FREQ=YEARLY;INTERVAL=1;BYDAY=-1SU;BYMONTH=10
END:STANDARD
END:VTIMEZONE
BEGIN:VEVENT
DTSTAMP:20260421T105217
DTSTART;TZID=Europe/Berlin:20260923T173000
DTEND;TZID=Europe/Berlin:20260923T184500
UID:W32873010-20260923T173000@VHSBÖBLINGEN-SINDELFINGEN
SUMMARY:Tai Chi Qigong - die 18 Harmonien Teil I - III  Konzipiert von Prof. Lin Hou Sheng in den siebziger Jahren des letzten Jahrhunderts (W32873010) 
LOCATION:Paul-Lechler-Schule 2, ___, Pestalozzistr. 9, 71032 Böblingen
END:VEVENT
BEGIN:VEVENT
DTSTAMP:20260421T105217
DTSTART;TZID=Europe/Berlin:20260930T173000
DTEND;TZID=Europe/Berlin:20260930T184500
UID:W32873010-20260930T173000@VHSBÖBLINGEN-SINDELFINGEN
SUMMARY:Tai Chi Qigong - die 18 Harmonien Teil I - III  Konzipiert von Prof. Lin Hou Sheng in den siebziger Jahren des letzten Jahrhunderts (W32873010) 
LOCATION:Paul-Lechler-Schule 2, ___, Pestalozzistr. 9, 71032 Böblingen
END:VEVENT
BEGIN:VEVENT
DTSTAMP:20260421T105217
DTSTART;TZID=Europe/Berlin:20261007T173000
DTEND;TZID=Europe/Berlin:20261007T184500
UID:W32873010-20261007T173000@VHSBÖBLINGEN-SINDELFINGEN
SUMMARY:Tai Chi Qigong - die 18 Harmonien Teil I - III  Konzipiert von Prof. Lin Hou Sheng in den siebziger Jahren des letzten Jahrhunderts (W32873010) 
LOCATION:Paul-Lechler-Schule 2, ___, Pestalozzistr. 9, 71032 Böblingen
END:VEVENT
BEGIN:VEVENT
DTSTAMP:20260421T105217
DTSTART;TZID=Europe/Berlin:20261014T173000
DTEND;TZID=Europe/Berlin:20261014T184500
UID:W32873010-20261014T173000@VHSBÖBLINGEN-SINDELFINGEN
SUMMARY:Tai Chi Qigong - die 18 Harmonien Teil I - III  Konzipiert von Prof. Lin Hou Sheng in den siebziger Jahren des letzten Jahrhunderts (W32873010) 
LOCATION:Paul-Lechler-Schule 2, ___, Pestalozzistr. 9, 71032 Böblingen
END:VEVENT
BEGIN:VEVENT
DTSTAMP:20260421T105217
DTSTART;TZID=Europe/Berlin:20261021T173000
DTEND;TZID=Europe/Berlin:20261021T184500
UID:W32873010-20261021T173000@VHSBÖBLINGEN-SINDELFINGEN
SUMMARY:Tai Chi Qigong - die 18 Harmonien Teil I - III  Konzipiert von Prof. Lin Hou Sheng in den siebziger Jahren des letzten Jahrhunderts (W32873010) 
LOCATION:Paul-Lechler-Schule 2, ___, Pestalozzistr. 9, 71032 Böblingen
END:VEVENT
BEGIN:VEVENT
DTSTAMP:20260421T105217
DTSTART;TZID=Europe/Berlin:20261111T173000
DTEND;TZID=Europe/Berlin:20261111T184500
UID:W32873010-20261111T173000@VHSBÖBLINGEN-SINDELFINGEN
SUMMARY:Tai Chi Qigong - die 18 Harmonien Teil I - III  Konzipiert von Prof. Lin Hou Sheng in den siebziger Jahren des letzten Jahrhunderts (W32873010) 
LOCATION:Paul-Lechler-Schule 2, ___, Pestalozzistr. 9, 71032 Böblingen
END:VEVENT
BEGIN:VEVENT
DTSTAMP:20260421T105217
DTSTART;TZID=Europe/Berlin:20261118T173000
DTEND;TZID=Europe/Berlin:20261118T184500
UID:W32873010-20261118T173000@VHSBÖBLINGEN-SINDELFINGEN
SUMMARY:Tai Chi Qigong - die 18 Harmonien Teil I - III  Konzipiert von Prof. Lin Hou Sheng in den siebziger Jahren des letzten Jahrhunderts (W32873010) 
LOCATION:Paul-Lechler-Schule 2, ___, Pestalozzistr. 9, 71032 Böblingen
END:VEVENT
BEGIN:VEVENT
DTSTAMP:20260421T105217
DTSTART;TZID=Europe/Berlin:20261125T173000
DTEND;TZID=Europe/Berlin:20261125T184500
UID:W32873010-20261125T173000@VHSBÖBLINGEN-SINDELFINGEN
SUMMARY:Tai Chi Qigong - die 18 Harmonien Teil I - III  Konzipiert von Prof. Lin Hou Sheng in den siebziger Jahren des letzten Jahrhunderts (W32873010) 
LOCATION:Paul-Lechler-Schule 2, ___, Pestalozzistr. 9, 71032 Böblingen
END:VEVENT
BEGIN:VEVENT
DTSTAMP:20260421T105217
DTSTART;TZID=Europe/Berlin:20261202T173000
DTEND;TZID=Europe/Berlin:20261202T184500
UID:W32873010-20261202T173000@VHSBÖBLINGEN-SINDELFINGEN
SUMMARY:Tai Chi Qigong - die 18 Harmonien Teil I - III  Konzipiert von Prof. Lin Hou Sheng in den siebziger Jahren des letzten Jahrhunderts (W32873010) 
LOCATION:Paul-Lechler-Schule 2, ___, Pestalozzistr. 9, 71032 Böblingen
END:VEVENT
BEGIN:VEVENT
DTSTAMP:20260421T105217
DTSTART;TZID=Europe/Berlin:20261209T173000
DTEND;TZID=Europe/Berlin:20261209T184500
UID:W32873010-20261209T173000@VHSBÖBLINGEN-SINDELFINGEN
SUMMARY:Tai Chi Qigong - die 18 Harmonien Teil I - III  Konzipiert von Prof. Lin Hou Sheng in den siebziger Jahren des letzten Jahrhunderts (W32873010) 
LOCATION:Paul-Lechler-Schule 2, ___, Pestalozzistr. 9, 71032 Böblingen
END:VEVENT
BEGIN:VEVENT
DTSTAMP:20260421T105217
DTSTART;TZID=Europe/Berlin:20261216T173000
DTEND;TZID=Europe/Berlin:20261216T184500
UID:W32873010-20261216T173000@VHSBÖBLINGEN-SINDELFINGEN
SUMMARY:Tai Chi Qigong - die 18 Harmonien Teil I - III  Konzipiert von Prof. Lin Hou Sheng in den siebziger Jahren des letzten Jahrhunderts (W32873010) 
LOCATION:Paul-Lechler-Schule 2, ___, Pestalozzistr. 9, 71032 Böblingen
END:VEVENT
BEGIN:VEVENT
DTSTAMP:20260421T105217
DTSTART;TZID=Europe/Berlin:20270120T173000
DTEND;TZID=Europe/Berlin:20270120T184500
UID:W32873010-20270120T173000@VHSBÖBLINGEN-SINDELFINGEN
SUMMARY:Tai Chi Qigong - die 18 Harmonien Teil I - III  Konzipiert von Prof. Lin Hou Sheng in den siebziger Jahren des letzten Jahrhunderts (W32873010) 
LOCATION:Paul-Lechler-Schule 2, ___, Pestalozzistr. 9, 71032 Böblingen
END:VEVENT
BEGIN:VEVENT
DTSTAMP:20260421T105217
DTSTART;TZID=Europe/Berlin:20270127T173000
DTEND;TZID=Europe/Berlin:20270127T184500
UID:W32873010-20270127T173000@VHSBÖBLINGEN-SINDELFINGEN
SUMMARY:Tai Chi Qigong - die 18 Harmonien Teil I - III  Konzipiert von Prof. Lin Hou Sheng in den siebziger Jahren des letzten Jahrhunderts (W32873010) 
LOCATION:Paul-Lechler-Schule 2, ___, Pestalozzistr. 9, 71032 Böblingen
END:VEVENT
BEGIN:VEVENT
DTSTAMP:20260421T105217
DTSTART;TZID=Europe/Berlin:20270203T173000
DTEND;TZID=Europe/Berlin:20270203T184500
UID:W32873010-20270203T173000@VHSBÖBLINGEN-SINDELFINGEN
SUMMARY:Tai Chi Qigong - die 18 Harmonien Teil I - III  Konzipiert von Prof. Lin Hou Sheng in den siebziger Jahren des letzten Jahrhunderts (W32873010) 
LOCATION:Paul-Lechler-Schule 2, ___, Pestalozzistr. 9, 71032 Böblingen
END:VEVENT
END:VCALENDAR