BEGIN:VCALENDAR
VERSION:2.0
PRODID:https://www.kufer.de/kuferweb / DE
METHOD:PUBLISH
CALSCALE:GREGORIAN
X-WR-TIMEZONE:Europe/Berlin
BEGIN:VTIMEZONE
TZID:Europe/Berlin
X-LIC-LOCATION:Europe/Berlin
BEGIN:DAYLIGHT
TZOFFSETFROM:+0100
TZOFFSETTO:+0200
TZNAME:CEST
DTSTART:19700329T020000
RRULE:FREQ=YEARLY;INTERVAL=1;BYDAY=-1SU;BYMONTH=3
END:DAYLIGHT
BEGIN:STANDARD
TZOFFSETFROM:+0200
TZOFFSETTO:+0100
TZNAME:CET
DTSTART:19701025T030000
RRULE:FREQ=YEARLY;INTERVAL=1;BYDAY=-1SU;BYMONTH=10
END:STANDARD
END:VTIMEZONE
BEGIN:VEVENT
DTSTAMP:20260421T142105
DTSTART;TZID=Europe/Berlin:20260922T193000
DTEND;TZID=Europe/Berlin:20260922T204500
UID:W32872010-20260922T193000@VHSBÖBLINGEN-SINDELFINGEN
SUMMARY:Tai Chi Chuan für Fortgeschrittene / Wiedereinsteiger (W32872010) 
LOCATION:Stifts, vhs.Konf.raum, Böblinger Str. 24, 71065 Sindelfingen
END:VEVENT
BEGIN:VEVENT
DTSTAMP:20260421T142105
DTSTART;TZID=Europe/Berlin:20260929T193000
DTEND;TZID=Europe/Berlin:20260929T204500
UID:W32872010-20260929T193000@VHSBÖBLINGEN-SINDELFINGEN
SUMMARY:Tai Chi Chuan für Fortgeschrittene / Wiedereinsteiger (W32872010) 
LOCATION:Stifts, vhs.Konf.raum, Böblinger Str. 24, 71065 Sindelfingen
END:VEVENT
BEGIN:VEVENT
DTSTAMP:20260421T142105
DTSTART;TZID=Europe/Berlin:20261006T193000
DTEND;TZID=Europe/Berlin:20261006T204500
UID:W32872010-20261006T193000@VHSBÖBLINGEN-SINDELFINGEN
SUMMARY:Tai Chi Chuan für Fortgeschrittene / Wiedereinsteiger (W32872010) 
LOCATION:Stifts, vhs.Konf.raum, Böblinger Str. 24, 71065 Sindelfingen
END:VEVENT
BEGIN:VEVENT
DTSTAMP:20260421T142105
DTSTART;TZID=Europe/Berlin:20261013T193000
DTEND;TZID=Europe/Berlin:20261013T204500
UID:W32872010-20261013T193000@VHSBÖBLINGEN-SINDELFINGEN
SUMMARY:Tai Chi Chuan für Fortgeschrittene / Wiedereinsteiger (W32872010) 
LOCATION:Stifts, vhs.Konf.raum, Böblinger Str. 24, 71065 Sindelfingen
END:VEVENT
BEGIN:VEVENT
DTSTAMP:20260421T142105
DTSTART;TZID=Europe/Berlin:20261103T193000
DTEND;TZID=Europe/Berlin:20261103T204500
UID:W32872010-20261103T193000@VHSBÖBLINGEN-SINDELFINGEN
SUMMARY:Tai Chi Chuan für Fortgeschrittene / Wiedereinsteiger (W32872010) 
LOCATION:Stifts, vhs.Konf.raum, Böblinger Str. 24, 71065 Sindelfingen
END:VEVENT
BEGIN:VEVENT
DTSTAMP:20260421T142105
DTSTART;TZID=Europe/Berlin:20261110T193000
DTEND;TZID=Europe/Berlin:20261110T204500
UID:W32872010-20261110T193000@VHSBÖBLINGEN-SINDELFINGEN
SUMMARY:Tai Chi Chuan für Fortgeschrittene / Wiedereinsteiger (W32872010) 
LOCATION:Stifts, vhs.Konf.raum, Böblinger Str. 24, 71065 Sindelfingen
END:VEVENT
BEGIN:VEVENT
DTSTAMP:20260421T142105
DTSTART;TZID=Europe/Berlin:20261117T193000
DTEND;TZID=Europe/Berlin:20261117T204500
UID:W32872010-20261117T193000@VHSBÖBLINGEN-SINDELFINGEN
SUMMARY:Tai Chi Chuan für Fortgeschrittene / Wiedereinsteiger (W32872010) 
LOCATION:Stifts, vhs.Konf.raum, Böblinger Str. 24, 71065 Sindelfingen
END:VEVENT
BEGIN:VEVENT
DTSTAMP:20260421T142105
DTSTART;TZID=Europe/Berlin:20261124T193000
DTEND;TZID=Europe/Berlin:20261124T204500
UID:W32872010-20261124T193000@VHSBÖBLINGEN-SINDELFINGEN
SUMMARY:Tai Chi Chuan für Fortgeschrittene / Wiedereinsteiger (W32872010) 
LOCATION:Stifts, vhs.Konf.raum, Böblinger Str. 24, 71065 Sindelfingen
END:VEVENT
BEGIN:VEVENT
DTSTAMP:20260421T142105
DTSTART;TZID=Europe/Berlin:20261201T193000
DTEND;TZID=Europe/Berlin:20261201T204500
UID:W32872010-20261201T193000@VHSBÖBLINGEN-SINDELFINGEN
SUMMARY:Tai Chi Chuan für Fortgeschrittene / Wiedereinsteiger (W32872010) 
LOCATION:Stifts, vhs.Konf.raum, Böblinger Str. 24, 71065 Sindelfingen
END:VEVENT
BEGIN:VEVENT
DTSTAMP:20260421T142105
DTSTART;TZID=Europe/Berlin:20261208T193000
DTEND;TZID=Europe/Berlin:20261208T204500
UID:W32872010-20261208T193000@VHSBÖBLINGEN-SINDELFINGEN
SUMMARY:Tai Chi Chuan für Fortgeschrittene / Wiedereinsteiger (W32872010) 
LOCATION:Stifts, vhs.Konf.raum, Böblinger Str. 24, 71065 Sindelfingen
END:VEVENT
BEGIN:VEVENT
DTSTAMP:20260421T142105
DTSTART;TZID=Europe/Berlin:20261215T193000
DTEND;TZID=Europe/Berlin:20261215T204500
UID:W32872010-20261215T193000@VHSBÖBLINGEN-SINDELFINGEN
SUMMARY:Tai Chi Chuan für Fortgeschrittene / Wiedereinsteiger (W32872010) 
LOCATION:Stifts, vhs.Konf.raum, Böblinger Str. 24, 71065 Sindelfingen
END:VEVENT
BEGIN:VEVENT
DTSTAMP:20260421T142105
DTSTART;TZID=Europe/Berlin:20261222T193000
DTEND;TZID=Europe/Berlin:20261222T204500
UID:W32872010-20261222T193000@VHSBÖBLINGEN-SINDELFINGEN
SUMMARY:Tai Chi Chuan für Fortgeschrittene / Wiedereinsteiger (W32872010) 
LOCATION:Stifts, vhs.Konf.raum, Böblinger Str. 24, 71065 Sindelfingen
END:VEVENT
BEGIN:VEVENT
DTSTAMP:20260421T142105
DTSTART;TZID=Europe/Berlin:20270112T193000
DTEND;TZID=Europe/Berlin:20270112T204500
UID:W32872010-20270112T193000@VHSBÖBLINGEN-SINDELFINGEN
SUMMARY:Tai Chi Chuan für Fortgeschrittene / Wiedereinsteiger (W32872010) 
LOCATION:Stifts, vhs.Konf.raum, Böblinger Str. 24, 71065 Sindelfingen
END:VEVENT
BEGIN:VEVENT
DTSTAMP:20260421T142105
DTSTART;TZID=Europe/Berlin:20270119T193000
DTEND;TZID=Europe/Berlin:20270119T204500
UID:W32872010-20270119T193000@VHSBÖBLINGEN-SINDELFINGEN
SUMMARY:Tai Chi Chuan für Fortgeschrittene / Wiedereinsteiger (W32872010) 
LOCATION:Stifts, vhs.Konf.raum, Böblinger Str. 24, 71065 Sindelfingen
END:VEVENT
END:VCALENDAR