BEGIN:VCALENDAR
VERSION:2.0
PRODID:https://www.kufer.de/kuferweb / DE
METHOD:PUBLISH
CALSCALE:GREGORIAN
X-WR-TIMEZONE:Europe/Berlin
BEGIN:VTIMEZONE
TZID:Europe/Berlin
X-LIC-LOCATION:Europe/Berlin
BEGIN:DAYLIGHT
TZOFFSETFROM:+0100
TZOFFSETTO:+0200
TZNAME:CEST
DTSTART:19700329T020000
RRULE:FREQ=YEARLY;INTERVAL=1;BYDAY=-1SU;BYMONTH=3
END:DAYLIGHT
BEGIN:STANDARD
TZOFFSETFROM:+0200
TZOFFSETTO:+0100
TZNAME:CET
DTSTART:19701025T030000
RRULE:FREQ=YEARLY;INTERVAL=1;BYDAY=-1SU;BYMONTH=10
END:STANDARD
END:VTIMEZONE
BEGIN:VEVENT
DTSTAMP:20260421T071513
DTSTART;TZID=Europe/Berlin:20260922T193000
DTEND;TZID=Europe/Berlin:20260922T210000
UID:W32871010-20260922T193000@VHSBÖBLINGEN-SINDELFINGEN
SUMMARY:Taijiquan Yangstil mit 85 Folgen (W32871010) 
LOCATION:vhs.Werk, Halle 1, Wurmbergstr. 5, 71063 Sindelfingen
END:VEVENT
BEGIN:VEVENT
DTSTAMP:20260421T071513
DTSTART;TZID=Europe/Berlin:20260929T193000
DTEND;TZID=Europe/Berlin:20260929T210000
UID:W32871010-20260929T193000@VHSBÖBLINGEN-SINDELFINGEN
SUMMARY:Taijiquan Yangstil mit 85 Folgen (W32871010) 
LOCATION:vhs.Werk, Halle 1, Wurmbergstr. 5, 71063 Sindelfingen
END:VEVENT
BEGIN:VEVENT
DTSTAMP:20260421T071513
DTSTART;TZID=Europe/Berlin:20261006T193000
DTEND;TZID=Europe/Berlin:20261006T210000
UID:W32871010-20261006T193000@VHSBÖBLINGEN-SINDELFINGEN
SUMMARY:Taijiquan Yangstil mit 85 Folgen (W32871010) 
LOCATION:vhs.Werk, Halle 1, Wurmbergstr. 5, 71063 Sindelfingen
END:VEVENT
BEGIN:VEVENT
DTSTAMP:20260421T071513
DTSTART;TZID=Europe/Berlin:20261013T193000
DTEND;TZID=Europe/Berlin:20261013T210000
UID:W32871010-20261013T193000@VHSBÖBLINGEN-SINDELFINGEN
SUMMARY:Taijiquan Yangstil mit 85 Folgen (W32871010) 
LOCATION:vhs.Werk, Halle 1, Wurmbergstr. 5, 71063 Sindelfingen
END:VEVENT
BEGIN:VEVENT
DTSTAMP:20260421T071513
DTSTART;TZID=Europe/Berlin:20261020T193000
DTEND;TZID=Europe/Berlin:20261020T210000
UID:W32871010-20261020T193000@VHSBÖBLINGEN-SINDELFINGEN
SUMMARY:Taijiquan Yangstil mit 85 Folgen (W32871010) 
LOCATION:vhs.Werk, Halle 1, Wurmbergstr. 5, 71063 Sindelfingen
END:VEVENT
BEGIN:VEVENT
DTSTAMP:20260421T071513
DTSTART;TZID=Europe/Berlin:20261110T193000
DTEND;TZID=Europe/Berlin:20261110T210000
UID:W32871010-20261110T193000@VHSBÖBLINGEN-SINDELFINGEN
SUMMARY:Taijiquan Yangstil mit 85 Folgen (W32871010) 
LOCATION:vhs.Werk, Halle 1, Wurmbergstr. 5, 71063 Sindelfingen
END:VEVENT
BEGIN:VEVENT
DTSTAMP:20260421T071513
DTSTART;TZID=Europe/Berlin:20261117T193000
DTEND;TZID=Europe/Berlin:20261117T210000
UID:W32871010-20261117T193000@VHSBÖBLINGEN-SINDELFINGEN
SUMMARY:Taijiquan Yangstil mit 85 Folgen (W32871010) 
LOCATION:vhs.Werk, Halle 1, Wurmbergstr. 5, 71063 Sindelfingen
END:VEVENT
BEGIN:VEVENT
DTSTAMP:20260421T071513
DTSTART;TZID=Europe/Berlin:20261124T193000
DTEND;TZID=Europe/Berlin:20261124T210000
UID:W32871010-20261124T193000@VHSBÖBLINGEN-SINDELFINGEN
SUMMARY:Taijiquan Yangstil mit 85 Folgen (W32871010) 
LOCATION:vhs.Werk, Halle 1, Wurmbergstr. 5, 71063 Sindelfingen
END:VEVENT
BEGIN:VEVENT
DTSTAMP:20260421T071513
DTSTART;TZID=Europe/Berlin:20261201T193000
DTEND;TZID=Europe/Berlin:20261201T210000
UID:W32871010-20261201T193000@VHSBÖBLINGEN-SINDELFINGEN
SUMMARY:Taijiquan Yangstil mit 85 Folgen (W32871010) 
LOCATION:vhs.Werk, Halle 1, Wurmbergstr. 5, 71063 Sindelfingen
END:VEVENT
BEGIN:VEVENT
DTSTAMP:20260421T071513
DTSTART;TZID=Europe/Berlin:20261208T193000
DTEND;TZID=Europe/Berlin:20261208T210000
UID:W32871010-20261208T193000@VHSBÖBLINGEN-SINDELFINGEN
SUMMARY:Taijiquan Yangstil mit 85 Folgen (W32871010) 
LOCATION:vhs.Werk, Halle 1, Wurmbergstr. 5, 71063 Sindelfingen
END:VEVENT
BEGIN:VEVENT
DTSTAMP:20260421T071513
DTSTART;TZID=Europe/Berlin:20261215T193000
DTEND;TZID=Europe/Berlin:20261215T210000
UID:W32871010-20261215T193000@VHSBÖBLINGEN-SINDELFINGEN
SUMMARY:Taijiquan Yangstil mit 85 Folgen (W32871010) 
LOCATION:vhs.Werk, Halle 1, Wurmbergstr. 5, 71063 Sindelfingen
END:VEVENT
BEGIN:VEVENT
DTSTAMP:20260421T071513
DTSTART;TZID=Europe/Berlin:20261222T193000
DTEND;TZID=Europe/Berlin:20261222T210000
UID:W32871010-20261222T193000@VHSBÖBLINGEN-SINDELFINGEN
SUMMARY:Taijiquan Yangstil mit 85 Folgen (W32871010) 
LOCATION:vhs.Werk, Halle 1, Wurmbergstr. 5, 71063 Sindelfingen
END:VEVENT
BEGIN:VEVENT
DTSTAMP:20260421T071513
DTSTART;TZID=Europe/Berlin:20270119T193000
DTEND;TZID=Europe/Berlin:20270119T210000
UID:W32871010-20270119T193000@VHSBÖBLINGEN-SINDELFINGEN
SUMMARY:Taijiquan Yangstil mit 85 Folgen (W32871010) 
LOCATION:vhs.Werk, Halle 1, Wurmbergstr. 5, 71063 Sindelfingen
END:VEVENT
BEGIN:VEVENT
DTSTAMP:20260421T071513
DTSTART;TZID=Europe/Berlin:20270126T193000
DTEND;TZID=Europe/Berlin:20270126T210000
UID:W32871010-20270126T193000@VHSBÖBLINGEN-SINDELFINGEN
SUMMARY:Taijiquan Yangstil mit 85 Folgen (W32871010) 
LOCATION:vhs.Werk, Halle 1, Wurmbergstr. 5, 71063 Sindelfingen
END:VEVENT
BEGIN:VEVENT
DTSTAMP:20260421T071513
DTSTART;TZID=Europe/Berlin:20270202T193000
DTEND;TZID=Europe/Berlin:20270202T210000
UID:W32871010-20270202T193000@VHSBÖBLINGEN-SINDELFINGEN
SUMMARY:Taijiquan Yangstil mit 85 Folgen (W32871010) 
LOCATION:vhs.Werk, Halle 1, Wurmbergstr. 5, 71063 Sindelfingen
END:VEVENT
END:VCALENDAR