BEGIN:VCALENDAR
VERSION:2.0
PRODID:https://www.kufer.de/kuferweb / DE
METHOD:PUBLISH
CALSCALE:GREGORIAN
X-WR-TIMEZONE:Europe/Berlin
BEGIN:VTIMEZONE
TZID:Europe/Berlin
X-LIC-LOCATION:Europe/Berlin
BEGIN:DAYLIGHT
TZOFFSETFROM:+0100
TZOFFSETTO:+0200
TZNAME:CEST
DTSTART:19700329T020000
RRULE:FREQ=YEARLY;INTERVAL=1;BYDAY=-1SU;BYMONTH=3
END:DAYLIGHT
BEGIN:STANDARD
TZOFFSETFROM:+0200
TZOFFSETTO:+0100
TZNAME:CET
DTSTART:19701025T030000
RRULE:FREQ=YEARLY;INTERVAL=1;BYDAY=-1SU;BYMONTH=10
END:STANDARD
END:VTIMEZONE
BEGIN:VEVENT
DTSTAMP:20260421T144339
DTSTART;TZID=Europe/Berlin:20260921T184500
DTEND;TZID=Europe/Berlin:20260921T200000
UID:W32655215-20260921T184500@VHSBÖBLINGEN-SINDELFINGEN
SUMMARY:Qigong in motion (W32655215) 
LOCATION:EH, Fronäckerschule, Raum 22, Gartenstr. 11, 71139 Ehningen
END:VEVENT
BEGIN:VEVENT
DTSTAMP:20260421T144339
DTSTART;TZID=Europe/Berlin:20260928T184500
DTEND;TZID=Europe/Berlin:20260928T200000
UID:W32655215-20260928T184500@VHSBÖBLINGEN-SINDELFINGEN
SUMMARY:Qigong in motion (W32655215) 
LOCATION:EH, Fronäckerschule, Raum 22, Gartenstr. 11, 71139 Ehningen
END:VEVENT
BEGIN:VEVENT
DTSTAMP:20260421T144339
DTSTART;TZID=Europe/Berlin:20261005T184500
DTEND;TZID=Europe/Berlin:20261005T200000
UID:W32655215-20261005T184500@VHSBÖBLINGEN-SINDELFINGEN
SUMMARY:Qigong in motion (W32655215) 
LOCATION:EH, Fronäckerschule, Raum 22, Gartenstr. 11, 71139 Ehningen
END:VEVENT
BEGIN:VEVENT
DTSTAMP:20260421T144339
DTSTART;TZID=Europe/Berlin:20261012T184500
DTEND;TZID=Europe/Berlin:20261012T200000
UID:W32655215-20261012T184500@VHSBÖBLINGEN-SINDELFINGEN
SUMMARY:Qigong in motion (W32655215) 
LOCATION:EH, Fronäckerschule, Raum 22, Gartenstr. 11, 71139 Ehningen
END:VEVENT
BEGIN:VEVENT
DTSTAMP:20260421T144339
DTSTART;TZID=Europe/Berlin:20261019T184500
DTEND;TZID=Europe/Berlin:20261019T200000
UID:W32655215-20261019T184500@VHSBÖBLINGEN-SINDELFINGEN
SUMMARY:Qigong in motion (W32655215) 
LOCATION:EH, Fronäckerschule, Raum 22, Gartenstr. 11, 71139 Ehningen
END:VEVENT
BEGIN:VEVENT
DTSTAMP:20260421T144339
DTSTART;TZID=Europe/Berlin:20261109T184500
DTEND;TZID=Europe/Berlin:20261109T200000
UID:W32655215-20261109T184500@VHSBÖBLINGEN-SINDELFINGEN
SUMMARY:Qigong in motion (W32655215) 
LOCATION:EH, Fronäckerschule, Raum 22, Gartenstr. 11, 71139 Ehningen
END:VEVENT
BEGIN:VEVENT
DTSTAMP:20260421T144339
DTSTART;TZID=Europe/Berlin:20261116T184500
DTEND;TZID=Europe/Berlin:20261116T200000
UID:W32655215-20261116T184500@VHSBÖBLINGEN-SINDELFINGEN
SUMMARY:Qigong in motion (W32655215) 
LOCATION:EH, Fronäckerschule, Raum 22, Gartenstr. 11, 71139 Ehningen
END:VEVENT
BEGIN:VEVENT
DTSTAMP:20260421T144339
DTSTART;TZID=Europe/Berlin:20261123T184500
DTEND;TZID=Europe/Berlin:20261123T200000
UID:W32655215-20261123T184500@VHSBÖBLINGEN-SINDELFINGEN
SUMMARY:Qigong in motion (W32655215) 
LOCATION:EH, Fronäckerschule, Raum 22, Gartenstr. 11, 71139 Ehningen
END:VEVENT
BEGIN:VEVENT
DTSTAMP:20260421T144339
DTSTART;TZID=Europe/Berlin:20261130T184500
DTEND;TZID=Europe/Berlin:20261130T200000
UID:W32655215-20261130T184500@VHSBÖBLINGEN-SINDELFINGEN
SUMMARY:Qigong in motion (W32655215) 
LOCATION:EH, Fronäckerschule, Raum 22, Gartenstr. 11, 71139 Ehningen
END:VEVENT
BEGIN:VEVENT
DTSTAMP:20260421T144339
DTSTART;TZID=Europe/Berlin:20261207T184500
DTEND;TZID=Europe/Berlin:20261207T200000
UID:W32655215-20261207T184500@VHSBÖBLINGEN-SINDELFINGEN
SUMMARY:Qigong in motion (W32655215) 
LOCATION:EH, Fronäckerschule, Raum 22, Gartenstr. 11, 71139 Ehningen
END:VEVENT
BEGIN:VEVENT
DTSTAMP:20260421T144339
DTSTART;TZID=Europe/Berlin:20261214T184500
DTEND;TZID=Europe/Berlin:20261214T200000
UID:W32655215-20261214T184500@VHSBÖBLINGEN-SINDELFINGEN
SUMMARY:Qigong in motion (W32655215) 
LOCATION:EH, Fronäckerschule, Raum 22, Gartenstr. 11, 71139 Ehningen
END:VEVENT
BEGIN:VEVENT
DTSTAMP:20260421T144339
DTSTART;TZID=Europe/Berlin:20261221T184500
DTEND;TZID=Europe/Berlin:20261221T200000
UID:W32655215-20261221T184500@VHSBÖBLINGEN-SINDELFINGEN
SUMMARY:Qigong in motion (W32655215) 
LOCATION:EH, Fronäckerschule, Raum 22, Gartenstr. 11, 71139 Ehningen
END:VEVENT
BEGIN:VEVENT
DTSTAMP:20260421T144339
DTSTART;TZID=Europe/Berlin:20270118T184500
DTEND;TZID=Europe/Berlin:20270118T200000
UID:W32655215-20270118T184500@VHSBÖBLINGEN-SINDELFINGEN
SUMMARY:Qigong in motion (W32655215) 
LOCATION:EH, Fronäckerschule, Raum 22, Gartenstr. 11, 71139 Ehningen
END:VEVENT
BEGIN:VEVENT
DTSTAMP:20260421T144339
DTSTART;TZID=Europe/Berlin:20270125T184500
DTEND;TZID=Europe/Berlin:20270125T200000
UID:W32655215-20270125T184500@VHSBÖBLINGEN-SINDELFINGEN
SUMMARY:Qigong in motion (W32655215) 
LOCATION:EH, Fronäckerschule, Raum 22, Gartenstr. 11, 71139 Ehningen
END:VEVENT
BEGIN:VEVENT
DTSTAMP:20260421T144339
DTSTART;TZID=Europe/Berlin:20270201T184500
DTEND;TZID=Europe/Berlin:20270201T200000
UID:W32655215-20270201T184500@VHSBÖBLINGEN-SINDELFINGEN
SUMMARY:Qigong in motion (W32655215) 
LOCATION:EH, Fronäckerschule, Raum 22, Gartenstr. 11, 71139 Ehningen
END:VEVENT
END:VCALENDAR