BEGIN:VCALENDAR
VERSION:2.0
PRODID:https://www.kufer.de/kuferweb / DE
METHOD:PUBLISH
CALSCALE:GREGORIAN
X-WR-TIMEZONE:Europe/Berlin
BEGIN:VTIMEZONE
TZID:Europe/Berlin
X-LIC-LOCATION:Europe/Berlin
BEGIN:DAYLIGHT
TZOFFSETFROM:+0100
TZOFFSETTO:+0200
TZNAME:CEST
DTSTART:19700329T020000
RRULE:FREQ=YEARLY;INTERVAL=1;BYDAY=-1SU;BYMONTH=3
END:DAYLIGHT
BEGIN:STANDARD
TZOFFSETFROM:+0200
TZOFFSETTO:+0100
TZNAME:CET
DTSTART:19701025T030000
RRULE:FREQ=YEARLY;INTERVAL=1;BYDAY=-1SU;BYMONTH=10
END:STANDARD
END:VTIMEZONE
BEGIN:VEVENT
DTSTAMP:20260421T194158
DTSTART;TZID=Europe/Berlin:20260923T110000
DTEND;TZID=Europe/Berlin:20260923T120000
UID:W32642629-20260923T110000@VHSBÖBLINGEN-SINDELFINGEN
SUMMARY:Qi Gong (W32642629) 
LOCATION:SC, Altes Schulhaus, Raum 13, Große Gasse 3, 71101 Schönaich
END:VEVENT
BEGIN:VEVENT
DTSTAMP:20260421T194158
DTSTART;TZID=Europe/Berlin:20260930T110000
DTEND;TZID=Europe/Berlin:20260930T120000
UID:W32642629-20260930T110000@VHSBÖBLINGEN-SINDELFINGEN
SUMMARY:Qi Gong (W32642629) 
LOCATION:SC, Altes Schulhaus, Raum 13, Große Gasse 3, 71101 Schönaich
END:VEVENT
BEGIN:VEVENT
DTSTAMP:20260421T194158
DTSTART;TZID=Europe/Berlin:20261007T110000
DTEND;TZID=Europe/Berlin:20261007T120000
UID:W32642629-20261007T110000@VHSBÖBLINGEN-SINDELFINGEN
SUMMARY:Qi Gong (W32642629) 
LOCATION:SC, Altes Schulhaus, Raum 13, Große Gasse 3, 71101 Schönaich
END:VEVENT
BEGIN:VEVENT
DTSTAMP:20260421T194158
DTSTART;TZID=Europe/Berlin:20261014T110000
DTEND;TZID=Europe/Berlin:20261014T120000
UID:W32642629-20261014T110000@VHSBÖBLINGEN-SINDELFINGEN
SUMMARY:Qi Gong (W32642629) 
LOCATION:SC, Altes Schulhaus, Raum 13, Große Gasse 3, 71101 Schönaich
END:VEVENT
BEGIN:VEVENT
DTSTAMP:20260421T194158
DTSTART;TZID=Europe/Berlin:20261021T110000
DTEND;TZID=Europe/Berlin:20261021T120000
UID:W32642629-20261021T110000@VHSBÖBLINGEN-SINDELFINGEN
SUMMARY:Qi Gong (W32642629) 
LOCATION:SC, Altes Schulhaus, Raum 13, Große Gasse 3, 71101 Schönaich
END:VEVENT
BEGIN:VEVENT
DTSTAMP:20260421T194158
DTSTART;TZID=Europe/Berlin:20261111T110000
DTEND;TZID=Europe/Berlin:20261111T120000
UID:W32642629-20261111T110000@VHSBÖBLINGEN-SINDELFINGEN
SUMMARY:Qi Gong (W32642629) 
LOCATION:SC, Altes Schulhaus, Raum 13, Große Gasse 3, 71101 Schönaich
END:VEVENT
BEGIN:VEVENT
DTSTAMP:20260421T194158
DTSTART;TZID=Europe/Berlin:20261118T110000
DTEND;TZID=Europe/Berlin:20261118T120000
UID:W32642629-20261118T110000@VHSBÖBLINGEN-SINDELFINGEN
SUMMARY:Qi Gong (W32642629) 
LOCATION:SC, Altes Schulhaus, Raum 13, Große Gasse 3, 71101 Schönaich
END:VEVENT
BEGIN:VEVENT
DTSTAMP:20260421T194158
DTSTART;TZID=Europe/Berlin:20261125T110000
DTEND;TZID=Europe/Berlin:20261125T120000
UID:W32642629-20261125T110000@VHSBÖBLINGEN-SINDELFINGEN
SUMMARY:Qi Gong (W32642629) 
LOCATION:SC, Altes Schulhaus, Raum 13, Große Gasse 3, 71101 Schönaich
END:VEVENT
BEGIN:VEVENT
DTSTAMP:20260421T194158
DTSTART;TZID=Europe/Berlin:20261202T110000
DTEND;TZID=Europe/Berlin:20261202T120000
UID:W32642629-20261202T110000@VHSBÖBLINGEN-SINDELFINGEN
SUMMARY:Qi Gong (W32642629) 
LOCATION:SC, Altes Schulhaus, Raum 13, Große Gasse 3, 71101 Schönaich
END:VEVENT
BEGIN:VEVENT
DTSTAMP:20260421T194158
DTSTART;TZID=Europe/Berlin:20261209T110000
DTEND;TZID=Europe/Berlin:20261209T120000
UID:W32642629-20261209T110000@VHSBÖBLINGEN-SINDELFINGEN
SUMMARY:Qi Gong (W32642629) 
LOCATION:SC, Altes Schulhaus, Raum 13, Große Gasse 3, 71101 Schönaich
END:VEVENT
BEGIN:VEVENT
DTSTAMP:20260421T194158
DTSTART;TZID=Europe/Berlin:20261216T110000
DTEND;TZID=Europe/Berlin:20261216T120000
UID:W32642629-20261216T110000@VHSBÖBLINGEN-SINDELFINGEN
SUMMARY:Qi Gong (W32642629) 
LOCATION:SC, Altes Schulhaus, Raum 13, Große Gasse 3, 71101 Schönaich
END:VEVENT
BEGIN:VEVENT
DTSTAMP:20260421T194158
DTSTART;TZID=Europe/Berlin:20270120T110000
DTEND;TZID=Europe/Berlin:20270120T120000
UID:W32642629-20270120T110000@VHSBÖBLINGEN-SINDELFINGEN
SUMMARY:Qi Gong (W32642629) 
LOCATION:SC, Altes Schulhaus, Raum 13, Große Gasse 3, 71101 Schönaich
END:VEVENT
BEGIN:VEVENT
DTSTAMP:20260421T194158
DTSTART;TZID=Europe/Berlin:20270127T110000
DTEND;TZID=Europe/Berlin:20270127T120000
UID:W32642629-20270127T110000@VHSBÖBLINGEN-SINDELFINGEN
SUMMARY:Qi Gong (W32642629) 
LOCATION:SC, Altes Schulhaus, Raum 13, Große Gasse 3, 71101 Schönaich
END:VEVENT
END:VCALENDAR