BEGIN:VCALENDAR
VERSION:2.0
PRODID:https://www.kufer.de/kuferweb / DE
METHOD:PUBLISH
CALSCALE:GREGORIAN
X-WR-TIMEZONE:Europe/Berlin
BEGIN:VTIMEZONE
TZID:Europe/Berlin
X-LIC-LOCATION:Europe/Berlin
BEGIN:DAYLIGHT
TZOFFSETFROM:+0100
TZOFFSETTO:+0200
TZNAME:CEST
DTSTART:19700329T020000
RRULE:FREQ=YEARLY;INTERVAL=1;BYDAY=-1SU;BYMONTH=3
END:DAYLIGHT
BEGIN:STANDARD
TZOFFSETFROM:+0200
TZOFFSETTO:+0100
TZNAME:CET
DTSTART:19701025T030000
RRULE:FREQ=YEARLY;INTERVAL=1;BYDAY=-1SU;BYMONTH=10
END:STANDARD
END:VTIMEZONE
BEGIN:VEVENT
DTSTAMP:20260420T145327
DTSTART;TZID=Europe/Berlin:20260923T183000
DTEND;TZID=Europe/Berlin:20260923T193000
UID:W32642024-20260923T183000@VHSBÖBLINGEN-SINDELFINGEN
SUMMARY:Qi Gong (W32642024) 
LOCATION:Bürgerhaus Maichingen, DRK-Raum, Sindelfinger Str. 44, 71069 Sindelfingen
END:VEVENT
BEGIN:VEVENT
DTSTAMP:20260420T145327
DTSTART;TZID=Europe/Berlin:20260930T183000
DTEND;TZID=Europe/Berlin:20260930T193000
UID:W32642024-20260930T183000@VHSBÖBLINGEN-SINDELFINGEN
SUMMARY:Qi Gong (W32642024) 
LOCATION:Bürgerhaus Maichingen, DRK-Raum, Sindelfinger Str. 44, 71069 Sindelfingen
END:VEVENT
BEGIN:VEVENT
DTSTAMP:20260420T145327
DTSTART;TZID=Europe/Berlin:20261007T183000
DTEND;TZID=Europe/Berlin:20261007T193000
UID:W32642024-20261007T183000@VHSBÖBLINGEN-SINDELFINGEN
SUMMARY:Qi Gong (W32642024) 
LOCATION:Bürgerhaus Maichingen, DRK-Raum, Sindelfinger Str. 44, 71069 Sindelfingen
END:VEVENT
BEGIN:VEVENT
DTSTAMP:20260420T145327
DTSTART;TZID=Europe/Berlin:20261014T183000
DTEND;TZID=Europe/Berlin:20261014T193000
UID:W32642024-20261014T183000@VHSBÖBLINGEN-SINDELFINGEN
SUMMARY:Qi Gong (W32642024) 
LOCATION:Bürgerhaus Maichingen, DRK-Raum, Sindelfinger Str. 44, 71069 Sindelfingen
END:VEVENT
BEGIN:VEVENT
DTSTAMP:20260420T145327
DTSTART;TZID=Europe/Berlin:20261021T183000
DTEND;TZID=Europe/Berlin:20261021T193000
UID:W32642024-20261021T183000@VHSBÖBLINGEN-SINDELFINGEN
SUMMARY:Qi Gong (W32642024) 
LOCATION:Bürgerhaus Maichingen, DRK-Raum, Sindelfinger Str. 44, 71069 Sindelfingen
END:VEVENT
BEGIN:VEVENT
DTSTAMP:20260420T145327
DTSTART;TZID=Europe/Berlin:20261104T183000
DTEND;TZID=Europe/Berlin:20261104T193000
UID:W32642024-20261104T183000@VHSBÖBLINGEN-SINDELFINGEN
SUMMARY:Qi Gong (W32642024) 
LOCATION:Bürgerhaus Maichingen, DRK-Raum, Sindelfinger Str. 44, 71069 Sindelfingen
END:VEVENT
BEGIN:VEVENT
DTSTAMP:20260420T145327
DTSTART;TZID=Europe/Berlin:20261111T183000
DTEND;TZID=Europe/Berlin:20261111T193000
UID:W32642024-20261111T183000@VHSBÖBLINGEN-SINDELFINGEN
SUMMARY:Qi Gong (W32642024) 
LOCATION:Bürgerhaus Maichingen, DRK-Raum, Sindelfinger Str. 44, 71069 Sindelfingen
END:VEVENT
BEGIN:VEVENT
DTSTAMP:20260420T145327
DTSTART;TZID=Europe/Berlin:20261118T183000
DTEND;TZID=Europe/Berlin:20261118T193000
UID:W32642024-20261118T183000@VHSBÖBLINGEN-SINDELFINGEN
SUMMARY:Qi Gong (W32642024) 
LOCATION:Bürgerhaus Maichingen, DRK-Raum, Sindelfinger Str. 44, 71069 Sindelfingen
END:VEVENT
BEGIN:VEVENT
DTSTAMP:20260420T145327
DTSTART;TZID=Europe/Berlin:20261125T183000
DTEND;TZID=Europe/Berlin:20261125T193000
UID:W32642024-20261125T183000@VHSBÖBLINGEN-SINDELFINGEN
SUMMARY:Qi Gong (W32642024) 
LOCATION:Bürgerhaus Maichingen, DRK-Raum, Sindelfinger Str. 44, 71069 Sindelfingen
END:VEVENT
BEGIN:VEVENT
DTSTAMP:20260420T145327
DTSTART;TZID=Europe/Berlin:20261202T183000
DTEND;TZID=Europe/Berlin:20261202T193000
UID:W32642024-20261202T183000@VHSBÖBLINGEN-SINDELFINGEN
SUMMARY:Qi Gong (W32642024) 
LOCATION:Bürgerhaus Maichingen, DRK-Raum, Sindelfinger Str. 44, 71069 Sindelfingen
END:VEVENT
BEGIN:VEVENT
DTSTAMP:20260420T145327
DTSTART;TZID=Europe/Berlin:20261209T183000
DTEND;TZID=Europe/Berlin:20261209T193000
UID:W32642024-20261209T183000@VHSBÖBLINGEN-SINDELFINGEN
SUMMARY:Qi Gong (W32642024) 
LOCATION:Bürgerhaus Maichingen, DRK-Raum, Sindelfinger Str. 44, 71069 Sindelfingen
END:VEVENT
END:VCALENDAR