BEGIN:VCALENDAR
VERSION:2.0
PRODID:https://www.kufer.de/kuferweb / DE
METHOD:PUBLISH
CALSCALE:GREGORIAN
X-WR-TIMEZONE:Europe/Berlin
BEGIN:VTIMEZONE
TZID:Europe/Berlin
X-LIC-LOCATION:Europe/Berlin
BEGIN:DAYLIGHT
TZOFFSETFROM:+0100
TZOFFSETTO:+0200
TZNAME:CEST
DTSTART:19700329T020000
RRULE:FREQ=YEARLY;INTERVAL=1;BYDAY=-1SU;BYMONTH=3
END:DAYLIGHT
BEGIN:STANDARD
TZOFFSETFROM:+0200
TZOFFSETTO:+0100
TZNAME:CET
DTSTART:19701025T030000
RRULE:FREQ=YEARLY;INTERVAL=1;BYDAY=-1SU;BYMONTH=10
END:STANDARD
END:VTIMEZONE
BEGIN:VEVENT
DTSTAMP:20260421T144034
DTSTART;TZID=Europe/Berlin:20260921T172000
DTEND;TZID=Europe/Berlin:20260921T182000
UID:W32632218-20260921T172000@VHSBÖBLINGEN-SINDELFINGEN
SUMMARY:Qi Gong (W32632218) 
LOCATION:GR, Grundschule Dätzingen, Turnhalle, Döffinger Str. 55, 71120 Grafenau
END:VEVENT
BEGIN:VEVENT
DTSTAMP:20260421T144034
DTSTART;TZID=Europe/Berlin:20260928T172000
DTEND;TZID=Europe/Berlin:20260928T182000
UID:W32632218-20260928T172000@VHSBÖBLINGEN-SINDELFINGEN
SUMMARY:Qi Gong (W32632218) 
LOCATION:GR, Grundschule Dätzingen, Turnhalle, Döffinger Str. 55, 71120 Grafenau
END:VEVENT
BEGIN:VEVENT
DTSTAMP:20260421T144034
DTSTART;TZID=Europe/Berlin:20261005T172000
DTEND;TZID=Europe/Berlin:20261005T182000
UID:W32632218-20261005T172000@VHSBÖBLINGEN-SINDELFINGEN
SUMMARY:Qi Gong (W32632218) 
LOCATION:GR, Grundschule Dätzingen, Turnhalle, Döffinger Str. 55, 71120 Grafenau
END:VEVENT
BEGIN:VEVENT
DTSTAMP:20260421T144034
DTSTART;TZID=Europe/Berlin:20261012T172000
DTEND;TZID=Europe/Berlin:20261012T182000
UID:W32632218-20261012T172000@VHSBÖBLINGEN-SINDELFINGEN
SUMMARY:Qi Gong (W32632218) 
LOCATION:GR, Grundschule Dätzingen, Turnhalle, Döffinger Str. 55, 71120 Grafenau
END:VEVENT
BEGIN:VEVENT
DTSTAMP:20260421T144034
DTSTART;TZID=Europe/Berlin:20261019T172000
DTEND;TZID=Europe/Berlin:20261019T182000
UID:W32632218-20261019T172000@VHSBÖBLINGEN-SINDELFINGEN
SUMMARY:Qi Gong (W32632218) 
LOCATION:GR, Grundschule Dätzingen, Turnhalle, Döffinger Str. 55, 71120 Grafenau
END:VEVENT
BEGIN:VEVENT
DTSTAMP:20260421T144034
DTSTART;TZID=Europe/Berlin:20261102T172000
DTEND;TZID=Europe/Berlin:20261102T182000
UID:W32632218-20261102T172000@VHSBÖBLINGEN-SINDELFINGEN
SUMMARY:Qi Gong (W32632218) 
LOCATION:GR, Grundschule Dätzingen, Turnhalle, Döffinger Str. 55, 71120 Grafenau
END:VEVENT
BEGIN:VEVENT
DTSTAMP:20260421T144034
DTSTART;TZID=Europe/Berlin:20261109T172000
DTEND;TZID=Europe/Berlin:20261109T182000
UID:W32632218-20261109T172000@VHSBÖBLINGEN-SINDELFINGEN
SUMMARY:Qi Gong (W32632218) 
LOCATION:GR, Grundschule Dätzingen, Turnhalle, Döffinger Str. 55, 71120 Grafenau
END:VEVENT
BEGIN:VEVENT
DTSTAMP:20260421T144034
DTSTART;TZID=Europe/Berlin:20261116T172000
DTEND;TZID=Europe/Berlin:20261116T182000
UID:W32632218-20261116T172000@VHSBÖBLINGEN-SINDELFINGEN
SUMMARY:Qi Gong (W32632218) 
LOCATION:GR, Grundschule Dätzingen, Turnhalle, Döffinger Str. 55, 71120 Grafenau
END:VEVENT
BEGIN:VEVENT
DTSTAMP:20260421T144034
DTSTART;TZID=Europe/Berlin:20261130T172000
DTEND;TZID=Europe/Berlin:20261130T182000
UID:W32632218-20261130T172000@VHSBÖBLINGEN-SINDELFINGEN
SUMMARY:Qi Gong (W32632218) 
LOCATION:GR, Grundschule Dätzingen, Turnhalle, Döffinger Str. 55, 71120 Grafenau
END:VEVENT
BEGIN:VEVENT
DTSTAMP:20260421T144034
DTSTART;TZID=Europe/Berlin:20261207T172000
DTEND;TZID=Europe/Berlin:20261207T182000
UID:W32632218-20261207T172000@VHSBÖBLINGEN-SINDELFINGEN
SUMMARY:Qi Gong (W32632218) 
LOCATION:GR, Grundschule Dätzingen, Turnhalle, Döffinger Str. 55, 71120 Grafenau
END:VEVENT
END:VCALENDAR