BEGIN:VCALENDAR
VERSION:2.0
PRODID:https://www.kufer.de/kuferweb / DE
METHOD:PUBLISH
CALSCALE:GREGORIAN
X-WR-TIMEZONE:Europe/Berlin
BEGIN:VTIMEZONE
TZID:Europe/Berlin
X-LIC-LOCATION:Europe/Berlin
BEGIN:DAYLIGHT
TZOFFSETFROM:+0100
TZOFFSETTO:+0200
TZNAME:CEST
DTSTART:19700329T020000
RRULE:FREQ=YEARLY;INTERVAL=1;BYDAY=-1SU;BYMONTH=3
END:DAYLIGHT
BEGIN:STANDARD
TZOFFSETFROM:+0200
TZOFFSETTO:+0100
TZNAME:CET
DTSTART:19701025T030000
RRULE:FREQ=YEARLY;INTERVAL=1;BYDAY=-1SU;BYMONTH=10
END:STANDARD
END:VTIMEZONE
BEGIN:VEVENT
DTSTAMP:20260422T030153
DTSTART;TZID=Europe/Berlin:20260924T183000
DTEND;TZID=Europe/Berlin:20260924T193000
UID:W32632121-20260924T183000@VHSBÖBLINGEN-SINDELFINGEN
SUMMARY:Qi Gong (W32632121) 
LOCATION:HO, Hülben, Franziska-von-Hohenheim-Haus, Vereinsraum, Crystal-Lake-Str. 2-4, 71088 Holzgerlingen
END:VEVENT
BEGIN:VEVENT
DTSTAMP:20260422T030153
DTSTART;TZID=Europe/Berlin:20261001T183000
DTEND;TZID=Europe/Berlin:20261001T193000
UID:W32632121-20261001T183000@VHSBÖBLINGEN-SINDELFINGEN
SUMMARY:Qi Gong (W32632121) 
LOCATION:HO, Hülben, Franziska-von-Hohenheim-Haus, Vereinsraum, Crystal-Lake-Str. 2-4, 71088 Holzgerlingen
END:VEVENT
BEGIN:VEVENT
DTSTAMP:20260422T030153
DTSTART;TZID=Europe/Berlin:20261008T183000
DTEND;TZID=Europe/Berlin:20261008T193000
UID:W32632121-20261008T183000@VHSBÖBLINGEN-SINDELFINGEN
SUMMARY:Qi Gong (W32632121) 
LOCATION:HO, Hülben, Franziska-von-Hohenheim-Haus, Vereinsraum, Crystal-Lake-Str. 2-4, 71088 Holzgerlingen
END:VEVENT
BEGIN:VEVENT
DTSTAMP:20260422T030153
DTSTART;TZID=Europe/Berlin:20261015T183000
DTEND;TZID=Europe/Berlin:20261015T193000
UID:W32632121-20261015T183000@VHSBÖBLINGEN-SINDELFINGEN
SUMMARY:Qi Gong (W32632121) 
LOCATION:HO, Hülben, Franziska-von-Hohenheim-Haus, Vereinsraum, Crystal-Lake-Str. 2-4, 71088 Holzgerlingen
END:VEVENT
BEGIN:VEVENT
DTSTAMP:20260422T030153
DTSTART;TZID=Europe/Berlin:20261022T183000
DTEND;TZID=Europe/Berlin:20261022T193000
UID:W32632121-20261022T183000@VHSBÖBLINGEN-SINDELFINGEN
SUMMARY:Qi Gong (W32632121) 
LOCATION:HO, Hülben, Franziska-von-Hohenheim-Haus, Vereinsraum, Crystal-Lake-Str. 2-4, 71088 Holzgerlingen
END:VEVENT
BEGIN:VEVENT
DTSTAMP:20260422T030153
DTSTART;TZID=Europe/Berlin:20261112T183000
DTEND;TZID=Europe/Berlin:20261112T193000
UID:W32632121-20261112T183000@VHSBÖBLINGEN-SINDELFINGEN
SUMMARY:Qi Gong (W32632121) 
LOCATION:HO, Hülben, Franziska-von-Hohenheim-Haus, Vereinsraum, Crystal-Lake-Str. 2-4, 71088 Holzgerlingen
END:VEVENT
BEGIN:VEVENT
DTSTAMP:20260422T030153
DTSTART;TZID=Europe/Berlin:20261119T183000
DTEND;TZID=Europe/Berlin:20261119T193000
UID:W32632121-20261119T183000@VHSBÖBLINGEN-SINDELFINGEN
SUMMARY:Qi Gong (W32632121) 
LOCATION:HO, Hülben, Franziska-von-Hohenheim-Haus, Vereinsraum, Crystal-Lake-Str. 2-4, 71088 Holzgerlingen
END:VEVENT
BEGIN:VEVENT
DTSTAMP:20260422T030153
DTSTART;TZID=Europe/Berlin:20261126T183000
DTEND;TZID=Europe/Berlin:20261126T193000
UID:W32632121-20261126T183000@VHSBÖBLINGEN-SINDELFINGEN
SUMMARY:Qi Gong (W32632121) 
LOCATION:HO, Hülben, Franziska-von-Hohenheim-Haus, Vereinsraum, Crystal-Lake-Str. 2-4, 71088 Holzgerlingen
END:VEVENT
BEGIN:VEVENT
DTSTAMP:20260422T030153
DTSTART;TZID=Europe/Berlin:20261203T183000
DTEND;TZID=Europe/Berlin:20261203T193000
UID:W32632121-20261203T183000@VHSBÖBLINGEN-SINDELFINGEN
SUMMARY:Qi Gong (W32632121) 
LOCATION:HO, Hülben, Franziska-von-Hohenheim-Haus, Vereinsraum, Crystal-Lake-Str. 2-4, 71088 Holzgerlingen
END:VEVENT
BEGIN:VEVENT
DTSTAMP:20260422T030153
DTSTART;TZID=Europe/Berlin:20261210T183000
DTEND;TZID=Europe/Berlin:20261210T193000
UID:W32632121-20261210T183000@VHSBÖBLINGEN-SINDELFINGEN
SUMMARY:Qi Gong (W32632121) 
LOCATION:HO, Hülben, Franziska-von-Hohenheim-Haus, Vereinsraum, Crystal-Lake-Str. 2-4, 71088 Holzgerlingen
END:VEVENT
BEGIN:VEVENT
DTSTAMP:20260422T030153
DTSTART;TZID=Europe/Berlin:20261217T183000
DTEND;TZID=Europe/Berlin:20261217T193000
UID:W32632121-20261217T183000@VHSBÖBLINGEN-SINDELFINGEN
SUMMARY:Qi Gong (W32632121) 
LOCATION:HO, Hülben, Franziska-von-Hohenheim-Haus, Vereinsraum, Crystal-Lake-Str. 2-4, 71088 Holzgerlingen
END:VEVENT
BEGIN:VEVENT
DTSTAMP:20260422T030153
DTSTART;TZID=Europe/Berlin:20270121T183000
DTEND;TZID=Europe/Berlin:20270121T193000
UID:W32632121-20270121T183000@VHSBÖBLINGEN-SINDELFINGEN
SUMMARY:Qi Gong (W32632121) 
LOCATION:HO, Hülben, Franziska-von-Hohenheim-Haus, Vereinsraum, Crystal-Lake-Str. 2-4, 71088 Holzgerlingen
END:VEVENT
BEGIN:VEVENT
DTSTAMP:20260422T030153
DTSTART;TZID=Europe/Berlin:20270128T183000
DTEND;TZID=Europe/Berlin:20270128T193000
UID:W32632121-20270128T183000@VHSBÖBLINGEN-SINDELFINGEN
SUMMARY:Qi Gong (W32632121) 
LOCATION:HO, Hülben, Franziska-von-Hohenheim-Haus, Vereinsraum, Crystal-Lake-Str. 2-4, 71088 Holzgerlingen
END:VEVENT
BEGIN:VEVENT
DTSTAMP:20260422T030153
DTSTART;TZID=Europe/Berlin:20270204T183000
DTEND;TZID=Europe/Berlin:20270204T193000
UID:W32632121-20270204T183000@VHSBÖBLINGEN-SINDELFINGEN
SUMMARY:Qi Gong (W32632121) 
LOCATION:HO, Hülben, Franziska-von-Hohenheim-Haus, Vereinsraum, Crystal-Lake-Str. 2-4, 71088 Holzgerlingen
END:VEVENT
END:VCALENDAR