BEGIN:VCALENDAR
VERSION:2.0
PRODID:https://www.kufer.de/kuferweb / DE
METHOD:PUBLISH
CALSCALE:GREGORIAN
X-WR-TIMEZONE:Europe/Berlin
BEGIN:VTIMEZONE
TZID:Europe/Berlin
X-LIC-LOCATION:Europe/Berlin
BEGIN:DAYLIGHT
TZOFFSETFROM:+0100
TZOFFSETTO:+0200
TZNAME:CEST
DTSTART:19700329T020000
RRULE:FREQ=YEARLY;INTERVAL=1;BYDAY=-1SU;BYMONTH=3
END:DAYLIGHT
BEGIN:STANDARD
TZOFFSETFROM:+0200
TZOFFSETTO:+0100
TZNAME:CET
DTSTART:19701025T030000
RRULE:FREQ=YEARLY;INTERVAL=1;BYDAY=-1SU;BYMONTH=10
END:STANDARD
END:VTIMEZONE
BEGIN:VEVENT
DTSTAMP:20260421T070448
DTSTART;TZID=Europe/Berlin:20260921T104500
DTEND;TZID=Europe/Berlin:20260921T114500
UID:W32632024-20260921T104500@VHSBÖBLINGEN-SINDELFINGEN
SUMMARY:Qi Gong (W32632024) 
LOCATION:Bürgerhaus Maichingen, Übungsraum 1, Sindelfinger Str. 44, 71069 Sindelfingen
END:VEVENT
BEGIN:VEVENT
DTSTAMP:20260421T070448
DTSTART;TZID=Europe/Berlin:20260928T104500
DTEND;TZID=Europe/Berlin:20260928T114500
UID:W32632024-20260928T104500@VHSBÖBLINGEN-SINDELFINGEN
SUMMARY:Qi Gong (W32632024) 
LOCATION:Bürgerhaus Maichingen, Übungsraum 1, Sindelfinger Str. 44, 71069 Sindelfingen
END:VEVENT
BEGIN:VEVENT
DTSTAMP:20260421T070448
DTSTART;TZID=Europe/Berlin:20261005T104500
DTEND;TZID=Europe/Berlin:20261005T114500
UID:W32632024-20261005T104500@VHSBÖBLINGEN-SINDELFINGEN
SUMMARY:Qi Gong (W32632024) 
LOCATION:Bürgerhaus Maichingen, Übungsraum 1, Sindelfinger Str. 44, 71069 Sindelfingen
END:VEVENT
BEGIN:VEVENT
DTSTAMP:20260421T070448
DTSTART;TZID=Europe/Berlin:20261012T104500
DTEND;TZID=Europe/Berlin:20261012T114500
UID:W32632024-20261012T104500@VHSBÖBLINGEN-SINDELFINGEN
SUMMARY:Qi Gong (W32632024) 
LOCATION:Bürgerhaus Maichingen, Übungsraum 1, Sindelfinger Str. 44, 71069 Sindelfingen
END:VEVENT
BEGIN:VEVENT
DTSTAMP:20260421T070448
DTSTART;TZID=Europe/Berlin:20261019T104500
DTEND;TZID=Europe/Berlin:20261019T114500
UID:W32632024-20261019T104500@VHSBÖBLINGEN-SINDELFINGEN
SUMMARY:Qi Gong (W32632024) 
LOCATION:Bürgerhaus Maichingen, Übungsraum 1, Sindelfinger Str. 44, 71069 Sindelfingen
END:VEVENT
BEGIN:VEVENT
DTSTAMP:20260421T070448
DTSTART;TZID=Europe/Berlin:20261102T104500
DTEND;TZID=Europe/Berlin:20261102T114500
UID:W32632024-20261102T104500@VHSBÖBLINGEN-SINDELFINGEN
SUMMARY:Qi Gong (W32632024) 
LOCATION:Bürgerhaus Maichingen, Übungsraum 1, Sindelfinger Str. 44, 71069 Sindelfingen
END:VEVENT
BEGIN:VEVENT
DTSTAMP:20260421T070448
DTSTART;TZID=Europe/Berlin:20261109T104500
DTEND;TZID=Europe/Berlin:20261109T114500
UID:W32632024-20261109T104500@VHSBÖBLINGEN-SINDELFINGEN
SUMMARY:Qi Gong (W32632024) 
LOCATION:Bürgerhaus Maichingen, Übungsraum 1, Sindelfinger Str. 44, 71069 Sindelfingen
END:VEVENT
BEGIN:VEVENT
DTSTAMP:20260421T070448
DTSTART;TZID=Europe/Berlin:20261116T104500
DTEND;TZID=Europe/Berlin:20261116T114500
UID:W32632024-20261116T104500@VHSBÖBLINGEN-SINDELFINGEN
SUMMARY:Qi Gong (W32632024) 
LOCATION:Bürgerhaus Maichingen, Übungsraum 1, Sindelfinger Str. 44, 71069 Sindelfingen
END:VEVENT
BEGIN:VEVENT
DTSTAMP:20260421T070448
DTSTART;TZID=Europe/Berlin:20261130T104500
DTEND;TZID=Europe/Berlin:20261130T114500
UID:W32632024-20261130T104500@VHSBÖBLINGEN-SINDELFINGEN
SUMMARY:Qi Gong (W32632024) 
LOCATION:Bürgerhaus Maichingen, Übungsraum 1, Sindelfinger Str. 44, 71069 Sindelfingen
END:VEVENT
BEGIN:VEVENT
DTSTAMP:20260421T070448
DTSTART;TZID=Europe/Berlin:20261207T104500
DTEND;TZID=Europe/Berlin:20261207T114500
UID:W32632024-20261207T104500@VHSBÖBLINGEN-SINDELFINGEN
SUMMARY:Qi Gong (W32632024) 
LOCATION:Bürgerhaus Maichingen, Übungsraum 1, Sindelfinger Str. 44, 71069 Sindelfingen
END:VEVENT
END:VCALENDAR