BEGIN:VCALENDAR
VERSION:2.0
PRODID:https://www.kufer.de/kuferweb / DE
METHOD:PUBLISH
CALSCALE:GREGORIAN
X-WR-TIMEZONE:Europe/Berlin
BEGIN:VTIMEZONE
TZID:Europe/Berlin
X-LIC-LOCATION:Europe/Berlin
BEGIN:DAYLIGHT
TZOFFSETFROM:+0100
TZOFFSETTO:+0200
TZNAME:CEST
DTSTART:19700329T020000
RRULE:FREQ=YEARLY;INTERVAL=1;BYDAY=-1SU;BYMONTH=3
END:DAYLIGHT
BEGIN:STANDARD
TZOFFSETFROM:+0200
TZOFFSETTO:+0100
TZNAME:CET
DTSTART:19701025T030000
RRULE:FREQ=YEARLY;INTERVAL=1;BYDAY=-1SU;BYMONTH=10
END:STANDARD
END:VTIMEZONE
BEGIN:VEVENT
DTSTAMP:20260421T041719
DTSTART;TZID=Europe/Berlin:20260925T100000
DTEND;TZID=Europe/Berlin:20260925T113000
UID:W32631610-20260925T100000@VHSBÖBLINGEN-SINDELFINGEN
SUMMARY:Qi Gong -Tai Chi Chuan für den Rücken (W32631610) 
LOCATION:vhs.Werk, Halle 2, Wurmbergstr. 5, 71063 Sindelfingen
END:VEVENT
BEGIN:VEVENT
DTSTAMP:20260421T041719
DTSTART;TZID=Europe/Berlin:20261002T100000
DTEND;TZID=Europe/Berlin:20261002T113000
UID:W32631610-20261002T100000@VHSBÖBLINGEN-SINDELFINGEN
SUMMARY:Qi Gong -Tai Chi Chuan für den Rücken (W32631610) 
LOCATION:vhs.Werk, Halle 2, Wurmbergstr. 5, 71063 Sindelfingen
END:VEVENT
BEGIN:VEVENT
DTSTAMP:20260421T041719
DTSTART;TZID=Europe/Berlin:20261009T100000
DTEND;TZID=Europe/Berlin:20261009T113000
UID:W32631610-20261009T100000@VHSBÖBLINGEN-SINDELFINGEN
SUMMARY:Qi Gong -Tai Chi Chuan für den Rücken (W32631610) 
LOCATION:vhs.Werk, Halle 2, Wurmbergstr. 5, 71063 Sindelfingen
END:VEVENT
BEGIN:VEVENT
DTSTAMP:20260421T041719
DTSTART;TZID=Europe/Berlin:20261016T100000
DTEND;TZID=Europe/Berlin:20261016T113000
UID:W32631610-20261016T100000@VHSBÖBLINGEN-SINDELFINGEN
SUMMARY:Qi Gong -Tai Chi Chuan für den Rücken (W32631610) 
LOCATION:vhs.Werk, Halle 2, Wurmbergstr. 5, 71063 Sindelfingen
END:VEVENT
BEGIN:VEVENT
DTSTAMP:20260421T041719
DTSTART;TZID=Europe/Berlin:20261023T100000
DTEND;TZID=Europe/Berlin:20261023T113000
UID:W32631610-20261023T100000@VHSBÖBLINGEN-SINDELFINGEN
SUMMARY:Qi Gong -Tai Chi Chuan für den Rücken (W32631610) 
LOCATION:vhs.Werk, Halle 2, Wurmbergstr. 5, 71063 Sindelfingen
END:VEVENT
BEGIN:VEVENT
DTSTAMP:20260421T041719
DTSTART;TZID=Europe/Berlin:20261106T100000
DTEND;TZID=Europe/Berlin:20261106T113000
UID:W32631610-20261106T100000@VHSBÖBLINGEN-SINDELFINGEN
SUMMARY:Qi Gong -Tai Chi Chuan für den Rücken (W32631610) 
LOCATION:vhs.Werk, Halle 2, Wurmbergstr. 5, 71063 Sindelfingen
END:VEVENT
BEGIN:VEVENT
DTSTAMP:20260421T041719
DTSTART;TZID=Europe/Berlin:20261113T100000
DTEND;TZID=Europe/Berlin:20261113T113000
UID:W32631610-20261113T100000@VHSBÖBLINGEN-SINDELFINGEN
SUMMARY:Qi Gong -Tai Chi Chuan für den Rücken (W32631610) 
LOCATION:vhs.Werk, Halle 2, Wurmbergstr. 5, 71063 Sindelfingen
END:VEVENT
BEGIN:VEVENT
DTSTAMP:20260421T041719
DTSTART;TZID=Europe/Berlin:20261120T100000
DTEND;TZID=Europe/Berlin:20261120T113000
UID:W32631610-20261120T100000@VHSBÖBLINGEN-SINDELFINGEN
SUMMARY:Qi Gong -Tai Chi Chuan für den Rücken (W32631610) 
LOCATION:vhs.Werk, Halle 2, Wurmbergstr. 5, 71063 Sindelfingen
END:VEVENT
BEGIN:VEVENT
DTSTAMP:20260421T041719
DTSTART;TZID=Europe/Berlin:20261127T100000
DTEND;TZID=Europe/Berlin:20261127T113000
UID:W32631610-20261127T100000@VHSBÖBLINGEN-SINDELFINGEN
SUMMARY:Qi Gong -Tai Chi Chuan für den Rücken (W32631610) 
LOCATION:vhs.Werk, Halle 2, Wurmbergstr. 5, 71063 Sindelfingen
END:VEVENT
BEGIN:VEVENT
DTSTAMP:20260421T041719
DTSTART;TZID=Europe/Berlin:20261204T100000
DTEND;TZID=Europe/Berlin:20261204T113000
UID:W32631610-20261204T100000@VHSBÖBLINGEN-SINDELFINGEN
SUMMARY:Qi Gong -Tai Chi Chuan für den Rücken (W32631610) 
LOCATION:vhs.Werk, Halle 2, Wurmbergstr. 5, 71063 Sindelfingen
END:VEVENT
BEGIN:VEVENT
DTSTAMP:20260421T041719
DTSTART;TZID=Europe/Berlin:20261211T100000
DTEND;TZID=Europe/Berlin:20261211T113000
UID:W32631610-20261211T100000@VHSBÖBLINGEN-SINDELFINGEN
SUMMARY:Qi Gong -Tai Chi Chuan für den Rücken (W32631610) 
LOCATION:vhs.Werk, Halle 2, Wurmbergstr. 5, 71063 Sindelfingen
END:VEVENT
BEGIN:VEVENT
DTSTAMP:20260421T041719
DTSTART;TZID=Europe/Berlin:20261218T100000
DTEND;TZID=Europe/Berlin:20261218T113000
UID:W32631610-20261218T100000@VHSBÖBLINGEN-SINDELFINGEN
SUMMARY:Qi Gong -Tai Chi Chuan für den Rücken (W32631610) 
LOCATION:vhs.Werk, Halle 2, Wurmbergstr. 5, 71063 Sindelfingen
END:VEVENT
BEGIN:VEVENT
DTSTAMP:20260421T041719
DTSTART;TZID=Europe/Berlin:20270115T100000
DTEND;TZID=Europe/Berlin:20270115T113000
UID:W32631610-20270115T100000@VHSBÖBLINGEN-SINDELFINGEN
SUMMARY:Qi Gong -Tai Chi Chuan für den Rücken (W32631610) 
LOCATION:vhs.Werk, Halle 2, Wurmbergstr. 5, 71063 Sindelfingen
END:VEVENT
BEGIN:VEVENT
DTSTAMP:20260421T041719
DTSTART;TZID=Europe/Berlin:20270122T100000
DTEND;TZID=Europe/Berlin:20270122T113000
UID:W32631610-20270122T100000@VHSBÖBLINGEN-SINDELFINGEN
SUMMARY:Qi Gong -Tai Chi Chuan für den Rücken (W32631610) 
LOCATION:vhs.Werk, Halle 2, Wurmbergstr. 5, 71063 Sindelfingen
END:VEVENT
END:VCALENDAR