BEGIN:VCALENDAR
VERSION:2.0
PRODID:https://www.kufer.de/kuferweb / DE
METHOD:PUBLISH
CALSCALE:GREGORIAN
X-WR-TIMEZONE:Europe/Berlin
BEGIN:VTIMEZONE
TZID:Europe/Berlin
X-LIC-LOCATION:Europe/Berlin
BEGIN:DAYLIGHT
TZOFFSETFROM:+0100
TZOFFSETTO:+0200
TZNAME:CEST
DTSTART:19700329T020000
RRULE:FREQ=YEARLY;INTERVAL=1;BYDAY=-1SU;BYMONTH=3
END:DAYLIGHT
BEGIN:STANDARD
TZOFFSETFROM:+0200
TZOFFSETTO:+0100
TZNAME:CET
DTSTART:19701025T030000
RRULE:FREQ=YEARLY;INTERVAL=1;BYDAY=-1SU;BYMONTH=10
END:STANDARD
END:VTIMEZONE
BEGIN:VEVENT
DTSTAMP:20260421T153509
DTSTART;TZID=Europe/Berlin:20260917T190500
DTEND;TZID=Europe/Berlin:20260917T200500
UID:W32579921-20260917T190500@VHSBÖBLINGEN-SINDELFINGEN
SUMMARY:Vinyasa Yoga (W32579921) 
LOCATION:HO, Grund- und Werkrealschule, Gymnastikpavillon, Berkenstr. 18, 71088 Holzgerlingen
END:VEVENT
BEGIN:VEVENT
DTSTAMP:20260421T153509
DTSTART;TZID=Europe/Berlin:20260924T190500
DTEND;TZID=Europe/Berlin:20260924T200500
UID:W32579921-20260924T190500@VHSBÖBLINGEN-SINDELFINGEN
SUMMARY:Vinyasa Yoga (W32579921) 
LOCATION:HO, Grund- und Werkrealschule, Gymnastikpavillon, Berkenstr. 18, 71088 Holzgerlingen
END:VEVENT
BEGIN:VEVENT
DTSTAMP:20260421T153509
DTSTART;TZID=Europe/Berlin:20261001T190500
DTEND;TZID=Europe/Berlin:20261001T200500
UID:W32579921-20261001T190500@VHSBÖBLINGEN-SINDELFINGEN
SUMMARY:Vinyasa Yoga (W32579921) 
LOCATION:HO, Grund- und Werkrealschule, Gymnastikpavillon, Berkenstr. 18, 71088 Holzgerlingen
END:VEVENT
BEGIN:VEVENT
DTSTAMP:20260421T153509
DTSTART;TZID=Europe/Berlin:20261008T190500
DTEND;TZID=Europe/Berlin:20261008T200500
UID:W32579921-20261008T190500@VHSBÖBLINGEN-SINDELFINGEN
SUMMARY:Vinyasa Yoga (W32579921) 
LOCATION:HO, Grund- und Werkrealschule, Gymnastikpavillon, Berkenstr. 18, 71088 Holzgerlingen
END:VEVENT
BEGIN:VEVENT
DTSTAMP:20260421T153509
DTSTART;TZID=Europe/Berlin:20261015T190500
DTEND;TZID=Europe/Berlin:20261015T200500
UID:W32579921-20261015T190500@VHSBÖBLINGEN-SINDELFINGEN
SUMMARY:Vinyasa Yoga (W32579921) 
LOCATION:HO, Grund- und Werkrealschule, Gymnastikpavillon, Berkenstr. 18, 71088 Holzgerlingen
END:VEVENT
BEGIN:VEVENT
DTSTAMP:20260421T153509
DTSTART;TZID=Europe/Berlin:20261022T190500
DTEND;TZID=Europe/Berlin:20261022T200500
UID:W32579921-20261022T190500@VHSBÖBLINGEN-SINDELFINGEN
SUMMARY:Vinyasa Yoga (W32579921) 
LOCATION:HO, Grund- und Werkrealschule, Gymnastikpavillon, Berkenstr. 18, 71088 Holzgerlingen
END:VEVENT
BEGIN:VEVENT
DTSTAMP:20260421T153509
DTSTART;TZID=Europe/Berlin:20261105T190500
DTEND;TZID=Europe/Berlin:20261105T200500
UID:W32579921-20261105T190500@VHSBÖBLINGEN-SINDELFINGEN
SUMMARY:Vinyasa Yoga (W32579921) 
LOCATION:HO, Grund- und Werkrealschule, Gymnastikpavillon, Berkenstr. 18, 71088 Holzgerlingen
END:VEVENT
BEGIN:VEVENT
DTSTAMP:20260421T153509
DTSTART;TZID=Europe/Berlin:20261112T190500
DTEND;TZID=Europe/Berlin:20261112T200500
UID:W32579921-20261112T190500@VHSBÖBLINGEN-SINDELFINGEN
SUMMARY:Vinyasa Yoga (W32579921) 
LOCATION:HO, Grund- und Werkrealschule, Gymnastikpavillon, Berkenstr. 18, 71088 Holzgerlingen
END:VEVENT
BEGIN:VEVENT
DTSTAMP:20260421T153509
DTSTART;TZID=Europe/Berlin:20261119T190500
DTEND;TZID=Europe/Berlin:20261119T200500
UID:W32579921-20261119T190500@VHSBÖBLINGEN-SINDELFINGEN
SUMMARY:Vinyasa Yoga (W32579921) 
LOCATION:HO, Grund- und Werkrealschule, Gymnastikpavillon, Berkenstr. 18, 71088 Holzgerlingen
END:VEVENT
BEGIN:VEVENT
DTSTAMP:20260421T153509
DTSTART;TZID=Europe/Berlin:20261126T190500
DTEND;TZID=Europe/Berlin:20261126T200500
UID:W32579921-20261126T190500@VHSBÖBLINGEN-SINDELFINGEN
SUMMARY:Vinyasa Yoga (W32579921) 
LOCATION:HO, Grund- und Werkrealschule, Gymnastikpavillon, Berkenstr. 18, 71088 Holzgerlingen
END:VEVENT
BEGIN:VEVENT
DTSTAMP:20260421T153509
DTSTART;TZID=Europe/Berlin:20261203T190500
DTEND;TZID=Europe/Berlin:20261203T200500
UID:W32579921-20261203T190500@VHSBÖBLINGEN-SINDELFINGEN
SUMMARY:Vinyasa Yoga (W32579921) 
LOCATION:HO, Grund- und Werkrealschule, Gymnastikpavillon, Berkenstr. 18, 71088 Holzgerlingen
END:VEVENT
BEGIN:VEVENT
DTSTAMP:20260421T153509
DTSTART;TZID=Europe/Berlin:20261210T190500
DTEND;TZID=Europe/Berlin:20261210T200500
UID:W32579921-20261210T190500@VHSBÖBLINGEN-SINDELFINGEN
SUMMARY:Vinyasa Yoga (W32579921) 
LOCATION:HO, Grund- und Werkrealschule, Gymnastikpavillon, Berkenstr. 18, 71088 Holzgerlingen
END:VEVENT
BEGIN:VEVENT
DTSTAMP:20260421T153509
DTSTART;TZID=Europe/Berlin:20261217T190500
DTEND;TZID=Europe/Berlin:20261217T200500
UID:W32579921-20261217T190500@VHSBÖBLINGEN-SINDELFINGEN
SUMMARY:Vinyasa Yoga (W32579921) 
LOCATION:HO, Grund- und Werkrealschule, Gymnastikpavillon, Berkenstr. 18, 71088 Holzgerlingen
END:VEVENT
BEGIN:VEVENT
DTSTAMP:20260421T153509
DTSTART;TZID=Europe/Berlin:20270114T190500
DTEND;TZID=Europe/Berlin:20270114T200500
UID:W32579921-20270114T190500@VHSBÖBLINGEN-SINDELFINGEN
SUMMARY:Vinyasa Yoga (W32579921) 
LOCATION:HO, Grund- und Werkrealschule, Gymnastikpavillon, Berkenstr. 18, 71088 Holzgerlingen
END:VEVENT
BEGIN:VEVENT
DTSTAMP:20260421T153509
DTSTART;TZID=Europe/Berlin:20270121T190500
DTEND;TZID=Europe/Berlin:20270121T200500
UID:W32579921-20270121T190500@VHSBÖBLINGEN-SINDELFINGEN
SUMMARY:Vinyasa Yoga (W32579921) 
LOCATION:HO, Grund- und Werkrealschule, Gymnastikpavillon, Berkenstr. 18, 71088 Holzgerlingen
END:VEVENT
BEGIN:VEVENT
DTSTAMP:20260421T153509
DTSTART;TZID=Europe/Berlin:20270128T190500
DTEND;TZID=Europe/Berlin:20270128T200500
UID:W32579921-20270128T190500@VHSBÖBLINGEN-SINDELFINGEN
SUMMARY:Vinyasa Yoga (W32579921) 
LOCATION:HO, Grund- und Werkrealschule, Gymnastikpavillon, Berkenstr. 18, 71088 Holzgerlingen
END:VEVENT
BEGIN:VEVENT
DTSTAMP:20260421T153509
DTSTART;TZID=Europe/Berlin:20270204T190500
DTEND;TZID=Europe/Berlin:20270204T200500
UID:W32579921-20270204T190500@VHSBÖBLINGEN-SINDELFINGEN
SUMMARY:Vinyasa Yoga (W32579921) 
LOCATION:HO, Grund- und Werkrealschule, Gymnastikpavillon, Berkenstr. 18, 71088 Holzgerlingen
END:VEVENT
END:VCALENDAR