BEGIN:VCALENDAR
VERSION:2.0
PRODID:https://www.kufer.de/kuferweb / DE
METHOD:PUBLISH
CALSCALE:GREGORIAN
X-WR-TIMEZONE:Europe/Berlin
BEGIN:VTIMEZONE
TZID:Europe/Berlin
X-LIC-LOCATION:Europe/Berlin
BEGIN:DAYLIGHT
TZOFFSETFROM:+0100
TZOFFSETTO:+0200
TZNAME:CEST
DTSTART:19700329T020000
RRULE:FREQ=YEARLY;INTERVAL=1;BYDAY=-1SU;BYMONTH=3
END:DAYLIGHT
BEGIN:STANDARD
TZOFFSETFROM:+0200
TZOFFSETTO:+0100
TZNAME:CET
DTSTART:19701025T030000
RRULE:FREQ=YEARLY;INTERVAL=1;BYDAY=-1SU;BYMONTH=10
END:STANDARD
END:VTIMEZONE
BEGIN:VEVENT
DTSTAMP:20260421T042028
DTSTART;TZID=Europe/Berlin:20260923T182000
DTEND;TZID=Europe/Berlin:20260923T192000
UID:W32579621-20260923T182000@VHSBÖBLINGEN-SINDELFINGEN
SUMMARY:Vinyasa Yoga (W32579621) 
LOCATION:HO, Rektor-Franke-Haus, Saal, Böblinger Str. 28, 71088 Holzgerlingen
END:VEVENT
BEGIN:VEVENT
DTSTAMP:20260421T042028
DTSTART;TZID=Europe/Berlin:20260930T182000
DTEND;TZID=Europe/Berlin:20260930T192000
UID:W32579621-20260930T182000@VHSBÖBLINGEN-SINDELFINGEN
SUMMARY:Vinyasa Yoga (W32579621) 
LOCATION:HO, Rektor-Franke-Haus, Saal, Böblinger Str. 28, 71088 Holzgerlingen
END:VEVENT
BEGIN:VEVENT
DTSTAMP:20260421T042028
DTSTART;TZID=Europe/Berlin:20261007T182000
DTEND;TZID=Europe/Berlin:20261007T192000
UID:W32579621-20261007T182000@VHSBÖBLINGEN-SINDELFINGEN
SUMMARY:Vinyasa Yoga (W32579621) 
LOCATION:HO, Rektor-Franke-Haus, Saal, Böblinger Str. 28, 71088 Holzgerlingen
END:VEVENT
BEGIN:VEVENT
DTSTAMP:20260421T042028
DTSTART;TZID=Europe/Berlin:20261014T182000
DTEND;TZID=Europe/Berlin:20261014T192000
UID:W32579621-20261014T182000@VHSBÖBLINGEN-SINDELFINGEN
SUMMARY:Vinyasa Yoga (W32579621) 
LOCATION:HO, Rektor-Franke-Haus, Saal, Böblinger Str. 28, 71088 Holzgerlingen
END:VEVENT
BEGIN:VEVENT
DTSTAMP:20260421T042028
DTSTART;TZID=Europe/Berlin:20261021T182000
DTEND;TZID=Europe/Berlin:20261021T192000
UID:W32579621-20261021T182000@VHSBÖBLINGEN-SINDELFINGEN
SUMMARY:Vinyasa Yoga (W32579621) 
LOCATION:HO, Rektor-Franke-Haus, Saal, Böblinger Str. 28, 71088 Holzgerlingen
END:VEVENT
BEGIN:VEVENT
DTSTAMP:20260421T042028
DTSTART;TZID=Europe/Berlin:20261104T182000
DTEND;TZID=Europe/Berlin:20261104T192000
UID:W32579621-20261104T182000@VHSBÖBLINGEN-SINDELFINGEN
SUMMARY:Vinyasa Yoga (W32579621) 
LOCATION:HO, Rektor-Franke-Haus, Saal, Böblinger Str. 28, 71088 Holzgerlingen
END:VEVENT
BEGIN:VEVENT
DTSTAMP:20260421T042028
DTSTART;TZID=Europe/Berlin:20261111T182000
DTEND;TZID=Europe/Berlin:20261111T192000
UID:W32579621-20261111T182000@VHSBÖBLINGEN-SINDELFINGEN
SUMMARY:Vinyasa Yoga (W32579621) 
LOCATION:HO, Rektor-Franke-Haus, Saal, Böblinger Str. 28, 71088 Holzgerlingen
END:VEVENT
BEGIN:VEVENT
DTSTAMP:20260421T042028
DTSTART;TZID=Europe/Berlin:20261118T182000
DTEND;TZID=Europe/Berlin:20261118T192000
UID:W32579621-20261118T182000@VHSBÖBLINGEN-SINDELFINGEN
SUMMARY:Vinyasa Yoga (W32579621) 
LOCATION:HO, Rektor-Franke-Haus, Saal, Böblinger Str. 28, 71088 Holzgerlingen
END:VEVENT
BEGIN:VEVENT
DTSTAMP:20260421T042028
DTSTART;TZID=Europe/Berlin:20261125T182000
DTEND;TZID=Europe/Berlin:20261125T192000
UID:W32579621-20261125T182000@VHSBÖBLINGEN-SINDELFINGEN
SUMMARY:Vinyasa Yoga (W32579621) 
LOCATION:HO, Rektor-Franke-Haus, Saal, Böblinger Str. 28, 71088 Holzgerlingen
END:VEVENT
BEGIN:VEVENT
DTSTAMP:20260421T042028
DTSTART;TZID=Europe/Berlin:20261202T182000
DTEND;TZID=Europe/Berlin:20261202T192000
UID:W32579621-20261202T182000@VHSBÖBLINGEN-SINDELFINGEN
SUMMARY:Vinyasa Yoga (W32579621) 
LOCATION:HO, Rektor-Franke-Haus, Saal, Böblinger Str. 28, 71088 Holzgerlingen
END:VEVENT
BEGIN:VEVENT
DTSTAMP:20260421T042028
DTSTART;TZID=Europe/Berlin:20261209T182000
DTEND;TZID=Europe/Berlin:20261209T192000
UID:W32579621-20261209T182000@VHSBÖBLINGEN-SINDELFINGEN
SUMMARY:Vinyasa Yoga (W32579621) 
LOCATION:HO, Rektor-Franke-Haus, Saal, Böblinger Str. 28, 71088 Holzgerlingen
END:VEVENT
BEGIN:VEVENT
DTSTAMP:20260421T042028
DTSTART;TZID=Europe/Berlin:20261216T182000
DTEND;TZID=Europe/Berlin:20261216T192000
UID:W32579621-20261216T182000@VHSBÖBLINGEN-SINDELFINGEN
SUMMARY:Vinyasa Yoga (W32579621) 
LOCATION:HO, Rektor-Franke-Haus, Saal, Böblinger Str. 28, 71088 Holzgerlingen
END:VEVENT
BEGIN:VEVENT
DTSTAMP:20260421T042028
DTSTART;TZID=Europe/Berlin:20270113T182000
DTEND;TZID=Europe/Berlin:20270113T192000
UID:W32579621-20270113T182000@VHSBÖBLINGEN-SINDELFINGEN
SUMMARY:Vinyasa Yoga (W32579621) 
LOCATION:HO, Rektor-Franke-Haus, Saal, Böblinger Str. 28, 71088 Holzgerlingen
END:VEVENT
BEGIN:VEVENT
DTSTAMP:20260421T042028
DTSTART;TZID=Europe/Berlin:20270120T182000
DTEND;TZID=Europe/Berlin:20270120T192000
UID:W32579621-20270120T182000@VHSBÖBLINGEN-SINDELFINGEN
SUMMARY:Vinyasa Yoga (W32579621) 
LOCATION:HO, Rektor-Franke-Haus, Saal, Böblinger Str. 28, 71088 Holzgerlingen
END:VEVENT
END:VCALENDAR