BEGIN:VCALENDAR
VERSION:2.0
PRODID:https://www.kufer.de/kuferweb / DE
METHOD:PUBLISH
CALSCALE:GREGORIAN
X-WR-TIMEZONE:Europe/Berlin
BEGIN:VTIMEZONE
TZID:Europe/Berlin
X-LIC-LOCATION:Europe/Berlin
BEGIN:DAYLIGHT
TZOFFSETFROM:+0100
TZOFFSETTO:+0200
TZNAME:CEST
DTSTART:19700329T020000
RRULE:FREQ=YEARLY;INTERVAL=1;BYDAY=-1SU;BYMONTH=3
END:DAYLIGHT
BEGIN:STANDARD
TZOFFSETFROM:+0200
TZOFFSETTO:+0100
TZNAME:CET
DTSTART:19701025T030000
RRULE:FREQ=YEARLY;INTERVAL=1;BYDAY=-1SU;BYMONTH=10
END:STANDARD
END:VTIMEZONE
BEGIN:VEVENT
DTSTAMP:20260420T214337
DTSTART;TZID=Europe/Berlin:20260921T183000
DTEND;TZID=Europe/Berlin:20260921T200000
UID:W32579510-20260921T183000@VHSBÖBLINGEN-SINDELFINGEN
SUMMARY:Vinyasa Yoga (W32579510) 
LOCATION:Höfle, Saal, 107, 1. OG, Pestalozzistr. 4, 71032 Böblingen
END:VEVENT
BEGIN:VEVENT
DTSTAMP:20260420T214337
DTSTART;TZID=Europe/Berlin:20260928T183000
DTEND;TZID=Europe/Berlin:20260928T200000
UID:W32579510-20260928T183000@VHSBÖBLINGEN-SINDELFINGEN
SUMMARY:Vinyasa Yoga (W32579510) 
LOCATION:Höfle, Saal, 107, 1. OG, Pestalozzistr. 4, 71032 Böblingen
END:VEVENT
BEGIN:VEVENT
DTSTAMP:20260420T214337
DTSTART;TZID=Europe/Berlin:20261102T183000
DTEND;TZID=Europe/Berlin:20261102T200000
UID:W32579510-20261102T183000@VHSBÖBLINGEN-SINDELFINGEN
SUMMARY:Vinyasa Yoga (W32579510) 
LOCATION:Höfle, Saal, 107, 1. OG, Pestalozzistr. 4, 71032 Böblingen
END:VEVENT
BEGIN:VEVENT
DTSTAMP:20260420T214337
DTSTART;TZID=Europe/Berlin:20261116T183000
DTEND;TZID=Europe/Berlin:20261116T200000
UID:W32579510-20261116T183000@VHSBÖBLINGEN-SINDELFINGEN
SUMMARY:Vinyasa Yoga (W32579510) 
LOCATION:Höfle, Saal, 107, 1. OG, Pestalozzistr. 4, 71032 Böblingen
END:VEVENT
BEGIN:VEVENT
DTSTAMP:20260420T214337
DTSTART;TZID=Europe/Berlin:20261123T183000
DTEND;TZID=Europe/Berlin:20261123T200000
UID:W32579510-20261123T183000@VHSBÖBLINGEN-SINDELFINGEN
SUMMARY:Vinyasa Yoga (W32579510) 
LOCATION:Höfle, Saal, 107, 1. OG, Pestalozzistr. 4, 71032 Böblingen
END:VEVENT
BEGIN:VEVENT
DTSTAMP:20260420T214337
DTSTART;TZID=Europe/Berlin:20261130T183000
DTEND;TZID=Europe/Berlin:20261130T200000
UID:W32579510-20261130T183000@VHSBÖBLINGEN-SINDELFINGEN
SUMMARY:Vinyasa Yoga (W32579510) 
LOCATION:Höfle, Saal, 107, 1. OG, Pestalozzistr. 4, 71032 Böblingen
END:VEVENT
BEGIN:VEVENT
DTSTAMP:20260420T214337
DTSTART;TZID=Europe/Berlin:20261207T183000
DTEND;TZID=Europe/Berlin:20261207T200000
UID:W32579510-20261207T183000@VHSBÖBLINGEN-SINDELFINGEN
SUMMARY:Vinyasa Yoga (W32579510) 
LOCATION:Höfle, Saal, 107, 1. OG, Pestalozzistr. 4, 71032 Böblingen
END:VEVENT
BEGIN:VEVENT
DTSTAMP:20260420T214337
DTSTART;TZID=Europe/Berlin:20261214T183000
DTEND;TZID=Europe/Berlin:20261214T200000
UID:W32579510-20261214T183000@VHSBÖBLINGEN-SINDELFINGEN
SUMMARY:Vinyasa Yoga (W32579510) 
LOCATION:Höfle, Saal, 107, 1. OG, Pestalozzistr. 4, 71032 Böblingen
END:VEVENT
BEGIN:VEVENT
DTSTAMP:20260420T214337
DTSTART;TZID=Europe/Berlin:20261221T183000
DTEND;TZID=Europe/Berlin:20261221T200000
UID:W32579510-20261221T183000@VHSBÖBLINGEN-SINDELFINGEN
SUMMARY:Vinyasa Yoga (W32579510) 
LOCATION:Höfle, Saal, 107, 1. OG, Pestalozzistr. 4, 71032 Böblingen
END:VEVENT
BEGIN:VEVENT
DTSTAMP:20260420T214337
DTSTART;TZID=Europe/Berlin:20270111T183000
DTEND;TZID=Europe/Berlin:20270111T200000
UID:W32579510-20270111T183000@VHSBÖBLINGEN-SINDELFINGEN
SUMMARY:Vinyasa Yoga (W32579510) 
LOCATION:Höfle, Saal, 107, 1. OG, Pestalozzistr. 4, 71032 Böblingen
END:VEVENT
BEGIN:VEVENT
DTSTAMP:20260420T214337
DTSTART;TZID=Europe/Berlin:20270118T183000
DTEND;TZID=Europe/Berlin:20270118T200000
UID:W32579510-20270118T183000@VHSBÖBLINGEN-SINDELFINGEN
SUMMARY:Vinyasa Yoga (W32579510) 
LOCATION:Höfle, Saal, 107, 1. OG, Pestalozzistr. 4, 71032 Böblingen
END:VEVENT
BEGIN:VEVENT
DTSTAMP:20260420T214337
DTSTART;TZID=Europe/Berlin:20270125T183000
DTEND;TZID=Europe/Berlin:20270125T200000
UID:W32579510-20270125T183000@VHSBÖBLINGEN-SINDELFINGEN
SUMMARY:Vinyasa Yoga (W32579510) 
LOCATION:Höfle, Saal, 107, 1. OG, Pestalozzistr. 4, 71032 Böblingen
END:VEVENT
BEGIN:VEVENT
DTSTAMP:20260420T214337
DTSTART;TZID=Europe/Berlin:20270201T183000
DTEND;TZID=Europe/Berlin:20270201T200000
UID:W32579510-20270201T183000@VHSBÖBLINGEN-SINDELFINGEN
SUMMARY:Vinyasa Yoga (W32579510) 
LOCATION:Höfle, Saal, 107, 1. OG, Pestalozzistr. 4, 71032 Böblingen
END:VEVENT
END:VCALENDAR