BEGIN:VCALENDAR
VERSION:2.0
PRODID:https://www.kufer.de/kuferweb / DE
METHOD:PUBLISH
CALSCALE:GREGORIAN
X-WR-TIMEZONE:Europe/Berlin
BEGIN:VTIMEZONE
TZID:Europe/Berlin
X-LIC-LOCATION:Europe/Berlin
BEGIN:DAYLIGHT
TZOFFSETFROM:+0100
TZOFFSETTO:+0200
TZNAME:CEST
DTSTART:19700329T020000
RRULE:FREQ=YEARLY;INTERVAL=1;BYDAY=-1SU;BYMONTH=3
END:DAYLIGHT
BEGIN:STANDARD
TZOFFSETFROM:+0200
TZOFFSETTO:+0100
TZNAME:CET
DTSTART:19701025T030000
RRULE:FREQ=YEARLY;INTERVAL=1;BYDAY=-1SU;BYMONTH=10
END:STANDARD
END:VTIMEZONE
BEGIN:VEVENT
DTSTAMP:20260421T073324
DTSTART;TZID=Europe/Berlin:20260921T180000
DTEND;TZID=Europe/Berlin:20260921T193000
UID:W32579111-20260921T180000@VHSBÖBLINGEN-SINDELFINGEN
SUMMARY:Vinyasa Yoga (W32579111) 
LOCATION:AI, Buchhaldenhalle, Gymnastikraum, Buchhaldenstr. 4, 71134 Aidlingen
END:VEVENT
BEGIN:VEVENT
DTSTAMP:20260421T073324
DTSTART;TZID=Europe/Berlin:20260928T180000
DTEND;TZID=Europe/Berlin:20260928T193000
UID:W32579111-20260928T180000@VHSBÖBLINGEN-SINDELFINGEN
SUMMARY:Vinyasa Yoga (W32579111) 
LOCATION:AI, Buchhaldenhalle, Gymnastikraum, Buchhaldenstr. 4, 71134 Aidlingen
END:VEVENT
BEGIN:VEVENT
DTSTAMP:20260421T073324
DTSTART;TZID=Europe/Berlin:20261005T180000
DTEND;TZID=Europe/Berlin:20261005T193000
UID:W32579111-20261005T180000@VHSBÖBLINGEN-SINDELFINGEN
SUMMARY:Vinyasa Yoga (W32579111) 
LOCATION:AI, Buchhaldenhalle, Gymnastikraum, Buchhaldenstr. 4, 71134 Aidlingen
END:VEVENT
BEGIN:VEVENT
DTSTAMP:20260421T073324
DTSTART;TZID=Europe/Berlin:20261012T180000
DTEND;TZID=Europe/Berlin:20261012T193000
UID:W32579111-20261012T180000@VHSBÖBLINGEN-SINDELFINGEN
SUMMARY:Vinyasa Yoga (W32579111) 
LOCATION:AI, Buchhaldenhalle, Gymnastikraum, Buchhaldenstr. 4, 71134 Aidlingen
END:VEVENT
BEGIN:VEVENT
DTSTAMP:20260421T073324
DTSTART;TZID=Europe/Berlin:20261019T180000
DTEND;TZID=Europe/Berlin:20261019T193000
UID:W32579111-20261019T180000@VHSBÖBLINGEN-SINDELFINGEN
SUMMARY:Vinyasa Yoga (W32579111) 
LOCATION:AI, Buchhaldenhalle, Gymnastikraum, Buchhaldenstr. 4, 71134 Aidlingen
END:VEVENT
BEGIN:VEVENT
DTSTAMP:20260421T073324
DTSTART;TZID=Europe/Berlin:20261102T180000
DTEND;TZID=Europe/Berlin:20261102T193000
UID:W32579111-20261102T180000@VHSBÖBLINGEN-SINDELFINGEN
SUMMARY:Vinyasa Yoga (W32579111) 
LOCATION:AI, Buchhaldenhalle, Gymnastikraum, Buchhaldenstr. 4, 71134 Aidlingen
END:VEVENT
BEGIN:VEVENT
DTSTAMP:20260421T073324
DTSTART;TZID=Europe/Berlin:20261109T180000
DTEND;TZID=Europe/Berlin:20261109T193000
UID:W32579111-20261109T180000@VHSBÖBLINGEN-SINDELFINGEN
SUMMARY:Vinyasa Yoga (W32579111) 
LOCATION:AI, Buchhaldenhalle, Gymnastikraum, Buchhaldenstr. 4, 71134 Aidlingen
END:VEVENT
BEGIN:VEVENT
DTSTAMP:20260421T073324
DTSTART;TZID=Europe/Berlin:20261116T180000
DTEND;TZID=Europe/Berlin:20261116T193000
UID:W32579111-20261116T180000@VHSBÖBLINGEN-SINDELFINGEN
SUMMARY:Vinyasa Yoga (W32579111) 
LOCATION:AI, Buchhaldenhalle, Gymnastikraum, Buchhaldenstr. 4, 71134 Aidlingen
END:VEVENT
BEGIN:VEVENT
DTSTAMP:20260421T073324
DTSTART;TZID=Europe/Berlin:20261123T180000
DTEND;TZID=Europe/Berlin:20261123T193000
UID:W32579111-20261123T180000@VHSBÖBLINGEN-SINDELFINGEN
SUMMARY:Vinyasa Yoga (W32579111) 
LOCATION:AI, Buchhaldenhalle, Gymnastikraum, Buchhaldenstr. 4, 71134 Aidlingen
END:VEVENT
BEGIN:VEVENT
DTSTAMP:20260421T073324
DTSTART;TZID=Europe/Berlin:20261130T180000
DTEND;TZID=Europe/Berlin:20261130T193000
UID:W32579111-20261130T180000@VHSBÖBLINGEN-SINDELFINGEN
SUMMARY:Vinyasa Yoga (W32579111) 
LOCATION:AI, Buchhaldenhalle, Gymnastikraum, Buchhaldenstr. 4, 71134 Aidlingen
END:VEVENT
BEGIN:VEVENT
DTSTAMP:20260421T073324
DTSTART;TZID=Europe/Berlin:20261207T180000
DTEND;TZID=Europe/Berlin:20261207T193000
UID:W32579111-20261207T180000@VHSBÖBLINGEN-SINDELFINGEN
SUMMARY:Vinyasa Yoga (W32579111) 
LOCATION:AI, Buchhaldenhalle, Gymnastikraum, Buchhaldenstr. 4, 71134 Aidlingen
END:VEVENT
BEGIN:VEVENT
DTSTAMP:20260421T073324
DTSTART;TZID=Europe/Berlin:20261214T180000
DTEND;TZID=Europe/Berlin:20261214T193000
UID:W32579111-20261214T180000@VHSBÖBLINGEN-SINDELFINGEN
SUMMARY:Vinyasa Yoga (W32579111) 
LOCATION:AI, Buchhaldenhalle, Gymnastikraum, Buchhaldenstr. 4, 71134 Aidlingen
END:VEVENT
BEGIN:VEVENT
DTSTAMP:20260421T073324
DTSTART;TZID=Europe/Berlin:20261221T180000
DTEND;TZID=Europe/Berlin:20261221T193000
UID:W32579111-20261221T180000@VHSBÖBLINGEN-SINDELFINGEN
SUMMARY:Vinyasa Yoga (W32579111) 
LOCATION:AI, Buchhaldenhalle, Gymnastikraum, Buchhaldenstr. 4, 71134 Aidlingen
END:VEVENT
BEGIN:VEVENT
DTSTAMP:20260421T073324
DTSTART;TZID=Europe/Berlin:20270111T180000
DTEND;TZID=Europe/Berlin:20270111T193000
UID:W32579111-20270111T180000@VHSBÖBLINGEN-SINDELFINGEN
SUMMARY:Vinyasa Yoga (W32579111) 
LOCATION:AI, Buchhaldenhalle, Gymnastikraum, Buchhaldenstr. 4, 71134 Aidlingen
END:VEVENT
BEGIN:VEVENT
DTSTAMP:20260421T073324
DTSTART;TZID=Europe/Berlin:20270118T180000
DTEND;TZID=Europe/Berlin:20270118T193000
UID:W32579111-20270118T180000@VHSBÖBLINGEN-SINDELFINGEN
SUMMARY:Vinyasa Yoga (W32579111) 
LOCATION:AI, Buchhaldenhalle, Gymnastikraum, Buchhaldenstr. 4, 71134 Aidlingen
END:VEVENT
BEGIN:VEVENT
DTSTAMP:20260421T073324
DTSTART;TZID=Europe/Berlin:20270125T180000
DTEND;TZID=Europe/Berlin:20270125T193000
UID:W32579111-20270125T180000@VHSBÖBLINGEN-SINDELFINGEN
SUMMARY:Vinyasa Yoga (W32579111) 
LOCATION:AI, Buchhaldenhalle, Gymnastikraum, Buchhaldenstr. 4, 71134 Aidlingen
END:VEVENT
BEGIN:VEVENT
DTSTAMP:20260421T073324
DTSTART;TZID=Europe/Berlin:20270201T180000
DTEND;TZID=Europe/Berlin:20270201T193000
UID:W32579111-20270201T180000@VHSBÖBLINGEN-SINDELFINGEN
SUMMARY:Vinyasa Yoga (W32579111) 
LOCATION:AI, Buchhaldenhalle, Gymnastikraum, Buchhaldenstr. 4, 71134 Aidlingen
END:VEVENT
END:VCALENDAR