BEGIN:VCALENDAR
VERSION:2.0
PRODID:https://www.kufer.de/kuferweb / DE
METHOD:PUBLISH
CALSCALE:GREGORIAN
X-WR-TIMEZONE:Europe/Berlin
BEGIN:VTIMEZONE
TZID:Europe/Berlin
X-LIC-LOCATION:Europe/Berlin
BEGIN:DAYLIGHT
TZOFFSETFROM:+0100
TZOFFSETTO:+0200
TZNAME:CEST
DTSTART:19700329T020000
RRULE:FREQ=YEARLY;INTERVAL=1;BYDAY=-1SU;BYMONTH=3
END:DAYLIGHT
BEGIN:STANDARD
TZOFFSETFROM:+0200
TZOFFSETTO:+0100
TZNAME:CET
DTSTART:19701025T030000
RRULE:FREQ=YEARLY;INTERVAL=1;BYDAY=-1SU;BYMONTH=10
END:STANDARD
END:VTIMEZONE
BEGIN:VEVENT
DTSTAMP:20260421T023639
DTSTART;TZID=Europe/Berlin:20260914T090000
DTEND;TZID=Europe/Berlin:20260914T100000
UID:W32576621-20260914T090000@VHSBÖBLINGEN-SINDELFINGEN
SUMMARY:Yoga-Mit Achtsamkeit in die Woche Ruhige Yogapraxis für Senioren ab 60 (W32576621) 
LOCATION:HO, Grund- und Werkrealschule, Gymnastikpavillon, Berkenstr. 18, 71088 Holzgerlingen
END:VEVENT
BEGIN:VEVENT
DTSTAMP:20260421T023639
DTSTART;TZID=Europe/Berlin:20260928T090000
DTEND;TZID=Europe/Berlin:20260928T100000
UID:W32576621-20260928T090000@VHSBÖBLINGEN-SINDELFINGEN
SUMMARY:Yoga-Mit Achtsamkeit in die Woche Ruhige Yogapraxis für Senioren ab 60 (W32576621) 
LOCATION:HO, Grund- und Werkrealschule, Gymnastikpavillon, Berkenstr. 18, 71088 Holzgerlingen
END:VEVENT
BEGIN:VEVENT
DTSTAMP:20260421T023639
DTSTART;TZID=Europe/Berlin:20261012T090000
DTEND;TZID=Europe/Berlin:20261012T100000
UID:W32576621-20261012T090000@VHSBÖBLINGEN-SINDELFINGEN
SUMMARY:Yoga-Mit Achtsamkeit in die Woche Ruhige Yogapraxis für Senioren ab 60 (W32576621) 
LOCATION:HO, Grund- und Werkrealschule, Gymnastikpavillon, Berkenstr. 18, 71088 Holzgerlingen
END:VEVENT
BEGIN:VEVENT
DTSTAMP:20260421T023639
DTSTART;TZID=Europe/Berlin:20261109T090000
DTEND;TZID=Europe/Berlin:20261109T100000
UID:W32576621-20261109T090000@VHSBÖBLINGEN-SINDELFINGEN
SUMMARY:Yoga-Mit Achtsamkeit in die Woche Ruhige Yogapraxis für Senioren ab 60 (W32576621) 
LOCATION:HO, Grund- und Werkrealschule, Gymnastikpavillon, Berkenstr. 18, 71088 Holzgerlingen
END:VEVENT
BEGIN:VEVENT
DTSTAMP:20260421T023639
DTSTART;TZID=Europe/Berlin:20261123T090000
DTEND;TZID=Europe/Berlin:20261123T100000
UID:W32576621-20261123T090000@VHSBÖBLINGEN-SINDELFINGEN
SUMMARY:Yoga-Mit Achtsamkeit in die Woche Ruhige Yogapraxis für Senioren ab 60 (W32576621) 
LOCATION:HO, Grund- und Werkrealschule, Gymnastikpavillon, Berkenstr. 18, 71088 Holzgerlingen
END:VEVENT
BEGIN:VEVENT
DTSTAMP:20260421T023639
DTSTART;TZID=Europe/Berlin:20261207T090000
DTEND;TZID=Europe/Berlin:20261207T100000
UID:W32576621-20261207T090000@VHSBÖBLINGEN-SINDELFINGEN
SUMMARY:Yoga-Mit Achtsamkeit in die Woche Ruhige Yogapraxis für Senioren ab 60 (W32576621) 
LOCATION:HO, Grund- und Werkrealschule, Gymnastikpavillon, Berkenstr. 18, 71088 Holzgerlingen
END:VEVENT
END:VCALENDAR