BEGIN:VCALENDAR
VERSION:2.0
PRODID:https://www.kufer.de/kuferweb / DE
METHOD:PUBLISH
CALSCALE:GREGORIAN
X-WR-TIMEZONE:Europe/Berlin
BEGIN:VTIMEZONE
TZID:Europe/Berlin
X-LIC-LOCATION:Europe/Berlin
BEGIN:DAYLIGHT
TZOFFSETFROM:+0100
TZOFFSETTO:+0200
TZNAME:CEST
DTSTART:19700329T020000
RRULE:FREQ=YEARLY;INTERVAL=1;BYDAY=-1SU;BYMONTH=3
END:DAYLIGHT
BEGIN:STANDARD
TZOFFSETFROM:+0200
TZOFFSETTO:+0100
TZNAME:CET
DTSTART:19701025T030000
RRULE:FREQ=YEARLY;INTERVAL=1;BYDAY=-1SU;BYMONTH=10
END:STANDARD
END:VTIMEZONE
BEGIN:VEVENT
DTSTAMP:20260422T065845
DTSTART;TZID=Europe/Berlin:20260917T150000
DTEND;TZID=Europe/Berlin:20260917T160000
UID:W32566915-20260917T150000@VHSBÖBLINGEN-SINDELFINGEN
SUMMARY:Yoga (W32566915) 
LOCATION:EH, Sportzentrum Schalkwiese Halle 2, G1, Hildrizhauser Str. 80, 71139 Ehningen
END:VEVENT
BEGIN:VEVENT
DTSTAMP:20260422T065845
DTSTART;TZID=Europe/Berlin:20260924T150000
DTEND;TZID=Europe/Berlin:20260924T160000
UID:W32566915-20260924T150000@VHSBÖBLINGEN-SINDELFINGEN
SUMMARY:Yoga (W32566915) 
LOCATION:EH, Sportzentrum Schalkwiese Halle 2, G1, Hildrizhauser Str. 80, 71139 Ehningen
END:VEVENT
BEGIN:VEVENT
DTSTAMP:20260422T065845
DTSTART;TZID=Europe/Berlin:20261001T150000
DTEND;TZID=Europe/Berlin:20261001T160000
UID:W32566915-20261001T150000@VHSBÖBLINGEN-SINDELFINGEN
SUMMARY:Yoga (W32566915) 
LOCATION:EH, Sportzentrum Schalkwiese Halle 2, G1, Hildrizhauser Str. 80, 71139 Ehningen
END:VEVENT
BEGIN:VEVENT
DTSTAMP:20260422T065845
DTSTART;TZID=Europe/Berlin:20261008T150000
DTEND;TZID=Europe/Berlin:20261008T160000
UID:W32566915-20261008T150000@VHSBÖBLINGEN-SINDELFINGEN
SUMMARY:Yoga (W32566915) 
LOCATION:EH, Sportzentrum Schalkwiese Halle 2, G1, Hildrizhauser Str. 80, 71139 Ehningen
END:VEVENT
BEGIN:VEVENT
DTSTAMP:20260422T065845
DTSTART;TZID=Europe/Berlin:20261015T150000
DTEND;TZID=Europe/Berlin:20261015T160000
UID:W32566915-20261015T150000@VHSBÖBLINGEN-SINDELFINGEN
SUMMARY:Yoga (W32566915) 
LOCATION:EH, Sportzentrum Schalkwiese Halle 2, G1, Hildrizhauser Str. 80, 71139 Ehningen
END:VEVENT
BEGIN:VEVENT
DTSTAMP:20260422T065845
DTSTART;TZID=Europe/Berlin:20261022T150000
DTEND;TZID=Europe/Berlin:20261022T160000
UID:W32566915-20261022T150000@VHSBÖBLINGEN-SINDELFINGEN
SUMMARY:Yoga (W32566915) 
LOCATION:EH, Sportzentrum Schalkwiese Halle 2, G1, Hildrizhauser Str. 80, 71139 Ehningen
END:VEVENT
BEGIN:VEVENT
DTSTAMP:20260422T065845
DTSTART;TZID=Europe/Berlin:20261105T150000
DTEND;TZID=Europe/Berlin:20261105T160000
UID:W32566915-20261105T150000@VHSBÖBLINGEN-SINDELFINGEN
SUMMARY:Yoga (W32566915) 
LOCATION:EH, Sportzentrum Schalkwiese Halle 2, G1, Hildrizhauser Str. 80, 71139 Ehningen
END:VEVENT
BEGIN:VEVENT
DTSTAMP:20260422T065845
DTSTART;TZID=Europe/Berlin:20261112T150000
DTEND;TZID=Europe/Berlin:20261112T160000
UID:W32566915-20261112T150000@VHSBÖBLINGEN-SINDELFINGEN
SUMMARY:Yoga (W32566915) 
LOCATION:EH, Sportzentrum Schalkwiese Halle 2, G1, Hildrizhauser Str. 80, 71139 Ehningen
END:VEVENT
BEGIN:VEVENT
DTSTAMP:20260422T065845
DTSTART;TZID=Europe/Berlin:20261119T150000
DTEND;TZID=Europe/Berlin:20261119T160000
UID:W32566915-20261119T150000@VHSBÖBLINGEN-SINDELFINGEN
SUMMARY:Yoga (W32566915) 
LOCATION:EH, Sportzentrum Schalkwiese Halle 2, G1, Hildrizhauser Str. 80, 71139 Ehningen
END:VEVENT
BEGIN:VEVENT
DTSTAMP:20260422T065845
DTSTART;TZID=Europe/Berlin:20261126T150000
DTEND;TZID=Europe/Berlin:20261126T160000
UID:W32566915-20261126T150000@VHSBÖBLINGEN-SINDELFINGEN
SUMMARY:Yoga (W32566915) 
LOCATION:EH, Sportzentrum Schalkwiese Halle 2, G1, Hildrizhauser Str. 80, 71139 Ehningen
END:VEVENT
BEGIN:VEVENT
DTSTAMP:20260422T065845
DTSTART;TZID=Europe/Berlin:20261203T150000
DTEND;TZID=Europe/Berlin:20261203T160000
UID:W32566915-20261203T150000@VHSBÖBLINGEN-SINDELFINGEN
SUMMARY:Yoga (W32566915) 
LOCATION:EH, Sportzentrum Schalkwiese Halle 2, G1, Hildrizhauser Str. 80, 71139 Ehningen
END:VEVENT
BEGIN:VEVENT
DTSTAMP:20260422T065845
DTSTART;TZID=Europe/Berlin:20261210T150000
DTEND;TZID=Europe/Berlin:20261210T160000
UID:W32566915-20261210T150000@VHSBÖBLINGEN-SINDELFINGEN
SUMMARY:Yoga (W32566915) 
LOCATION:EH, Sportzentrum Schalkwiese Halle 2, G1, Hildrizhauser Str. 80, 71139 Ehningen
END:VEVENT
BEGIN:VEVENT
DTSTAMP:20260422T065845
DTSTART;TZID=Europe/Berlin:20261217T150000
DTEND;TZID=Europe/Berlin:20261217T160000
UID:W32566915-20261217T150000@VHSBÖBLINGEN-SINDELFINGEN
SUMMARY:Yoga (W32566915) 
LOCATION:EH, Sportzentrum Schalkwiese Halle 2, G1, Hildrizhauser Str. 80, 71139 Ehningen
END:VEVENT
BEGIN:VEVENT
DTSTAMP:20260422T065845
DTSTART;TZID=Europe/Berlin:20270114T150000
DTEND;TZID=Europe/Berlin:20270114T160000
UID:W32566915-20270114T150000@VHSBÖBLINGEN-SINDELFINGEN
SUMMARY:Yoga (W32566915) 
LOCATION:EH, Sportzentrum Schalkwiese Halle 2, G1, Hildrizhauser Str. 80, 71139 Ehningen
END:VEVENT
BEGIN:VEVENT
DTSTAMP:20260422T065845
DTSTART;TZID=Europe/Berlin:20270121T150000
DTEND;TZID=Europe/Berlin:20270121T160000
UID:W32566915-20270121T150000@VHSBÖBLINGEN-SINDELFINGEN
SUMMARY:Yoga (W32566915) 
LOCATION:EH, Sportzentrum Schalkwiese Halle 2, G1, Hildrizhauser Str. 80, 71139 Ehningen
END:VEVENT
BEGIN:VEVENT
DTSTAMP:20260422T065845
DTSTART;TZID=Europe/Berlin:20270128T150000
DTEND;TZID=Europe/Berlin:20270128T160000
UID:W32566915-20270128T150000@VHSBÖBLINGEN-SINDELFINGEN
SUMMARY:Yoga (W32566915) 
LOCATION:EH, Sportzentrum Schalkwiese Halle 2, G1, Hildrizhauser Str. 80, 71139 Ehningen
END:VEVENT
BEGIN:VEVENT
DTSTAMP:20260422T065845
DTSTART;TZID=Europe/Berlin:20270204T150000
DTEND;TZID=Europe/Berlin:20270204T160000
UID:W32566915-20270204T150000@VHSBÖBLINGEN-SINDELFINGEN
SUMMARY:Yoga (W32566915) 
LOCATION:EH, Sportzentrum Schalkwiese Halle 2, G1, Hildrizhauser Str. 80, 71139 Ehningen
END:VEVENT
END:VCALENDAR