BEGIN:VCALENDAR
VERSION:2.0
PRODID:https://www.kufer.de/kuferweb / DE
METHOD:PUBLISH
CALSCALE:GREGORIAN
X-WR-TIMEZONE:Europe/Berlin
BEGIN:VTIMEZONE
TZID:Europe/Berlin
X-LIC-LOCATION:Europe/Berlin
BEGIN:DAYLIGHT
TZOFFSETFROM:+0100
TZOFFSETTO:+0200
TZNAME:CEST
DTSTART:19700329T020000
RRULE:FREQ=YEARLY;INTERVAL=1;BYDAY=-1SU;BYMONTH=3
END:DAYLIGHT
BEGIN:STANDARD
TZOFFSETFROM:+0200
TZOFFSETTO:+0100
TZNAME:CET
DTSTART:19701025T030000
RRULE:FREQ=YEARLY;INTERVAL=1;BYDAY=-1SU;BYMONTH=10
END:STANDARD
END:VTIMEZONE
BEGIN:VEVENT
DTSTAMP:20260421T161022
DTSTART;TZID=Europe/Berlin:20260921T190000
DTEND;TZID=Europe/Berlin:20260921T201500
UID:W32559731-20260921T190000@VHSBÖBLINGEN-SINDELFINGEN
SUMMARY:Hatha Yoga (W32559731) 
LOCATION:ST, Bürgerhaus, Bürgersaal, Stuttgarter Straße 7, 71144 Steinenbronn
END:VEVENT
BEGIN:VEVENT
DTSTAMP:20260421T161022
DTSTART;TZID=Europe/Berlin:20260928T190000
DTEND;TZID=Europe/Berlin:20260928T201500
UID:W32559731-20260928T190000@VHSBÖBLINGEN-SINDELFINGEN
SUMMARY:Hatha Yoga (W32559731) 
LOCATION:ST, Bürgerhaus, Bürgersaal, Stuttgarter Straße 7, 71144 Steinenbronn
END:VEVENT
BEGIN:VEVENT
DTSTAMP:20260421T161022
DTSTART;TZID=Europe/Berlin:20261005T190000
DTEND;TZID=Europe/Berlin:20261005T201500
UID:W32559731-20261005T190000@VHSBÖBLINGEN-SINDELFINGEN
SUMMARY:Hatha Yoga (W32559731) 
LOCATION:ST, Bürgerhaus, Bürgersaal, Stuttgarter Straße 7, 71144 Steinenbronn
END:VEVENT
BEGIN:VEVENT
DTSTAMP:20260421T161022
DTSTART;TZID=Europe/Berlin:20261012T190000
DTEND;TZID=Europe/Berlin:20261012T201500
UID:W32559731-20261012T190000@VHSBÖBLINGEN-SINDELFINGEN
SUMMARY:Hatha Yoga (W32559731) 
LOCATION:ST, Bürgerhaus, Bürgersaal, Stuttgarter Straße 7, 71144 Steinenbronn
END:VEVENT
BEGIN:VEVENT
DTSTAMP:20260421T161022
DTSTART;TZID=Europe/Berlin:20261019T190000
DTEND;TZID=Europe/Berlin:20261019T201500
UID:W32559731-20261019T190000@VHSBÖBLINGEN-SINDELFINGEN
SUMMARY:Hatha Yoga (W32559731) 
LOCATION:ST, Bürgerhaus, Bürgersaal, Stuttgarter Straße 7, 71144 Steinenbronn
END:VEVENT
BEGIN:VEVENT
DTSTAMP:20260421T161022
DTSTART;TZID=Europe/Berlin:20261102T190000
DTEND;TZID=Europe/Berlin:20261102T201500
UID:W32559731-20261102T190000@VHSBÖBLINGEN-SINDELFINGEN
SUMMARY:Hatha Yoga (W32559731) 
LOCATION:ST, Bürgerhaus, Bürgersaal, Stuttgarter Straße 7, 71144 Steinenbronn
END:VEVENT
BEGIN:VEVENT
DTSTAMP:20260421T161022
DTSTART;TZID=Europe/Berlin:20261109T190000
DTEND;TZID=Europe/Berlin:20261109T201500
UID:W32559731-20261109T190000@VHSBÖBLINGEN-SINDELFINGEN
SUMMARY:Hatha Yoga (W32559731) 
LOCATION:ST, Bürgerhaus, Bürgersaal, Stuttgarter Straße 7, 71144 Steinenbronn
END:VEVENT
BEGIN:VEVENT
DTSTAMP:20260421T161022
DTSTART;TZID=Europe/Berlin:20261116T190000
DTEND;TZID=Europe/Berlin:20261116T201500
UID:W32559731-20261116T190000@VHSBÖBLINGEN-SINDELFINGEN
SUMMARY:Hatha Yoga (W32559731) 
LOCATION:ST, Bürgerhaus, Bürgersaal, Stuttgarter Straße 7, 71144 Steinenbronn
END:VEVENT
BEGIN:VEVENT
DTSTAMP:20260421T161022
DTSTART;TZID=Europe/Berlin:20261123T190000
DTEND;TZID=Europe/Berlin:20261123T201500
UID:W32559731-20261123T190000@VHSBÖBLINGEN-SINDELFINGEN
SUMMARY:Hatha Yoga (W32559731) 
LOCATION:ST, Bürgerhaus, Bürgersaal, Stuttgarter Straße 7, 71144 Steinenbronn
END:VEVENT
BEGIN:VEVENT
DTSTAMP:20260421T161022
DTSTART;TZID=Europe/Berlin:20261130T190000
DTEND;TZID=Europe/Berlin:20261130T201500
UID:W32559731-20261130T190000@VHSBÖBLINGEN-SINDELFINGEN
SUMMARY:Hatha Yoga (W32559731) 
LOCATION:ST, Bürgerhaus, Bürgersaal, Stuttgarter Straße 7, 71144 Steinenbronn
END:VEVENT
BEGIN:VEVENT
DTSTAMP:20260421T161022
DTSTART;TZID=Europe/Berlin:20261207T190000
DTEND;TZID=Europe/Berlin:20261207T201500
UID:W32559731-20261207T190000@VHSBÖBLINGEN-SINDELFINGEN
SUMMARY:Hatha Yoga (W32559731) 
LOCATION:ST, Bürgerhaus, Bürgersaal, Stuttgarter Straße 7, 71144 Steinenbronn
END:VEVENT
BEGIN:VEVENT
DTSTAMP:20260421T161022
DTSTART;TZID=Europe/Berlin:20270111T190000
DTEND;TZID=Europe/Berlin:20270111T201500
UID:W32559731-20270111T190000@VHSBÖBLINGEN-SINDELFINGEN
SUMMARY:Hatha Yoga (W32559731) 
LOCATION:ST, Bürgerhaus, Bürgersaal, Stuttgarter Straße 7, 71144 Steinenbronn
END:VEVENT
BEGIN:VEVENT
DTSTAMP:20260421T161022
DTSTART;TZID=Europe/Berlin:20270118T190000
DTEND;TZID=Europe/Berlin:20270118T201500
UID:W32559731-20270118T190000@VHSBÖBLINGEN-SINDELFINGEN
SUMMARY:Hatha Yoga (W32559731) 
LOCATION:ST, Bürgerhaus, Bürgersaal, Stuttgarter Straße 7, 71144 Steinenbronn
END:VEVENT
BEGIN:VEVENT
DTSTAMP:20260421T161022
DTSTART;TZID=Europe/Berlin:20270125T190000
DTEND;TZID=Europe/Berlin:20270125T201500
UID:W32559731-20270125T190000@VHSBÖBLINGEN-SINDELFINGEN
SUMMARY:Hatha Yoga (W32559731) 
LOCATION:ST, Bürgerhaus, Bürgersaal, Stuttgarter Straße 7, 71144 Steinenbronn
END:VEVENT
BEGIN:VEVENT
DTSTAMP:20260421T161022
DTSTART;TZID=Europe/Berlin:20270201T190000
DTEND;TZID=Europe/Berlin:20270201T201500
UID:W32559731-20270201T190000@VHSBÖBLINGEN-SINDELFINGEN
SUMMARY:Hatha Yoga (W32559731) 
LOCATION:ST, Bürgerhaus, Bürgersaal, Stuttgarter Straße 7, 71144 Steinenbronn
END:VEVENT
END:VCALENDAR