BEGIN:VCALENDAR
VERSION:2.0
PRODID:https://www.kufer.de/kuferweb / DE
METHOD:PUBLISH
CALSCALE:GREGORIAN
X-WR-TIMEZONE:Europe/Berlin
BEGIN:VTIMEZONE
TZID:Europe/Berlin
X-LIC-LOCATION:Europe/Berlin
BEGIN:DAYLIGHT
TZOFFSETFROM:+0100
TZOFFSETTO:+0200
TZNAME:CEST
DTSTART:19700329T020000
RRULE:FREQ=YEARLY;INTERVAL=1;BYDAY=-1SU;BYMONTH=3
END:DAYLIGHT
BEGIN:STANDARD
TZOFFSETFROM:+0200
TZOFFSETTO:+0100
TZNAME:CET
DTSTART:19701025T030000
RRULE:FREQ=YEARLY;INTERVAL=1;BYDAY=-1SU;BYMONTH=10
END:STANDARD
END:VTIMEZONE
BEGIN:VEVENT
DTSTAMP:20260420T175729
DTSTART;TZID=Europe/Berlin:20260921T173000
DTEND;TZID=Europe/Berlin:20260921T190000
UID:W32559461-20260921T173000@VHSBÖBLINGEN-SINDELFINGEN
SUMMARY:Hatha Yoga (W32559461) 
LOCATION:WE, Schule Breitenstein, Mehrzweckraum, Albert-Einstein-Str. 22, 71093 Weil im Schönbuch
END:VEVENT
BEGIN:VEVENT
DTSTAMP:20260420T175729
DTSTART;TZID=Europe/Berlin:20260928T173000
DTEND;TZID=Europe/Berlin:20260928T190000
UID:W32559461-20260928T173000@VHSBÖBLINGEN-SINDELFINGEN
SUMMARY:Hatha Yoga (W32559461) 
LOCATION:WE, Schule Breitenstein, Mehrzweckraum, Albert-Einstein-Str. 22, 71093 Weil im Schönbuch
END:VEVENT
BEGIN:VEVENT
DTSTAMP:20260420T175729
DTSTART;TZID=Europe/Berlin:20261005T173000
DTEND;TZID=Europe/Berlin:20261005T190000
UID:W32559461-20261005T173000@VHSBÖBLINGEN-SINDELFINGEN
SUMMARY:Hatha Yoga (W32559461) 
LOCATION:WE, Schule Breitenstein, Mehrzweckraum, Albert-Einstein-Str. 22, 71093 Weil im Schönbuch
END:VEVENT
BEGIN:VEVENT
DTSTAMP:20260420T175729
DTSTART;TZID=Europe/Berlin:20261012T173000
DTEND;TZID=Europe/Berlin:20261012T190000
UID:W32559461-20261012T173000@VHSBÖBLINGEN-SINDELFINGEN
SUMMARY:Hatha Yoga (W32559461) 
LOCATION:WE, Schule Breitenstein, Mehrzweckraum, Albert-Einstein-Str. 22, 71093 Weil im Schönbuch
END:VEVENT
BEGIN:VEVENT
DTSTAMP:20260420T175729
DTSTART;TZID=Europe/Berlin:20261019T173000
DTEND;TZID=Europe/Berlin:20261019T190000
UID:W32559461-20261019T173000@VHSBÖBLINGEN-SINDELFINGEN
SUMMARY:Hatha Yoga (W32559461) 
LOCATION:WE, Schule Breitenstein, Mehrzweckraum, Albert-Einstein-Str. 22, 71093 Weil im Schönbuch
END:VEVENT
BEGIN:VEVENT
DTSTAMP:20260420T175729
DTSTART;TZID=Europe/Berlin:20261102T173000
DTEND;TZID=Europe/Berlin:20261102T190000
UID:W32559461-20261102T173000@VHSBÖBLINGEN-SINDELFINGEN
SUMMARY:Hatha Yoga (W32559461) 
LOCATION:WE, Schule Breitenstein, Mehrzweckraum, Albert-Einstein-Str. 22, 71093 Weil im Schönbuch
END:VEVENT
BEGIN:VEVENT
DTSTAMP:20260420T175729
DTSTART;TZID=Europe/Berlin:20261109T173000
DTEND;TZID=Europe/Berlin:20261109T190000
UID:W32559461-20261109T173000@VHSBÖBLINGEN-SINDELFINGEN
SUMMARY:Hatha Yoga (W32559461) 
LOCATION:WE, Schule Breitenstein, Mehrzweckraum, Albert-Einstein-Str. 22, 71093 Weil im Schönbuch
END:VEVENT
BEGIN:VEVENT
DTSTAMP:20260420T175729
DTSTART;TZID=Europe/Berlin:20261116T173000
DTEND;TZID=Europe/Berlin:20261116T190000
UID:W32559461-20261116T173000@VHSBÖBLINGEN-SINDELFINGEN
SUMMARY:Hatha Yoga (W32559461) 
LOCATION:WE, Schule Breitenstein, Mehrzweckraum, Albert-Einstein-Str. 22, 71093 Weil im Schönbuch
END:VEVENT
BEGIN:VEVENT
DTSTAMP:20260420T175729
DTSTART;TZID=Europe/Berlin:20261123T173000
DTEND;TZID=Europe/Berlin:20261123T190000
UID:W32559461-20261123T173000@VHSBÖBLINGEN-SINDELFINGEN
SUMMARY:Hatha Yoga (W32559461) 
LOCATION:WE, Schule Breitenstein, Mehrzweckraum, Albert-Einstein-Str. 22, 71093 Weil im Schönbuch
END:VEVENT
BEGIN:VEVENT
DTSTAMP:20260420T175729
DTSTART;TZID=Europe/Berlin:20261130T173000
DTEND;TZID=Europe/Berlin:20261130T190000
UID:W32559461-20261130T173000@VHSBÖBLINGEN-SINDELFINGEN
SUMMARY:Hatha Yoga (W32559461) 
LOCATION:WE, Schule Breitenstein, Mehrzweckraum, Albert-Einstein-Str. 22, 71093 Weil im Schönbuch
END:VEVENT
BEGIN:VEVENT
DTSTAMP:20260420T175729
DTSTART;TZID=Europe/Berlin:20261207T173000
DTEND;TZID=Europe/Berlin:20261207T190000
UID:W32559461-20261207T173000@VHSBÖBLINGEN-SINDELFINGEN
SUMMARY:Hatha Yoga (W32559461) 
LOCATION:WE, Schule Breitenstein, Mehrzweckraum, Albert-Einstein-Str. 22, 71093 Weil im Schönbuch
END:VEVENT
BEGIN:VEVENT
DTSTAMP:20260420T175729
DTSTART;TZID=Europe/Berlin:20261214T173000
DTEND;TZID=Europe/Berlin:20261214T190000
UID:W32559461-20261214T173000@VHSBÖBLINGEN-SINDELFINGEN
SUMMARY:Hatha Yoga (W32559461) 
LOCATION:WE, Schule Breitenstein, Mehrzweckraum, Albert-Einstein-Str. 22, 71093 Weil im Schönbuch
END:VEVENT
BEGIN:VEVENT
DTSTAMP:20260420T175729
DTSTART;TZID=Europe/Berlin:20270111T173000
DTEND;TZID=Europe/Berlin:20270111T190000
UID:W32559461-20270111T173000@VHSBÖBLINGEN-SINDELFINGEN
SUMMARY:Hatha Yoga (W32559461) 
LOCATION:WE, Schule Breitenstein, Mehrzweckraum, Albert-Einstein-Str. 22, 71093 Weil im Schönbuch
END:VEVENT
BEGIN:VEVENT
DTSTAMP:20260420T175729
DTSTART;TZID=Europe/Berlin:20270118T173000
DTEND;TZID=Europe/Berlin:20270118T190000
UID:W32559461-20270118T173000@VHSBÖBLINGEN-SINDELFINGEN
SUMMARY:Hatha Yoga (W32559461) 
LOCATION:WE, Schule Breitenstein, Mehrzweckraum, Albert-Einstein-Str. 22, 71093 Weil im Schönbuch
END:VEVENT
BEGIN:VEVENT
DTSTAMP:20260420T175729
DTSTART;TZID=Europe/Berlin:20270125T173000
DTEND;TZID=Europe/Berlin:20270125T190000
UID:W32559461-20270125T173000@VHSBÖBLINGEN-SINDELFINGEN
SUMMARY:Hatha Yoga (W32559461) 
LOCATION:WE, Schule Breitenstein, Mehrzweckraum, Albert-Einstein-Str. 22, 71093 Weil im Schönbuch
END:VEVENT
BEGIN:VEVENT
DTSTAMP:20260420T175729
DTSTART;TZID=Europe/Berlin:20270201T173000
DTEND;TZID=Europe/Berlin:20270201T190000
UID:W32559461-20270201T173000@VHSBÖBLINGEN-SINDELFINGEN
SUMMARY:Hatha Yoga (W32559461) 
LOCATION:WE, Schule Breitenstein, Mehrzweckraum, Albert-Einstein-Str. 22, 71093 Weil im Schönbuch
END:VEVENT
END:VCALENDAR