BEGIN:VCALENDAR
VERSION:2.0
PRODID:https://www.kufer.de/kuferweb / DE
METHOD:PUBLISH
CALSCALE:GREGORIAN
X-WR-TIMEZONE:Europe/Berlin
BEGIN:VTIMEZONE
TZID:Europe/Berlin
X-LIC-LOCATION:Europe/Berlin
BEGIN:DAYLIGHT
TZOFFSETFROM:+0100
TZOFFSETTO:+0200
TZNAME:CEST
DTSTART:19700329T020000
RRULE:FREQ=YEARLY;INTERVAL=1;BYDAY=-1SU;BYMONTH=3
END:DAYLIGHT
BEGIN:STANDARD
TZOFFSETFROM:+0200
TZOFFSETTO:+0100
TZNAME:CET
DTSTART:19701025T030000
RRULE:FREQ=YEARLY;INTERVAL=1;BYDAY=-1SU;BYMONTH=10
END:STANDARD
END:VTIMEZONE
BEGIN:VEVENT
DTSTAMP:20260421T152058
DTSTART;TZID=Europe/Berlin:20260916T184500
DTEND;TZID=Europe/Berlin:20260916T195500
UID:W32559261-20260916T184500@VHSBÖBLINGEN-SINDELFINGEN
SUMMARY:Hatha Yoga (W32559261) 
LOCATION:WE, Halle Neuweiler, ___, Hennersdorfer Straße, 71093 Weil im Schönbuch
END:VEVENT
BEGIN:VEVENT
DTSTAMP:20260421T152058
DTSTART;TZID=Europe/Berlin:20260923T184500
DTEND;TZID=Europe/Berlin:20260923T195500
UID:W32559261-20260923T184500@VHSBÖBLINGEN-SINDELFINGEN
SUMMARY:Hatha Yoga (W32559261) 
LOCATION:WE, Halle Neuweiler, ___, Hennersdorfer Straße, 71093 Weil im Schönbuch
END:VEVENT
BEGIN:VEVENT
DTSTAMP:20260421T152058
DTSTART;TZID=Europe/Berlin:20260930T184500
DTEND;TZID=Europe/Berlin:20260930T195500
UID:W32559261-20260930T184500@VHSBÖBLINGEN-SINDELFINGEN
SUMMARY:Hatha Yoga (W32559261) 
LOCATION:WE, Halle Neuweiler, ___, Hennersdorfer Straße, 71093 Weil im Schönbuch
END:VEVENT
BEGIN:VEVENT
DTSTAMP:20260421T152058
DTSTART;TZID=Europe/Berlin:20261007T184500
DTEND;TZID=Europe/Berlin:20261007T195500
UID:W32559261-20261007T184500@VHSBÖBLINGEN-SINDELFINGEN
SUMMARY:Hatha Yoga (W32559261) 
LOCATION:WE, Halle Neuweiler, ___, Hennersdorfer Straße, 71093 Weil im Schönbuch
END:VEVENT
BEGIN:VEVENT
DTSTAMP:20260421T152058
DTSTART;TZID=Europe/Berlin:20261014T184500
DTEND;TZID=Europe/Berlin:20261014T195500
UID:W32559261-20261014T184500@VHSBÖBLINGEN-SINDELFINGEN
SUMMARY:Hatha Yoga (W32559261) 
LOCATION:WE, Halle Neuweiler, ___, Hennersdorfer Straße, 71093 Weil im Schönbuch
END:VEVENT
BEGIN:VEVENT
DTSTAMP:20260421T152058
DTSTART;TZID=Europe/Berlin:20261021T184500
DTEND;TZID=Europe/Berlin:20261021T195500
UID:W32559261-20261021T184500@VHSBÖBLINGEN-SINDELFINGEN
SUMMARY:Hatha Yoga (W32559261) 
LOCATION:WE, Halle Neuweiler, ___, Hennersdorfer Straße, 71093 Weil im Schönbuch
END:VEVENT
BEGIN:VEVENT
DTSTAMP:20260421T152058
DTSTART;TZID=Europe/Berlin:20261104T184500
DTEND;TZID=Europe/Berlin:20261104T195500
UID:W32559261-20261104T184500@VHSBÖBLINGEN-SINDELFINGEN
SUMMARY:Hatha Yoga (W32559261) 
LOCATION:WE, Halle Neuweiler, ___, Hennersdorfer Straße, 71093 Weil im Schönbuch
END:VEVENT
BEGIN:VEVENT
DTSTAMP:20260421T152058
DTSTART;TZID=Europe/Berlin:20261111T184500
DTEND;TZID=Europe/Berlin:20261111T195500
UID:W32559261-20261111T184500@VHSBÖBLINGEN-SINDELFINGEN
SUMMARY:Hatha Yoga (W32559261) 
LOCATION:WE, Halle Neuweiler, ___, Hennersdorfer Straße, 71093 Weil im Schönbuch
END:VEVENT
BEGIN:VEVENT
DTSTAMP:20260421T152058
DTSTART;TZID=Europe/Berlin:20261118T184500
DTEND;TZID=Europe/Berlin:20261118T195500
UID:W32559261-20261118T184500@VHSBÖBLINGEN-SINDELFINGEN
SUMMARY:Hatha Yoga (W32559261) 
LOCATION:WE, Halle Neuweiler, ___, Hennersdorfer Straße, 71093 Weil im Schönbuch
END:VEVENT
BEGIN:VEVENT
DTSTAMP:20260421T152058
DTSTART;TZID=Europe/Berlin:20261125T184500
DTEND;TZID=Europe/Berlin:20261125T195500
UID:W32559261-20261125T184500@VHSBÖBLINGEN-SINDELFINGEN
SUMMARY:Hatha Yoga (W32559261) 
LOCATION:WE, Halle Neuweiler, ___, Hennersdorfer Straße, 71093 Weil im Schönbuch
END:VEVENT
BEGIN:VEVENT
DTSTAMP:20260421T152058
DTSTART;TZID=Europe/Berlin:20261202T184500
DTEND;TZID=Europe/Berlin:20261202T195500
UID:W32559261-20261202T184500@VHSBÖBLINGEN-SINDELFINGEN
SUMMARY:Hatha Yoga (W32559261) 
LOCATION:WE, Halle Neuweiler, ___, Hennersdorfer Straße, 71093 Weil im Schönbuch
END:VEVENT
BEGIN:VEVENT
DTSTAMP:20260421T152058
DTSTART;TZID=Europe/Berlin:20261209T184500
DTEND;TZID=Europe/Berlin:20261209T195500
UID:W32559261-20261209T184500@VHSBÖBLINGEN-SINDELFINGEN
SUMMARY:Hatha Yoga (W32559261) 
LOCATION:WE, Halle Neuweiler, ___, Hennersdorfer Straße, 71093 Weil im Schönbuch
END:VEVENT
BEGIN:VEVENT
DTSTAMP:20260421T152058
DTSTART;TZID=Europe/Berlin:20261216T184500
DTEND;TZID=Europe/Berlin:20261216T195500
UID:W32559261-20261216T184500@VHSBÖBLINGEN-SINDELFINGEN
SUMMARY:Hatha Yoga (W32559261) 
LOCATION:WE, Halle Neuweiler, ___, Hennersdorfer Straße, 71093 Weil im Schönbuch
END:VEVENT
BEGIN:VEVENT
DTSTAMP:20260421T152058
DTSTART;TZID=Europe/Berlin:20270113T184500
DTEND;TZID=Europe/Berlin:20270113T195500
UID:W32559261-20270113T184500@VHSBÖBLINGEN-SINDELFINGEN
SUMMARY:Hatha Yoga (W32559261) 
LOCATION:WE, Halle Neuweiler, ___, Hennersdorfer Straße, 71093 Weil im Schönbuch
END:VEVENT
BEGIN:VEVENT
DTSTAMP:20260421T152058
DTSTART;TZID=Europe/Berlin:20270120T184500
DTEND;TZID=Europe/Berlin:20270120T195500
UID:W32559261-20270120T184500@VHSBÖBLINGEN-SINDELFINGEN
SUMMARY:Hatha Yoga (W32559261) 
LOCATION:WE, Halle Neuweiler, ___, Hennersdorfer Straße, 71093 Weil im Schönbuch
END:VEVENT
BEGIN:VEVENT
DTSTAMP:20260421T152058
DTSTART;TZID=Europe/Berlin:20270127T184500
DTEND;TZID=Europe/Berlin:20270127T195500
UID:W32559261-20270127T184500@VHSBÖBLINGEN-SINDELFINGEN
SUMMARY:Hatha Yoga (W32559261) 
LOCATION:WE, Halle Neuweiler, ___, Hennersdorfer Straße, 71093 Weil im Schönbuch
END:VEVENT
BEGIN:VEVENT
DTSTAMP:20260421T152058
DTSTART;TZID=Europe/Berlin:20270203T184500
DTEND;TZID=Europe/Berlin:20270203T195500
UID:W32559261-20270203T184500@VHSBÖBLINGEN-SINDELFINGEN
SUMMARY:Hatha Yoga (W32559261) 
LOCATION:WE, Halle Neuweiler, ___, Hennersdorfer Straße, 71093 Weil im Schönbuch
END:VEVENT
END:VCALENDAR