BEGIN:VCALENDAR
VERSION:2.0
PRODID:https://www.kufer.de/kuferweb / DE
METHOD:PUBLISH
CALSCALE:GREGORIAN
X-WR-TIMEZONE:Europe/Berlin
BEGIN:VTIMEZONE
TZID:Europe/Berlin
X-LIC-LOCATION:Europe/Berlin
BEGIN:DAYLIGHT
TZOFFSETFROM:+0100
TZOFFSETTO:+0200
TZNAME:CEST
DTSTART:19700329T020000
RRULE:FREQ=YEARLY;INTERVAL=1;BYDAY=-1SU;BYMONTH=3
END:DAYLIGHT
BEGIN:STANDARD
TZOFFSETFROM:+0200
TZOFFSETTO:+0100
TZNAME:CET
DTSTART:19701025T030000
RRULE:FREQ=YEARLY;INTERVAL=1;BYDAY=-1SU;BYMONTH=10
END:STANDARD
END:VTIMEZONE
BEGIN:VEVENT
DTSTAMP:20260421T152655
DTSTART;TZID=Europe/Berlin:20260916T173000
DTEND;TZID=Europe/Berlin:20260916T184000
UID:W32559061-20260916T173000@VHSBÖBLINGEN-SINDELFINGEN
SUMMARY:Hatha Yoga (W32559061) 
LOCATION:WE, Halle Neuweiler, ___, Hennersdorfer Straße, 71093 Weil im Schönbuch
END:VEVENT
BEGIN:VEVENT
DTSTAMP:20260421T152655
DTSTART;TZID=Europe/Berlin:20260923T173000
DTEND;TZID=Europe/Berlin:20260923T184000
UID:W32559061-20260923T173000@VHSBÖBLINGEN-SINDELFINGEN
SUMMARY:Hatha Yoga (W32559061) 
LOCATION:WE, Halle Neuweiler, ___, Hennersdorfer Straße, 71093 Weil im Schönbuch
END:VEVENT
BEGIN:VEVENT
DTSTAMP:20260421T152655
DTSTART;TZID=Europe/Berlin:20260930T173000
DTEND;TZID=Europe/Berlin:20260930T184000
UID:W32559061-20260930T173000@VHSBÖBLINGEN-SINDELFINGEN
SUMMARY:Hatha Yoga (W32559061) 
LOCATION:WE, Halle Neuweiler, ___, Hennersdorfer Straße, 71093 Weil im Schönbuch
END:VEVENT
BEGIN:VEVENT
DTSTAMP:20260421T152655
DTSTART;TZID=Europe/Berlin:20261007T173000
DTEND;TZID=Europe/Berlin:20261007T184000
UID:W32559061-20261007T173000@VHSBÖBLINGEN-SINDELFINGEN
SUMMARY:Hatha Yoga (W32559061) 
LOCATION:WE, Halle Neuweiler, ___, Hennersdorfer Straße, 71093 Weil im Schönbuch
END:VEVENT
BEGIN:VEVENT
DTSTAMP:20260421T152655
DTSTART;TZID=Europe/Berlin:20261014T173000
DTEND;TZID=Europe/Berlin:20261014T184000
UID:W32559061-20261014T173000@VHSBÖBLINGEN-SINDELFINGEN
SUMMARY:Hatha Yoga (W32559061) 
LOCATION:WE, Halle Neuweiler, ___, Hennersdorfer Straße, 71093 Weil im Schönbuch
END:VEVENT
BEGIN:VEVENT
DTSTAMP:20260421T152655
DTSTART;TZID=Europe/Berlin:20261021T173000
DTEND;TZID=Europe/Berlin:20261021T184000
UID:W32559061-20261021T173000@VHSBÖBLINGEN-SINDELFINGEN
SUMMARY:Hatha Yoga (W32559061) 
LOCATION:WE, Halle Neuweiler, ___, Hennersdorfer Straße, 71093 Weil im Schönbuch
END:VEVENT
BEGIN:VEVENT
DTSTAMP:20260421T152655
DTSTART;TZID=Europe/Berlin:20261104T173000
DTEND;TZID=Europe/Berlin:20261104T184000
UID:W32559061-20261104T173000@VHSBÖBLINGEN-SINDELFINGEN
SUMMARY:Hatha Yoga (W32559061) 
LOCATION:WE, Halle Neuweiler, ___, Hennersdorfer Straße, 71093 Weil im Schönbuch
END:VEVENT
BEGIN:VEVENT
DTSTAMP:20260421T152655
DTSTART;TZID=Europe/Berlin:20261111T173000
DTEND;TZID=Europe/Berlin:20261111T184000
UID:W32559061-20261111T173000@VHSBÖBLINGEN-SINDELFINGEN
SUMMARY:Hatha Yoga (W32559061) 
LOCATION:WE, Halle Neuweiler, ___, Hennersdorfer Straße, 71093 Weil im Schönbuch
END:VEVENT
BEGIN:VEVENT
DTSTAMP:20260421T152655
DTSTART;TZID=Europe/Berlin:20261118T173000
DTEND;TZID=Europe/Berlin:20261118T184000
UID:W32559061-20261118T173000@VHSBÖBLINGEN-SINDELFINGEN
SUMMARY:Hatha Yoga (W32559061) 
LOCATION:WE, Halle Neuweiler, ___, Hennersdorfer Straße, 71093 Weil im Schönbuch
END:VEVENT
BEGIN:VEVENT
DTSTAMP:20260421T152655
DTSTART;TZID=Europe/Berlin:20261125T173000
DTEND;TZID=Europe/Berlin:20261125T184000
UID:W32559061-20261125T173000@VHSBÖBLINGEN-SINDELFINGEN
SUMMARY:Hatha Yoga (W32559061) 
LOCATION:WE, Halle Neuweiler, ___, Hennersdorfer Straße, 71093 Weil im Schönbuch
END:VEVENT
BEGIN:VEVENT
DTSTAMP:20260421T152655
DTSTART;TZID=Europe/Berlin:20261202T173000
DTEND;TZID=Europe/Berlin:20261202T184000
UID:W32559061-20261202T173000@VHSBÖBLINGEN-SINDELFINGEN
SUMMARY:Hatha Yoga (W32559061) 
LOCATION:WE, Halle Neuweiler, ___, Hennersdorfer Straße, 71093 Weil im Schönbuch
END:VEVENT
BEGIN:VEVENT
DTSTAMP:20260421T152655
DTSTART;TZID=Europe/Berlin:20261209T173000
DTEND;TZID=Europe/Berlin:20261209T184000
UID:W32559061-20261209T173000@VHSBÖBLINGEN-SINDELFINGEN
SUMMARY:Hatha Yoga (W32559061) 
LOCATION:WE, Halle Neuweiler, ___, Hennersdorfer Straße, 71093 Weil im Schönbuch
END:VEVENT
BEGIN:VEVENT
DTSTAMP:20260421T152655
DTSTART;TZID=Europe/Berlin:20261216T173000
DTEND;TZID=Europe/Berlin:20261216T184000
UID:W32559061-20261216T173000@VHSBÖBLINGEN-SINDELFINGEN
SUMMARY:Hatha Yoga (W32559061) 
LOCATION:WE, Halle Neuweiler, ___, Hennersdorfer Straße, 71093 Weil im Schönbuch
END:VEVENT
BEGIN:VEVENT
DTSTAMP:20260421T152655
DTSTART;TZID=Europe/Berlin:20270113T173000
DTEND;TZID=Europe/Berlin:20270113T184000
UID:W32559061-20270113T173000@VHSBÖBLINGEN-SINDELFINGEN
SUMMARY:Hatha Yoga (W32559061) 
LOCATION:WE, Halle Neuweiler, ___, Hennersdorfer Straße, 71093 Weil im Schönbuch
END:VEVENT
BEGIN:VEVENT
DTSTAMP:20260421T152655
DTSTART;TZID=Europe/Berlin:20270120T173000
DTEND;TZID=Europe/Berlin:20270120T184000
UID:W32559061-20270120T173000@VHSBÖBLINGEN-SINDELFINGEN
SUMMARY:Hatha Yoga (W32559061) 
LOCATION:WE, Halle Neuweiler, ___, Hennersdorfer Straße, 71093 Weil im Schönbuch
END:VEVENT
BEGIN:VEVENT
DTSTAMP:20260421T152655
DTSTART;TZID=Europe/Berlin:20270127T173000
DTEND;TZID=Europe/Berlin:20270127T184000
UID:W32559061-20270127T173000@VHSBÖBLINGEN-SINDELFINGEN
SUMMARY:Hatha Yoga (W32559061) 
LOCATION:WE, Halle Neuweiler, ___, Hennersdorfer Straße, 71093 Weil im Schönbuch
END:VEVENT
BEGIN:VEVENT
DTSTAMP:20260421T152655
DTSTART;TZID=Europe/Berlin:20270203T173000
DTEND;TZID=Europe/Berlin:20270203T184000
UID:W32559061-20270203T173000@VHSBÖBLINGEN-SINDELFINGEN
SUMMARY:Hatha Yoga (W32559061) 
LOCATION:WE, Halle Neuweiler, ___, Hennersdorfer Straße, 71093 Weil im Schönbuch
END:VEVENT
END:VCALENDAR