BEGIN:VCALENDAR
VERSION:2.0
PRODID:https://www.kufer.de/kuferweb / DE
METHOD:PUBLISH
CALSCALE:GREGORIAN
X-WR-TIMEZONE:Europe/Berlin
BEGIN:VTIMEZONE
TZID:Europe/Berlin
X-LIC-LOCATION:Europe/Berlin
BEGIN:DAYLIGHT
TZOFFSETFROM:+0100
TZOFFSETTO:+0200
TZNAME:CEST
DTSTART:19700329T020000
RRULE:FREQ=YEARLY;INTERVAL=1;BYDAY=-1SU;BYMONTH=3
END:DAYLIGHT
BEGIN:STANDARD
TZOFFSETFROM:+0200
TZOFFSETTO:+0100
TZNAME:CET
DTSTART:19701025T030000
RRULE:FREQ=YEARLY;INTERVAL=1;BYDAY=-1SU;BYMONTH=10
END:STANDARD
END:VTIMEZONE
BEGIN:VEVENT
DTSTAMP:20260421T124949
DTSTART;TZID=Europe/Berlin:20260923T101500
DTEND;TZID=Europe/Berlin:20260923T114500
UID:W32554224-20260923T101500@VHSBÖBLINGEN-SINDELFINGEN
SUMMARY:Hatha Yoga (W32554224) 
LOCATION:Bürgerhaus Maichingen, Übungsraum 1, Sindelfinger Str. 44, 71069 Sindelfingen
END:VEVENT
BEGIN:VEVENT
DTSTAMP:20260421T124949
DTSTART;TZID=Europe/Berlin:20260930T101500
DTEND;TZID=Europe/Berlin:20260930T114500
UID:W32554224-20260930T101500@VHSBÖBLINGEN-SINDELFINGEN
SUMMARY:Hatha Yoga (W32554224) 
LOCATION:Bürgerhaus Maichingen, Übungsraum 1, Sindelfinger Str. 44, 71069 Sindelfingen
END:VEVENT
BEGIN:VEVENT
DTSTAMP:20260421T124949
DTSTART;TZID=Europe/Berlin:20261007T101500
DTEND;TZID=Europe/Berlin:20261007T114500
UID:W32554224-20261007T101500@VHSBÖBLINGEN-SINDELFINGEN
SUMMARY:Hatha Yoga (W32554224) 
LOCATION:Bürgerhaus Maichingen, Übungsraum 1, Sindelfinger Str. 44, 71069 Sindelfingen
END:VEVENT
BEGIN:VEVENT
DTSTAMP:20260421T124949
DTSTART;TZID=Europe/Berlin:20261014T101500
DTEND;TZID=Europe/Berlin:20261014T114500
UID:W32554224-20261014T101500@VHSBÖBLINGEN-SINDELFINGEN
SUMMARY:Hatha Yoga (W32554224) 
LOCATION:Bürgerhaus Maichingen, Übungsraum 1, Sindelfinger Str. 44, 71069 Sindelfingen
END:VEVENT
BEGIN:VEVENT
DTSTAMP:20260421T124949
DTSTART;TZID=Europe/Berlin:20261021T101500
DTEND;TZID=Europe/Berlin:20261021T114500
UID:W32554224-20261021T101500@VHSBÖBLINGEN-SINDELFINGEN
SUMMARY:Hatha Yoga (W32554224) 
LOCATION:Bürgerhaus Maichingen, Übungsraum 1, Sindelfinger Str. 44, 71069 Sindelfingen
END:VEVENT
BEGIN:VEVENT
DTSTAMP:20260421T124949
DTSTART;TZID=Europe/Berlin:20261104T101500
DTEND;TZID=Europe/Berlin:20261104T114500
UID:W32554224-20261104T101500@VHSBÖBLINGEN-SINDELFINGEN
SUMMARY:Hatha Yoga (W32554224) 
LOCATION:Bürgerhaus Maichingen, Übungsraum 1, Sindelfinger Str. 44, 71069 Sindelfingen
END:VEVENT
BEGIN:VEVENT
DTSTAMP:20260421T124949
DTSTART;TZID=Europe/Berlin:20261111T101500
DTEND;TZID=Europe/Berlin:20261111T114500
UID:W32554224-20261111T101500@VHSBÖBLINGEN-SINDELFINGEN
SUMMARY:Hatha Yoga (W32554224) 
LOCATION:Bürgerhaus Maichingen, Übungsraum 1, Sindelfinger Str. 44, 71069 Sindelfingen
END:VEVENT
BEGIN:VEVENT
DTSTAMP:20260421T124949
DTSTART;TZID=Europe/Berlin:20261118T101500
DTEND;TZID=Europe/Berlin:20261118T114500
UID:W32554224-20261118T101500@VHSBÖBLINGEN-SINDELFINGEN
SUMMARY:Hatha Yoga (W32554224) 
LOCATION:Bürgerhaus Maichingen, Übungsraum 1, Sindelfinger Str. 44, 71069 Sindelfingen
END:VEVENT
BEGIN:VEVENT
DTSTAMP:20260421T124949
DTSTART;TZID=Europe/Berlin:20261125T101500
DTEND;TZID=Europe/Berlin:20261125T114500
UID:W32554224-20261125T101500@VHSBÖBLINGEN-SINDELFINGEN
SUMMARY:Hatha Yoga (W32554224) 
LOCATION:Bürgerhaus Maichingen, Übungsraum 1, Sindelfinger Str. 44, 71069 Sindelfingen
END:VEVENT
BEGIN:VEVENT
DTSTAMP:20260421T124949
DTSTART;TZID=Europe/Berlin:20261202T101500
DTEND;TZID=Europe/Berlin:20261202T114500
UID:W32554224-20261202T101500@VHSBÖBLINGEN-SINDELFINGEN
SUMMARY:Hatha Yoga (W32554224) 
LOCATION:Bürgerhaus Maichingen, Übungsraum 1, Sindelfinger Str. 44, 71069 Sindelfingen
END:VEVENT
BEGIN:VEVENT
DTSTAMP:20260421T124949
DTSTART;TZID=Europe/Berlin:20261209T101500
DTEND;TZID=Europe/Berlin:20261209T114500
UID:W32554224-20261209T101500@VHSBÖBLINGEN-SINDELFINGEN
SUMMARY:Hatha Yoga (W32554224) 
LOCATION:Bürgerhaus Maichingen, Übungsraum 1, Sindelfinger Str. 44, 71069 Sindelfingen
END:VEVENT
BEGIN:VEVENT
DTSTAMP:20260421T124949
DTSTART;TZID=Europe/Berlin:20261216T101500
DTEND;TZID=Europe/Berlin:20261216T114500
UID:W32554224-20261216T101500@VHSBÖBLINGEN-SINDELFINGEN
SUMMARY:Hatha Yoga (W32554224) 
LOCATION:Bürgerhaus Maichingen, Übungsraum 1, Sindelfinger Str. 44, 71069 Sindelfingen
END:VEVENT
BEGIN:VEVENT
DTSTAMP:20260421T124949
DTSTART;TZID=Europe/Berlin:20270113T101500
DTEND;TZID=Europe/Berlin:20270113T114500
UID:W32554224-20270113T101500@VHSBÖBLINGEN-SINDELFINGEN
SUMMARY:Hatha Yoga (W32554224) 
LOCATION:Bürgerhaus Maichingen, Übungsraum 1, Sindelfinger Str. 44, 71069 Sindelfingen
END:VEVENT
BEGIN:VEVENT
DTSTAMP:20260421T124949
DTSTART;TZID=Europe/Berlin:20270120T101500
DTEND;TZID=Europe/Berlin:20270120T114500
UID:W32554224-20270120T101500@VHSBÖBLINGEN-SINDELFINGEN
SUMMARY:Hatha Yoga (W32554224) 
LOCATION:Bürgerhaus Maichingen, Übungsraum 1, Sindelfinger Str. 44, 71069 Sindelfingen
END:VEVENT
BEGIN:VEVENT
DTSTAMP:20260421T124949
DTSTART;TZID=Europe/Berlin:20270127T101500
DTEND;TZID=Europe/Berlin:20270127T114500
UID:W32554224-20270127T101500@VHSBÖBLINGEN-SINDELFINGEN
SUMMARY:Hatha Yoga (W32554224) 
LOCATION:Bürgerhaus Maichingen, Übungsraum 1, Sindelfinger Str. 44, 71069 Sindelfingen
END:VEVENT
END:VCALENDAR