BEGIN:VCALENDAR
VERSION:2.0
PRODID:https://www.kufer.de/kuferweb / DE
METHOD:PUBLISH
CALSCALE:GREGORIAN
X-WR-TIMEZONE:Europe/Berlin
BEGIN:VTIMEZONE
TZID:Europe/Berlin
X-LIC-LOCATION:Europe/Berlin
BEGIN:DAYLIGHT
TZOFFSETFROM:+0100
TZOFFSETTO:+0200
TZNAME:CEST
DTSTART:19700329T020000
RRULE:FREQ=YEARLY;INTERVAL=1;BYDAY=-1SU;BYMONTH=3
END:DAYLIGHT
BEGIN:STANDARD
TZOFFSETFROM:+0200
TZOFFSETTO:+0100
TZNAME:CET
DTSTART:19701025T030000
RRULE:FREQ=YEARLY;INTERVAL=1;BYDAY=-1SU;BYMONTH=10
END:STANDARD
END:VTIMEZONE
BEGIN:VEVENT
DTSTAMP:20260421T161023
DTSTART;TZID=Europe/Berlin:20260923T083000
DTEND;TZID=Europe/Berlin:20260923T100000
UID:W32554024-20260923T083000@VHSBÖBLINGEN-SINDELFINGEN
SUMMARY:Hatha Yoga (W32554024) 
LOCATION:Bürgerhaus Maichingen, Übungsraum 1, Sindelfinger Str. 44, 71069 Sindelfingen
END:VEVENT
BEGIN:VEVENT
DTSTAMP:20260421T161023
DTSTART;TZID=Europe/Berlin:20260930T083000
DTEND;TZID=Europe/Berlin:20260930T100000
UID:W32554024-20260930T083000@VHSBÖBLINGEN-SINDELFINGEN
SUMMARY:Hatha Yoga (W32554024) 
LOCATION:Bürgerhaus Maichingen, Übungsraum 1, Sindelfinger Str. 44, 71069 Sindelfingen
END:VEVENT
BEGIN:VEVENT
DTSTAMP:20260421T161023
DTSTART;TZID=Europe/Berlin:20261007T083000
DTEND;TZID=Europe/Berlin:20261007T100000
UID:W32554024-20261007T083000@VHSBÖBLINGEN-SINDELFINGEN
SUMMARY:Hatha Yoga (W32554024) 
LOCATION:Bürgerhaus Maichingen, Übungsraum 1, Sindelfinger Str. 44, 71069 Sindelfingen
END:VEVENT
BEGIN:VEVENT
DTSTAMP:20260421T161023
DTSTART;TZID=Europe/Berlin:20261014T083000
DTEND;TZID=Europe/Berlin:20261014T100000
UID:W32554024-20261014T083000@VHSBÖBLINGEN-SINDELFINGEN
SUMMARY:Hatha Yoga (W32554024) 
LOCATION:Bürgerhaus Maichingen, Übungsraum 1, Sindelfinger Str. 44, 71069 Sindelfingen
END:VEVENT
BEGIN:VEVENT
DTSTAMP:20260421T161023
DTSTART;TZID=Europe/Berlin:20261021T083000
DTEND;TZID=Europe/Berlin:20261021T100000
UID:W32554024-20261021T083000@VHSBÖBLINGEN-SINDELFINGEN
SUMMARY:Hatha Yoga (W32554024) 
LOCATION:Bürgerhaus Maichingen, Übungsraum 1, Sindelfinger Str. 44, 71069 Sindelfingen
END:VEVENT
BEGIN:VEVENT
DTSTAMP:20260421T161023
DTSTART;TZID=Europe/Berlin:20261104T083000
DTEND;TZID=Europe/Berlin:20261104T100000
UID:W32554024-20261104T083000@VHSBÖBLINGEN-SINDELFINGEN
SUMMARY:Hatha Yoga (W32554024) 
LOCATION:Bürgerhaus Maichingen, Übungsraum 1, Sindelfinger Str. 44, 71069 Sindelfingen
END:VEVENT
BEGIN:VEVENT
DTSTAMP:20260421T161023
DTSTART;TZID=Europe/Berlin:20261111T083000
DTEND;TZID=Europe/Berlin:20261111T100000
UID:W32554024-20261111T083000@VHSBÖBLINGEN-SINDELFINGEN
SUMMARY:Hatha Yoga (W32554024) 
LOCATION:Bürgerhaus Maichingen, Übungsraum 1, Sindelfinger Str. 44, 71069 Sindelfingen
END:VEVENT
BEGIN:VEVENT
DTSTAMP:20260421T161023
DTSTART;TZID=Europe/Berlin:20261118T083000
DTEND;TZID=Europe/Berlin:20261118T100000
UID:W32554024-20261118T083000@VHSBÖBLINGEN-SINDELFINGEN
SUMMARY:Hatha Yoga (W32554024) 
LOCATION:Bürgerhaus Maichingen, Übungsraum 1, Sindelfinger Str. 44, 71069 Sindelfingen
END:VEVENT
BEGIN:VEVENT
DTSTAMP:20260421T161023
DTSTART;TZID=Europe/Berlin:20261125T083000
DTEND;TZID=Europe/Berlin:20261125T100000
UID:W32554024-20261125T083000@VHSBÖBLINGEN-SINDELFINGEN
SUMMARY:Hatha Yoga (W32554024) 
LOCATION:Bürgerhaus Maichingen, Übungsraum 1, Sindelfinger Str. 44, 71069 Sindelfingen
END:VEVENT
BEGIN:VEVENT
DTSTAMP:20260421T161023
DTSTART;TZID=Europe/Berlin:20261202T083000
DTEND;TZID=Europe/Berlin:20261202T100000
UID:W32554024-20261202T083000@VHSBÖBLINGEN-SINDELFINGEN
SUMMARY:Hatha Yoga (W32554024) 
LOCATION:Bürgerhaus Maichingen, Übungsraum 1, Sindelfinger Str. 44, 71069 Sindelfingen
END:VEVENT
BEGIN:VEVENT
DTSTAMP:20260421T161023
DTSTART;TZID=Europe/Berlin:20261209T083000
DTEND;TZID=Europe/Berlin:20261209T100000
UID:W32554024-20261209T083000@VHSBÖBLINGEN-SINDELFINGEN
SUMMARY:Hatha Yoga (W32554024) 
LOCATION:Bürgerhaus Maichingen, Übungsraum 1, Sindelfinger Str. 44, 71069 Sindelfingen
END:VEVENT
BEGIN:VEVENT
DTSTAMP:20260421T161023
DTSTART;TZID=Europe/Berlin:20261216T083000
DTEND;TZID=Europe/Berlin:20261216T100000
UID:W32554024-20261216T083000@VHSBÖBLINGEN-SINDELFINGEN
SUMMARY:Hatha Yoga (W32554024) 
LOCATION:Bürgerhaus Maichingen, Übungsraum 1, Sindelfinger Str. 44, 71069 Sindelfingen
END:VEVENT
BEGIN:VEVENT
DTSTAMP:20260421T161023
DTSTART;TZID=Europe/Berlin:20270113T083000
DTEND;TZID=Europe/Berlin:20270113T100000
UID:W32554024-20270113T083000@VHSBÖBLINGEN-SINDELFINGEN
SUMMARY:Hatha Yoga (W32554024) 
LOCATION:Bürgerhaus Maichingen, Übungsraum 1, Sindelfinger Str. 44, 71069 Sindelfingen
END:VEVENT
BEGIN:VEVENT
DTSTAMP:20260421T161023
DTSTART;TZID=Europe/Berlin:20270120T083000
DTEND;TZID=Europe/Berlin:20270120T100000
UID:W32554024-20270120T083000@VHSBÖBLINGEN-SINDELFINGEN
SUMMARY:Hatha Yoga (W32554024) 
LOCATION:Bürgerhaus Maichingen, Übungsraum 1, Sindelfinger Str. 44, 71069 Sindelfingen
END:VEVENT
BEGIN:VEVENT
DTSTAMP:20260421T161023
DTSTART;TZID=Europe/Berlin:20270127T083000
DTEND;TZID=Europe/Berlin:20270127T100000
UID:W32554024-20270127T083000@VHSBÖBLINGEN-SINDELFINGEN
SUMMARY:Hatha Yoga (W32554024) 
LOCATION:Bürgerhaus Maichingen, Übungsraum 1, Sindelfinger Str. 44, 71069 Sindelfingen
END:VEVENT
END:VCALENDAR