BEGIN:VCALENDAR
VERSION:2.0
PRODID:https://www.kufer.de/kuferweb / DE
METHOD:PUBLISH
CALSCALE:GREGORIAN
X-WR-TIMEZONE:Europe/Berlin
BEGIN:VTIMEZONE
TZID:Europe/Berlin
X-LIC-LOCATION:Europe/Berlin
BEGIN:DAYLIGHT
TZOFFSETFROM:+0100
TZOFFSETTO:+0200
TZNAME:CEST
DTSTART:19700329T020000
RRULE:FREQ=YEARLY;INTERVAL=1;BYDAY=-1SU;BYMONTH=3
END:DAYLIGHT
BEGIN:STANDARD
TZOFFSETFROM:+0200
TZOFFSETTO:+0100
TZNAME:CET
DTSTART:19701025T030000
RRULE:FREQ=YEARLY;INTERVAL=1;BYDAY=-1SU;BYMONTH=10
END:STANDARD
END:VTIMEZONE
BEGIN:VEVENT
DTSTAMP:20260421T041824
DTSTART;TZID=Europe/Berlin:20260922T184500
DTEND;TZID=Europe/Berlin:20260922T201500
UID:W32548221-20260922T184500@VHSBÖBLINGEN-SINDELFINGEN
SUMMARY:Hatha Yoga (W32548221) 
LOCATION:HO, Rektor-Franke-Haus, Saal, Böblinger Str. 28, 71088 Holzgerlingen
END:VEVENT
BEGIN:VEVENT
DTSTAMP:20260421T041824
DTSTART;TZID=Europe/Berlin:20260929T184500
DTEND;TZID=Europe/Berlin:20260929T201500
UID:W32548221-20260929T184500@VHSBÖBLINGEN-SINDELFINGEN
SUMMARY:Hatha Yoga (W32548221) 
LOCATION:HO, Rektor-Franke-Haus, Saal, Böblinger Str. 28, 71088 Holzgerlingen
END:VEVENT
BEGIN:VEVENT
DTSTAMP:20260421T041824
DTSTART;TZID=Europe/Berlin:20261006T184500
DTEND;TZID=Europe/Berlin:20261006T201500
UID:W32548221-20261006T184500@VHSBÖBLINGEN-SINDELFINGEN
SUMMARY:Hatha Yoga (W32548221) 
LOCATION:HO, Rektor-Franke-Haus, Saal, Böblinger Str. 28, 71088 Holzgerlingen
END:VEVENT
BEGIN:VEVENT
DTSTAMP:20260421T041824
DTSTART;TZID=Europe/Berlin:20261013T184500
DTEND;TZID=Europe/Berlin:20261013T201500
UID:W32548221-20261013T184500@VHSBÖBLINGEN-SINDELFINGEN
SUMMARY:Hatha Yoga (W32548221) 
LOCATION:HO, Rektor-Franke-Haus, Saal, Böblinger Str. 28, 71088 Holzgerlingen
END:VEVENT
BEGIN:VEVENT
DTSTAMP:20260421T041824
DTSTART;TZID=Europe/Berlin:20261020T184500
DTEND;TZID=Europe/Berlin:20261020T201500
UID:W32548221-20261020T184500@VHSBÖBLINGEN-SINDELFINGEN
SUMMARY:Hatha Yoga (W32548221) 
LOCATION:HO, Rektor-Franke-Haus, Saal, Böblinger Str. 28, 71088 Holzgerlingen
END:VEVENT
BEGIN:VEVENT
DTSTAMP:20260421T041824
DTSTART;TZID=Europe/Berlin:20261103T184500
DTEND;TZID=Europe/Berlin:20261103T201500
UID:W32548221-20261103T184500@VHSBÖBLINGEN-SINDELFINGEN
SUMMARY:Hatha Yoga (W32548221) 
LOCATION:HO, Rektor-Franke-Haus, Saal, Böblinger Str. 28, 71088 Holzgerlingen
END:VEVENT
BEGIN:VEVENT
DTSTAMP:20260421T041824
DTSTART;TZID=Europe/Berlin:20261110T184500
DTEND;TZID=Europe/Berlin:20261110T201500
UID:W32548221-20261110T184500@VHSBÖBLINGEN-SINDELFINGEN
SUMMARY:Hatha Yoga (W32548221) 
LOCATION:HO, Rektor-Franke-Haus, Saal, Böblinger Str. 28, 71088 Holzgerlingen
END:VEVENT
BEGIN:VEVENT
DTSTAMP:20260421T041824
DTSTART;TZID=Europe/Berlin:20261117T184500
DTEND;TZID=Europe/Berlin:20261117T201500
UID:W32548221-20261117T184500@VHSBÖBLINGEN-SINDELFINGEN
SUMMARY:Hatha Yoga (W32548221) 
LOCATION:HO, Rektor-Franke-Haus, Saal, Böblinger Str. 28, 71088 Holzgerlingen
END:VEVENT
BEGIN:VEVENT
DTSTAMP:20260421T041824
DTSTART;TZID=Europe/Berlin:20261124T184500
DTEND;TZID=Europe/Berlin:20261124T201500
UID:W32548221-20261124T184500@VHSBÖBLINGEN-SINDELFINGEN
SUMMARY:Hatha Yoga (W32548221) 
LOCATION:HO, Rektor-Franke-Haus, Saal, Böblinger Str. 28, 71088 Holzgerlingen
END:VEVENT
BEGIN:VEVENT
DTSTAMP:20260421T041824
DTSTART;TZID=Europe/Berlin:20261201T184500
DTEND;TZID=Europe/Berlin:20261201T201500
UID:W32548221-20261201T184500@VHSBÖBLINGEN-SINDELFINGEN
SUMMARY:Hatha Yoga (W32548221) 
LOCATION:HO, Rektor-Franke-Haus, Saal, Böblinger Str. 28, 71088 Holzgerlingen
END:VEVENT
BEGIN:VEVENT
DTSTAMP:20260421T041824
DTSTART;TZID=Europe/Berlin:20261208T184500
DTEND;TZID=Europe/Berlin:20261208T201500
UID:W32548221-20261208T184500@VHSBÖBLINGEN-SINDELFINGEN
SUMMARY:Hatha Yoga (W32548221) 
LOCATION:HO, Rektor-Franke-Haus, Saal, Böblinger Str. 28, 71088 Holzgerlingen
END:VEVENT
BEGIN:VEVENT
DTSTAMP:20260421T041824
DTSTART;TZID=Europe/Berlin:20261215T184500
DTEND;TZID=Europe/Berlin:20261215T201500
UID:W32548221-20261215T184500@VHSBÖBLINGEN-SINDELFINGEN
SUMMARY:Hatha Yoga (W32548221) 
LOCATION:HO, Rektor-Franke-Haus, Saal, Böblinger Str. 28, 71088 Holzgerlingen
END:VEVENT
BEGIN:VEVENT
DTSTAMP:20260421T041824
DTSTART;TZID=Europe/Berlin:20270112T184500
DTEND;TZID=Europe/Berlin:20270112T201500
UID:W32548221-20270112T184500@VHSBÖBLINGEN-SINDELFINGEN
SUMMARY:Hatha Yoga (W32548221) 
LOCATION:HO, Rektor-Franke-Haus, Saal, Böblinger Str. 28, 71088 Holzgerlingen
END:VEVENT
BEGIN:VEVENT
DTSTAMP:20260421T041824
DTSTART;TZID=Europe/Berlin:20270119T184500
DTEND;TZID=Europe/Berlin:20270119T201500
UID:W32548221-20270119T184500@VHSBÖBLINGEN-SINDELFINGEN
SUMMARY:Hatha Yoga (W32548221) 
LOCATION:HO, Rektor-Franke-Haus, Saal, Böblinger Str. 28, 71088 Holzgerlingen
END:VEVENT
END:VCALENDAR