BEGIN:VCALENDAR
VERSION:2.0
PRODID:https://www.kufer.de/kuferweb / DE
METHOD:PUBLISH
CALSCALE:GREGORIAN
X-WR-TIMEZONE:Europe/Berlin
BEGIN:VTIMEZONE
TZID:Europe/Berlin
X-LIC-LOCATION:Europe/Berlin
BEGIN:DAYLIGHT
TZOFFSETFROM:+0100
TZOFFSETTO:+0200
TZNAME:CEST
DTSTART:19700329T020000
RRULE:FREQ=YEARLY;INTERVAL=1;BYDAY=-1SU;BYMONTH=3
END:DAYLIGHT
BEGIN:STANDARD
TZOFFSETFROM:+0200
TZOFFSETTO:+0100
TZNAME:CET
DTSTART:19701025T030000
RRULE:FREQ=YEARLY;INTERVAL=1;BYDAY=-1SU;BYMONTH=10
END:STANDARD
END:VTIMEZONE
BEGIN:VEVENT
DTSTAMP:20260422T032143
DTSTART;TZID=Europe/Berlin:20260923T200000
DTEND;TZID=Europe/Berlin:20260923T213000
UID:W32547518-20260923T200000@VHSBÖBLINGEN-SINDELFINGEN
SUMMARY:Hatha Yoga (W32547518) 
LOCATION:GR, Grundschule Dätzingen, Turnhalle, Döffinger Str. 55, 71120 Grafenau
END:VEVENT
BEGIN:VEVENT
DTSTAMP:20260422T032143
DTSTART;TZID=Europe/Berlin:20260930T200000
DTEND;TZID=Europe/Berlin:20260930T213000
UID:W32547518-20260930T200000@VHSBÖBLINGEN-SINDELFINGEN
SUMMARY:Hatha Yoga (W32547518) 
LOCATION:GR, Grundschule Dätzingen, Turnhalle, Döffinger Str. 55, 71120 Grafenau
END:VEVENT
BEGIN:VEVENT
DTSTAMP:20260422T032143
DTSTART;TZID=Europe/Berlin:20261007T200000
DTEND;TZID=Europe/Berlin:20261007T213000
UID:W32547518-20261007T200000@VHSBÖBLINGEN-SINDELFINGEN
SUMMARY:Hatha Yoga (W32547518) 
LOCATION:GR, Grundschule Dätzingen, Turnhalle, Döffinger Str. 55, 71120 Grafenau
END:VEVENT
BEGIN:VEVENT
DTSTAMP:20260422T032143
DTSTART;TZID=Europe/Berlin:20261014T200000
DTEND;TZID=Europe/Berlin:20261014T213000
UID:W32547518-20261014T200000@VHSBÖBLINGEN-SINDELFINGEN
SUMMARY:Hatha Yoga (W32547518) 
LOCATION:GR, Grundschule Dätzingen, Turnhalle, Döffinger Str. 55, 71120 Grafenau
END:VEVENT
BEGIN:VEVENT
DTSTAMP:20260422T032143
DTSTART;TZID=Europe/Berlin:20261021T200000
DTEND;TZID=Europe/Berlin:20261021T213000
UID:W32547518-20261021T200000@VHSBÖBLINGEN-SINDELFINGEN
SUMMARY:Hatha Yoga (W32547518) 
LOCATION:GR, Grundschule Dätzingen, Turnhalle, Döffinger Str. 55, 71120 Grafenau
END:VEVENT
BEGIN:VEVENT
DTSTAMP:20260422T032143
DTSTART;TZID=Europe/Berlin:20261104T200000
DTEND;TZID=Europe/Berlin:20261104T213000
UID:W32547518-20261104T200000@VHSBÖBLINGEN-SINDELFINGEN
SUMMARY:Hatha Yoga (W32547518) 
LOCATION:GR, Grundschule Dätzingen, Turnhalle, Döffinger Str. 55, 71120 Grafenau
END:VEVENT
BEGIN:VEVENT
DTSTAMP:20260422T032143
DTSTART;TZID=Europe/Berlin:20261111T200000
DTEND;TZID=Europe/Berlin:20261111T213000
UID:W32547518-20261111T200000@VHSBÖBLINGEN-SINDELFINGEN
SUMMARY:Hatha Yoga (W32547518) 
LOCATION:GR, Grundschule Dätzingen, Turnhalle, Döffinger Str. 55, 71120 Grafenau
END:VEVENT
BEGIN:VEVENT
DTSTAMP:20260422T032143
DTSTART;TZID=Europe/Berlin:20261118T200000
DTEND;TZID=Europe/Berlin:20261118T213000
UID:W32547518-20261118T200000@VHSBÖBLINGEN-SINDELFINGEN
SUMMARY:Hatha Yoga (W32547518) 
LOCATION:GR, Grundschule Dätzingen, Turnhalle, Döffinger Str. 55, 71120 Grafenau
END:VEVENT
BEGIN:VEVENT
DTSTAMP:20260422T032143
DTSTART;TZID=Europe/Berlin:20261125T200000
DTEND;TZID=Europe/Berlin:20261125T213000
UID:W32547518-20261125T200000@VHSBÖBLINGEN-SINDELFINGEN
SUMMARY:Hatha Yoga (W32547518) 
LOCATION:GR, Grundschule Dätzingen, Turnhalle, Döffinger Str. 55, 71120 Grafenau
END:VEVENT
BEGIN:VEVENT
DTSTAMP:20260422T032143
DTSTART;TZID=Europe/Berlin:20261202T200000
DTEND;TZID=Europe/Berlin:20261202T213000
UID:W32547518-20261202T200000@VHSBÖBLINGEN-SINDELFINGEN
SUMMARY:Hatha Yoga (W32547518) 
LOCATION:GR, Grundschule Dätzingen, Turnhalle, Döffinger Str. 55, 71120 Grafenau
END:VEVENT
BEGIN:VEVENT
DTSTAMP:20260422T032143
DTSTART;TZID=Europe/Berlin:20261209T200000
DTEND;TZID=Europe/Berlin:20261209T213000
UID:W32547518-20261209T200000@VHSBÖBLINGEN-SINDELFINGEN
SUMMARY:Hatha Yoga (W32547518) 
LOCATION:GR, Grundschule Dätzingen, Turnhalle, Döffinger Str. 55, 71120 Grafenau
END:VEVENT
BEGIN:VEVENT
DTSTAMP:20260422T032143
DTSTART;TZID=Europe/Berlin:20261216T200000
DTEND;TZID=Europe/Berlin:20261216T213000
UID:W32547518-20261216T200000@VHSBÖBLINGEN-SINDELFINGEN
SUMMARY:Hatha Yoga (W32547518) 
LOCATION:GR, Grundschule Dätzingen, Turnhalle, Döffinger Str. 55, 71120 Grafenau
END:VEVENT
BEGIN:VEVENT
DTSTAMP:20260422T032143
DTSTART;TZID=Europe/Berlin:20270113T200000
DTEND;TZID=Europe/Berlin:20270113T213000
UID:W32547518-20270113T200000@VHSBÖBLINGEN-SINDELFINGEN
SUMMARY:Hatha Yoga (W32547518) 
LOCATION:GR, Grundschule Dätzingen, Turnhalle, Döffinger Str. 55, 71120 Grafenau
END:VEVENT
BEGIN:VEVENT
DTSTAMP:20260422T032143
DTSTART;TZID=Europe/Berlin:20270120T200000
DTEND;TZID=Europe/Berlin:20270120T213000
UID:W32547518-20270120T200000@VHSBÖBLINGEN-SINDELFINGEN
SUMMARY:Hatha Yoga (W32547518) 
LOCATION:GR, Grundschule Dätzingen, Turnhalle, Döffinger Str. 55, 71120 Grafenau
END:VEVENT
BEGIN:VEVENT
DTSTAMP:20260422T032143
DTSTART;TZID=Europe/Berlin:20270127T200000
DTEND;TZID=Europe/Berlin:20270127T213000
UID:W32547518-20270127T200000@VHSBÖBLINGEN-SINDELFINGEN
SUMMARY:Hatha Yoga (W32547518) 
LOCATION:GR, Grundschule Dätzingen, Turnhalle, Döffinger Str. 55, 71120 Grafenau
END:VEVENT
END:VCALENDAR