BEGIN:VCALENDAR
VERSION:2.0
PRODID:https://www.kufer.de/kuferweb / DE
METHOD:PUBLISH
CALSCALE:GREGORIAN
X-WR-TIMEZONE:Europe/Berlin
BEGIN:VTIMEZONE
TZID:Europe/Berlin
X-LIC-LOCATION:Europe/Berlin
BEGIN:DAYLIGHT
TZOFFSETFROM:+0100
TZOFFSETTO:+0200
TZNAME:CEST
DTSTART:19700329T020000
RRULE:FREQ=YEARLY;INTERVAL=1;BYDAY=-1SU;BYMONTH=3
END:DAYLIGHT
BEGIN:STANDARD
TZOFFSETFROM:+0200
TZOFFSETTO:+0100
TZNAME:CET
DTSTART:19701025T030000
RRULE:FREQ=YEARLY;INTERVAL=1;BYDAY=-1SU;BYMONTH=10
END:STANDARD
END:VTIMEZONE
BEGIN:VEVENT
DTSTAMP:20260421T101540
DTSTART;TZID=Europe/Berlin:20260930T100000
DTEND;TZID=Europe/Berlin:20260930T113000
UID:W32547215-20260930T100000@VHSBÖBLINGEN-SINDELFINGEN
SUMMARY:Hatha Yoga (W32547215) 
LOCATION:EH, Haus am Pfarrgarten, Gässles-Stube, Schloss-/Schulstr.8, 71139 Ehningen
END:VEVENT
BEGIN:VEVENT
DTSTAMP:20260421T101540
DTSTART;TZID=Europe/Berlin:20261007T100000
DTEND;TZID=Europe/Berlin:20261007T113000
UID:W32547215-20261007T100000@VHSBÖBLINGEN-SINDELFINGEN
SUMMARY:Hatha Yoga (W32547215) 
LOCATION:EH, Haus am Pfarrgarten, Gässles-Stube, Schloss-/Schulstr.8, 71139 Ehningen
END:VEVENT
BEGIN:VEVENT
DTSTAMP:20260421T101540
DTSTART;TZID=Europe/Berlin:20261014T100000
DTEND;TZID=Europe/Berlin:20261014T113000
UID:W32547215-20261014T100000@VHSBÖBLINGEN-SINDELFINGEN
SUMMARY:Hatha Yoga (W32547215) 
LOCATION:EH, Haus am Pfarrgarten, Gässles-Stube, Schloss-/Schulstr.8, 71139 Ehningen
END:VEVENT
BEGIN:VEVENT
DTSTAMP:20260421T101540
DTSTART;TZID=Europe/Berlin:20261021T100000
DTEND;TZID=Europe/Berlin:20261021T113000
UID:W32547215-20261021T100000@VHSBÖBLINGEN-SINDELFINGEN
SUMMARY:Hatha Yoga (W32547215) 
LOCATION:EH, Haus am Pfarrgarten, Gässles-Stube, Schloss-/Schulstr.8, 71139 Ehningen
END:VEVENT
BEGIN:VEVENT
DTSTAMP:20260421T101540
DTSTART;TZID=Europe/Berlin:20261104T100000
DTEND;TZID=Europe/Berlin:20261104T113000
UID:W32547215-20261104T100000@VHSBÖBLINGEN-SINDELFINGEN
SUMMARY:Hatha Yoga (W32547215) 
LOCATION:EH, Haus am Pfarrgarten, Gässles-Stube, Schloss-/Schulstr.8, 71139 Ehningen
END:VEVENT
BEGIN:VEVENT
DTSTAMP:20260421T101540
DTSTART;TZID=Europe/Berlin:20261111T100000
DTEND;TZID=Europe/Berlin:20261111T113000
UID:W32547215-20261111T100000@VHSBÖBLINGEN-SINDELFINGEN
SUMMARY:Hatha Yoga (W32547215) 
LOCATION:EH, Haus am Pfarrgarten, Gässles-Stube, Schloss-/Schulstr.8, 71139 Ehningen
END:VEVENT
BEGIN:VEVENT
DTSTAMP:20260421T101540
DTSTART;TZID=Europe/Berlin:20261118T100000
DTEND;TZID=Europe/Berlin:20261118T113000
UID:W32547215-20261118T100000@VHSBÖBLINGEN-SINDELFINGEN
SUMMARY:Hatha Yoga (W32547215) 
LOCATION:EH, Haus am Pfarrgarten, Gässles-Stube, Schloss-/Schulstr.8, 71139 Ehningen
END:VEVENT
BEGIN:VEVENT
DTSTAMP:20260421T101540
DTSTART;TZID=Europe/Berlin:20261125T100000
DTEND;TZID=Europe/Berlin:20261125T113000
UID:W32547215-20261125T100000@VHSBÖBLINGEN-SINDELFINGEN
SUMMARY:Hatha Yoga (W32547215) 
LOCATION:EH, Haus am Pfarrgarten, Gässles-Stube, Schloss-/Schulstr.8, 71139 Ehningen
END:VEVENT
BEGIN:VEVENT
DTSTAMP:20260421T101540
DTSTART;TZID=Europe/Berlin:20261202T100000
DTEND;TZID=Europe/Berlin:20261202T113000
UID:W32547215-20261202T100000@VHSBÖBLINGEN-SINDELFINGEN
SUMMARY:Hatha Yoga (W32547215) 
LOCATION:EH, Haus am Pfarrgarten, Gässles-Stube, Schloss-/Schulstr.8, 71139 Ehningen
END:VEVENT
BEGIN:VEVENT
DTSTAMP:20260421T101540
DTSTART;TZID=Europe/Berlin:20261209T100000
DTEND;TZID=Europe/Berlin:20261209T113000
UID:W32547215-20261209T100000@VHSBÖBLINGEN-SINDELFINGEN
SUMMARY:Hatha Yoga (W32547215) 
LOCATION:EH, Haus am Pfarrgarten, Gässles-Stube, Schloss-/Schulstr.8, 71139 Ehningen
END:VEVENT
BEGIN:VEVENT
DTSTAMP:20260421T101540
DTSTART;TZID=Europe/Berlin:20261216T100000
DTEND;TZID=Europe/Berlin:20261216T113000
UID:W32547215-20261216T100000@VHSBÖBLINGEN-SINDELFINGEN
SUMMARY:Hatha Yoga (W32547215) 
LOCATION:EH, Haus am Pfarrgarten, Gässles-Stube, Schloss-/Schulstr.8, 71139 Ehningen
END:VEVENT
BEGIN:VEVENT
DTSTAMP:20260421T101540
DTSTART;TZID=Europe/Berlin:20270113T100000
DTEND;TZID=Europe/Berlin:20270113T113000
UID:W32547215-20270113T100000@VHSBÖBLINGEN-SINDELFINGEN
SUMMARY:Hatha Yoga (W32547215) 
LOCATION:EH, Haus am Pfarrgarten, Gässles-Stube, Schloss-/Schulstr.8, 71139 Ehningen
END:VEVENT
BEGIN:VEVENT
DTSTAMP:20260421T101540
DTSTART;TZID=Europe/Berlin:20270120T100000
DTEND;TZID=Europe/Berlin:20270120T113000
UID:W32547215-20270120T100000@VHSBÖBLINGEN-SINDELFINGEN
SUMMARY:Hatha Yoga (W32547215) 
LOCATION:EH, Haus am Pfarrgarten, Gässles-Stube, Schloss-/Schulstr.8, 71139 Ehningen
END:VEVENT
BEGIN:VEVENT
DTSTAMP:20260421T101540
DTSTART;TZID=Europe/Berlin:20270127T100000
DTEND;TZID=Europe/Berlin:20270127T113000
UID:W32547215-20270127T100000@VHSBÖBLINGEN-SINDELFINGEN
SUMMARY:Hatha Yoga (W32547215) 
LOCATION:EH, Haus am Pfarrgarten, Gässles-Stube, Schloss-/Schulstr.8, 71139 Ehningen
END:VEVENT
BEGIN:VEVENT
DTSTAMP:20260421T101540
DTSTART;TZID=Europe/Berlin:20270203T100000
DTEND;TZID=Europe/Berlin:20270203T113000
UID:W32547215-20270203T100000@VHSBÖBLINGEN-SINDELFINGEN
SUMMARY:Hatha Yoga (W32547215) 
LOCATION:EH, Haus am Pfarrgarten, Gässles-Stube, Schloss-/Schulstr.8, 71139 Ehningen
END:VEVENT
END:VCALENDAR