BEGIN:VCALENDAR
VERSION:2.0
PRODID:https://www.kufer.de/kuferweb / DE
METHOD:PUBLISH
CALSCALE:GREGORIAN
X-WR-TIMEZONE:Europe/Berlin
BEGIN:VTIMEZONE
TZID:Europe/Berlin
X-LIC-LOCATION:Europe/Berlin
BEGIN:DAYLIGHT
TZOFFSETFROM:+0100
TZOFFSETTO:+0200
TZNAME:CEST
DTSTART:19700329T020000
RRULE:FREQ=YEARLY;INTERVAL=1;BYDAY=-1SU;BYMONTH=3
END:DAYLIGHT
BEGIN:STANDARD
TZOFFSETFROM:+0200
TZOFFSETTO:+0100
TZNAME:CET
DTSTART:19701025T030000
RRULE:FREQ=YEARLY;INTERVAL=1;BYDAY=-1SU;BYMONTH=10
END:STANDARD
END:VTIMEZONE
BEGIN:VEVENT
DTSTAMP:20260421T211342
DTSTART;TZID=Europe/Berlin:20260915T201500
DTEND;TZID=Europe/Berlin:20260915T214500
UID:W32545415-20260915T201500@VHSBÖBLINGEN-SINDELFINGEN
SUMMARY:Hatha Yoga (W32545415) 
LOCATION:EH, Sportzentrum Schalkwiese Halle 2, G3, Hildrizhauser Str. 80, 71139 Ehningen
END:VEVENT
BEGIN:VEVENT
DTSTAMP:20260421T211342
DTSTART;TZID=Europe/Berlin:20260922T201500
DTEND;TZID=Europe/Berlin:20260922T214500
UID:W32545415-20260922T201500@VHSBÖBLINGEN-SINDELFINGEN
SUMMARY:Hatha Yoga (W32545415) 
LOCATION:EH, Sportzentrum Schalkwiese Halle 2, G3, Hildrizhauser Str. 80, 71139 Ehningen
END:VEVENT
BEGIN:VEVENT
DTSTAMP:20260421T211342
DTSTART;TZID=Europe/Berlin:20260929T201500
DTEND;TZID=Europe/Berlin:20260929T214500
UID:W32545415-20260929T201500@VHSBÖBLINGEN-SINDELFINGEN
SUMMARY:Hatha Yoga (W32545415) 
LOCATION:EH, Sportzentrum Schalkwiese Halle 2, G3, Hildrizhauser Str. 80, 71139 Ehningen
END:VEVENT
BEGIN:VEVENT
DTSTAMP:20260421T211342
DTSTART;TZID=Europe/Berlin:20261006T201500
DTEND;TZID=Europe/Berlin:20261006T214500
UID:W32545415-20261006T201500@VHSBÖBLINGEN-SINDELFINGEN
SUMMARY:Hatha Yoga (W32545415) 
LOCATION:EH, Sportzentrum Schalkwiese Halle 2, G3, Hildrizhauser Str. 80, 71139 Ehningen
END:VEVENT
BEGIN:VEVENT
DTSTAMP:20260421T211342
DTSTART;TZID=Europe/Berlin:20261013T201500
DTEND;TZID=Europe/Berlin:20261013T214500
UID:W32545415-20261013T201500@VHSBÖBLINGEN-SINDELFINGEN
SUMMARY:Hatha Yoga (W32545415) 
LOCATION:EH, Sportzentrum Schalkwiese Halle 2, G3, Hildrizhauser Str. 80, 71139 Ehningen
END:VEVENT
BEGIN:VEVENT
DTSTAMP:20260421T211342
DTSTART;TZID=Europe/Berlin:20261020T201500
DTEND;TZID=Europe/Berlin:20261020T214500
UID:W32545415-20261020T201500@VHSBÖBLINGEN-SINDELFINGEN
SUMMARY:Hatha Yoga (W32545415) 
LOCATION:EH, Sportzentrum Schalkwiese Halle 2, G3, Hildrizhauser Str. 80, 71139 Ehningen
END:VEVENT
BEGIN:VEVENT
DTSTAMP:20260421T211342
DTSTART;TZID=Europe/Berlin:20261103T201500
DTEND;TZID=Europe/Berlin:20261103T214500
UID:W32545415-20261103T201500@VHSBÖBLINGEN-SINDELFINGEN
SUMMARY:Hatha Yoga (W32545415) 
LOCATION:EH, Sportzentrum Schalkwiese Halle 2, G3, Hildrizhauser Str. 80, 71139 Ehningen
END:VEVENT
BEGIN:VEVENT
DTSTAMP:20260421T211342
DTSTART;TZID=Europe/Berlin:20261110T201500
DTEND;TZID=Europe/Berlin:20261110T214500
UID:W32545415-20261110T201500@VHSBÖBLINGEN-SINDELFINGEN
SUMMARY:Hatha Yoga (W32545415) 
LOCATION:EH, Sportzentrum Schalkwiese Halle 2, G3, Hildrizhauser Str. 80, 71139 Ehningen
END:VEVENT
BEGIN:VEVENT
DTSTAMP:20260421T211342
DTSTART;TZID=Europe/Berlin:20261117T201500
DTEND;TZID=Europe/Berlin:20261117T214500
UID:W32545415-20261117T201500@VHSBÖBLINGEN-SINDELFINGEN
SUMMARY:Hatha Yoga (W32545415) 
LOCATION:EH, Sportzentrum Schalkwiese Halle 2, G3, Hildrizhauser Str. 80, 71139 Ehningen
END:VEVENT
BEGIN:VEVENT
DTSTAMP:20260421T211342
DTSTART;TZID=Europe/Berlin:20261124T201500
DTEND;TZID=Europe/Berlin:20261124T214500
UID:W32545415-20261124T201500@VHSBÖBLINGEN-SINDELFINGEN
SUMMARY:Hatha Yoga (W32545415) 
LOCATION:EH, Sportzentrum Schalkwiese Halle 2, G3, Hildrizhauser Str. 80, 71139 Ehningen
END:VEVENT
BEGIN:VEVENT
DTSTAMP:20260421T211342
DTSTART;TZID=Europe/Berlin:20261201T201500
DTEND;TZID=Europe/Berlin:20261201T214500
UID:W32545415-20261201T201500@VHSBÖBLINGEN-SINDELFINGEN
SUMMARY:Hatha Yoga (W32545415) 
LOCATION:EH, Sportzentrum Schalkwiese Halle 2, G3, Hildrizhauser Str. 80, 71139 Ehningen
END:VEVENT
BEGIN:VEVENT
DTSTAMP:20260421T211342
DTSTART;TZID=Europe/Berlin:20261208T201500
DTEND;TZID=Europe/Berlin:20261208T214500
UID:W32545415-20261208T201500@VHSBÖBLINGEN-SINDELFINGEN
SUMMARY:Hatha Yoga (W32545415) 
LOCATION:EH, Sportzentrum Schalkwiese Halle 2, G3, Hildrizhauser Str. 80, 71139 Ehningen
END:VEVENT
BEGIN:VEVENT
DTSTAMP:20260421T211342
DTSTART;TZID=Europe/Berlin:20261215T201500
DTEND;TZID=Europe/Berlin:20261215T214500
UID:W32545415-20261215T201500@VHSBÖBLINGEN-SINDELFINGEN
SUMMARY:Hatha Yoga (W32545415) 
LOCATION:EH, Sportzentrum Schalkwiese Halle 2, G3, Hildrizhauser Str. 80, 71139 Ehningen
END:VEVENT
BEGIN:VEVENT
DTSTAMP:20260421T211342
DTSTART;TZID=Europe/Berlin:20261222T201500
DTEND;TZID=Europe/Berlin:20261222T214500
UID:W32545415-20261222T201500@VHSBÖBLINGEN-SINDELFINGEN
SUMMARY:Hatha Yoga (W32545415) 
LOCATION:EH, Sportzentrum Schalkwiese Halle 2, G3, Hildrizhauser Str. 80, 71139 Ehningen
END:VEVENT
BEGIN:VEVENT
DTSTAMP:20260421T211342
DTSTART;TZID=Europe/Berlin:20270112T201500
DTEND;TZID=Europe/Berlin:20270112T214500
UID:W32545415-20270112T201500@VHSBÖBLINGEN-SINDELFINGEN
SUMMARY:Hatha Yoga (W32545415) 
LOCATION:EH, Sportzentrum Schalkwiese Halle 2, G3, Hildrizhauser Str. 80, 71139 Ehningen
END:VEVENT
BEGIN:VEVENT
DTSTAMP:20260421T211342
DTSTART;TZID=Europe/Berlin:20270119T201500
DTEND;TZID=Europe/Berlin:20270119T214500
UID:W32545415-20270119T201500@VHSBÖBLINGEN-SINDELFINGEN
SUMMARY:Hatha Yoga (W32545415) 
LOCATION:EH, Sportzentrum Schalkwiese Halle 2, G3, Hildrizhauser Str. 80, 71139 Ehningen
END:VEVENT
BEGIN:VEVENT
DTSTAMP:20260421T211342
DTSTART;TZID=Europe/Berlin:20270126T201500
DTEND;TZID=Europe/Berlin:20270126T214500
UID:W32545415-20270126T201500@VHSBÖBLINGEN-SINDELFINGEN
SUMMARY:Hatha Yoga (W32545415) 
LOCATION:EH, Sportzentrum Schalkwiese Halle 2, G3, Hildrizhauser Str. 80, 71139 Ehningen
END:VEVENT
END:VCALENDAR