BEGIN:VCALENDAR
VERSION:2.0
PRODID:https://www.kufer.de/kuferweb / DE
METHOD:PUBLISH
CALSCALE:GREGORIAN
X-WR-TIMEZONE:Europe/Berlin
BEGIN:VTIMEZONE
TZID:Europe/Berlin
X-LIC-LOCATION:Europe/Berlin
BEGIN:DAYLIGHT
TZOFFSETFROM:+0100
TZOFFSETTO:+0200
TZNAME:CEST
DTSTART:19700329T020000
RRULE:FREQ=YEARLY;INTERVAL=1;BYDAY=-1SU;BYMONTH=3
END:DAYLIGHT
BEGIN:STANDARD
TZOFFSETFROM:+0200
TZOFFSETTO:+0100
TZNAME:CET
DTSTART:19701025T030000
RRULE:FREQ=YEARLY;INTERVAL=1;BYDAY=-1SU;BYMONTH=10
END:STANDARD
END:VTIMEZONE
BEGIN:VEVENT
DTSTAMP:20260421T171558
DTSTART;TZID=Europe/Berlin:20260921T190000
DTEND;TZID=Europe/Berlin:20260921T203000
UID:W32543512-20260921T190000@VHSBÖBLINGEN-SINDELFINGEN
SUMMARY:Hatha Yoga (W32543512) 
LOCATION:AL, Feuerwehr-Gerätehaus Al., Gemeinschaftsr., 1. OG, Bühlstraße 15, 71155 Altdorf
END:VEVENT
BEGIN:VEVENT
DTSTAMP:20260421T171558
DTSTART;TZID=Europe/Berlin:20260928T190000
DTEND;TZID=Europe/Berlin:20260928T203000
UID:W32543512-20260928T190000@VHSBÖBLINGEN-SINDELFINGEN
SUMMARY:Hatha Yoga (W32543512) 
LOCATION:AL, Feuerwehr-Gerätehaus Al., Gemeinschaftsr., 1. OG, Bühlstraße 15, 71155 Altdorf
END:VEVENT
BEGIN:VEVENT
DTSTAMP:20260421T171558
DTSTART;TZID=Europe/Berlin:20261005T190000
DTEND;TZID=Europe/Berlin:20261005T203000
UID:W32543512-20261005T190000@VHSBÖBLINGEN-SINDELFINGEN
SUMMARY:Hatha Yoga (W32543512) 
LOCATION:AL, Feuerwehr-Gerätehaus Al., Gemeinschaftsr., 1. OG, Bühlstraße 15, 71155 Altdorf
END:VEVENT
BEGIN:VEVENT
DTSTAMP:20260421T171558
DTSTART;TZID=Europe/Berlin:20261012T190000
DTEND;TZID=Europe/Berlin:20261012T203000
UID:W32543512-20261012T190000@VHSBÖBLINGEN-SINDELFINGEN
SUMMARY:Hatha Yoga (W32543512) 
LOCATION:AL, Feuerwehr-Gerätehaus Al., Gemeinschaftsr., 1. OG, Bühlstraße 15, 71155 Altdorf
END:VEVENT
BEGIN:VEVENT
DTSTAMP:20260421T171558
DTSTART;TZID=Europe/Berlin:20261019T190000
DTEND;TZID=Europe/Berlin:20261019T203000
UID:W32543512-20261019T190000@VHSBÖBLINGEN-SINDELFINGEN
SUMMARY:Hatha Yoga (W32543512) 
LOCATION:AL, Feuerwehr-Gerätehaus Al., Gemeinschaftsr., 1. OG, Bühlstraße 15, 71155 Altdorf
END:VEVENT
BEGIN:VEVENT
DTSTAMP:20260421T171558
DTSTART;TZID=Europe/Berlin:20261102T190000
DTEND;TZID=Europe/Berlin:20261102T203000
UID:W32543512-20261102T190000@VHSBÖBLINGEN-SINDELFINGEN
SUMMARY:Hatha Yoga (W32543512) 
LOCATION:AL, Feuerwehr-Gerätehaus Al., Gemeinschaftsr., 1. OG, Bühlstraße 15, 71155 Altdorf
END:VEVENT
BEGIN:VEVENT
DTSTAMP:20260421T171558
DTSTART;TZID=Europe/Berlin:20261109T190000
DTEND;TZID=Europe/Berlin:20261109T203000
UID:W32543512-20261109T190000@VHSBÖBLINGEN-SINDELFINGEN
SUMMARY:Hatha Yoga (W32543512) 
LOCATION:AL, Feuerwehr-Gerätehaus Al., Gemeinschaftsr., 1. OG, Bühlstraße 15, 71155 Altdorf
END:VEVENT
BEGIN:VEVENT
DTSTAMP:20260421T171558
DTSTART;TZID=Europe/Berlin:20261116T190000
DTEND;TZID=Europe/Berlin:20261116T203000
UID:W32543512-20261116T190000@VHSBÖBLINGEN-SINDELFINGEN
SUMMARY:Hatha Yoga (W32543512) 
LOCATION:AL, Feuerwehr-Gerätehaus Al., Gemeinschaftsr., 1. OG, Bühlstraße 15, 71155 Altdorf
END:VEVENT
BEGIN:VEVENT
DTSTAMP:20260421T171558
DTSTART;TZID=Europe/Berlin:20261123T190000
DTEND;TZID=Europe/Berlin:20261123T203000
UID:W32543512-20261123T190000@VHSBÖBLINGEN-SINDELFINGEN
SUMMARY:Hatha Yoga (W32543512) 
LOCATION:AL, Feuerwehr-Gerätehaus Al., Gemeinschaftsr., 1. OG, Bühlstraße 15, 71155 Altdorf
END:VEVENT
BEGIN:VEVENT
DTSTAMP:20260421T171558
DTSTART;TZID=Europe/Berlin:20261130T190000
DTEND;TZID=Europe/Berlin:20261130T203000
UID:W32543512-20261130T190000@VHSBÖBLINGEN-SINDELFINGEN
SUMMARY:Hatha Yoga (W32543512) 
LOCATION:AL, Feuerwehr-Gerätehaus Al., Gemeinschaftsr., 1. OG, Bühlstraße 15, 71155 Altdorf
END:VEVENT
BEGIN:VEVENT
DTSTAMP:20260421T171558
DTSTART;TZID=Europe/Berlin:20261207T190000
DTEND;TZID=Europe/Berlin:20261207T203000
UID:W32543512-20261207T190000@VHSBÖBLINGEN-SINDELFINGEN
SUMMARY:Hatha Yoga (W32543512) 
LOCATION:AL, Feuerwehr-Gerätehaus Al., Gemeinschaftsr., 1. OG, Bühlstraße 15, 71155 Altdorf
END:VEVENT
BEGIN:VEVENT
DTSTAMP:20260421T171558
DTSTART;TZID=Europe/Berlin:20261214T190000
DTEND;TZID=Europe/Berlin:20261214T203000
UID:W32543512-20261214T190000@VHSBÖBLINGEN-SINDELFINGEN
SUMMARY:Hatha Yoga (W32543512) 
LOCATION:AL, Feuerwehr-Gerätehaus Al., Gemeinschaftsr., 1. OG, Bühlstraße 15, 71155 Altdorf
END:VEVENT
BEGIN:VEVENT
DTSTAMP:20260421T171558
DTSTART;TZID=Europe/Berlin:20270111T190000
DTEND;TZID=Europe/Berlin:20270111T203000
UID:W32543512-20270111T190000@VHSBÖBLINGEN-SINDELFINGEN
SUMMARY:Hatha Yoga (W32543512) 
LOCATION:AL, Feuerwehr-Gerätehaus Al., Gemeinschaftsr., 1. OG, Bühlstraße 15, 71155 Altdorf
END:VEVENT
BEGIN:VEVENT
DTSTAMP:20260421T171558
DTSTART;TZID=Europe/Berlin:20270118T190000
DTEND;TZID=Europe/Berlin:20270118T203000
UID:W32543512-20270118T190000@VHSBÖBLINGEN-SINDELFINGEN
SUMMARY:Hatha Yoga (W32543512) 
LOCATION:AL, Feuerwehr-Gerätehaus Al., Gemeinschaftsr., 1. OG, Bühlstraße 15, 71155 Altdorf
END:VEVENT
BEGIN:VEVENT
DTSTAMP:20260421T171558
DTSTART;TZID=Europe/Berlin:20270125T190000
DTEND;TZID=Europe/Berlin:20270125T203000
UID:W32543512-20270125T190000@VHSBÖBLINGEN-SINDELFINGEN
SUMMARY:Hatha Yoga (W32543512) 
LOCATION:AL, Feuerwehr-Gerätehaus Al., Gemeinschaftsr., 1. OG, Bühlstraße 15, 71155 Altdorf
END:VEVENT
END:VCALENDAR