BEGIN:VCALENDAR
VERSION:2.0
PRODID:https://www.kufer.de/kuferweb / DE
METHOD:PUBLISH
CALSCALE:GREGORIAN
X-WR-TIMEZONE:Europe/Berlin
BEGIN:VTIMEZONE
TZID:Europe/Berlin
X-LIC-LOCATION:Europe/Berlin
BEGIN:DAYLIGHT
TZOFFSETFROM:+0100
TZOFFSETTO:+0200
TZNAME:CEST
DTSTART:19700329T020000
RRULE:FREQ=YEARLY;INTERVAL=1;BYDAY=-1SU;BYMONTH=3
END:DAYLIGHT
BEGIN:STANDARD
TZOFFSETFROM:+0200
TZOFFSETTO:+0100
TZNAME:CET
DTSTART:19701025T030000
RRULE:FREQ=YEARLY;INTERVAL=1;BYDAY=-1SU;BYMONTH=10
END:STANDARD
END:VTIMEZONE
BEGIN:VEVENT
DTSTAMP:20260421T152521
DTSTART;TZID=Europe/Berlin:20260921T171500
DTEND;TZID=Europe/Berlin:20260921T184500
UID:W32543312-20260921T171500@VHSBÖBLINGEN-SINDELFINGEN
SUMMARY:Hatha Yoga (W32543312) 
LOCATION:AL, Feuerwehr-Gerätehaus Al., Gemeinschaftsr., 1. OG, Bühlstraße 15, 71155 Altdorf
END:VEVENT
BEGIN:VEVENT
DTSTAMP:20260421T152521
DTSTART;TZID=Europe/Berlin:20260928T171500
DTEND;TZID=Europe/Berlin:20260928T184500
UID:W32543312-20260928T171500@VHSBÖBLINGEN-SINDELFINGEN
SUMMARY:Hatha Yoga (W32543312) 
LOCATION:AL, Feuerwehr-Gerätehaus Al., Gemeinschaftsr., 1. OG, Bühlstraße 15, 71155 Altdorf
END:VEVENT
BEGIN:VEVENT
DTSTAMP:20260421T152521
DTSTART;TZID=Europe/Berlin:20261005T171500
DTEND;TZID=Europe/Berlin:20261005T184500
UID:W32543312-20261005T171500@VHSBÖBLINGEN-SINDELFINGEN
SUMMARY:Hatha Yoga (W32543312) 
LOCATION:AL, Feuerwehr-Gerätehaus Al., Gemeinschaftsr., 1. OG, Bühlstraße 15, 71155 Altdorf
END:VEVENT
BEGIN:VEVENT
DTSTAMP:20260421T152521
DTSTART;TZID=Europe/Berlin:20261012T171500
DTEND;TZID=Europe/Berlin:20261012T184500
UID:W32543312-20261012T171500@VHSBÖBLINGEN-SINDELFINGEN
SUMMARY:Hatha Yoga (W32543312) 
LOCATION:AL, Feuerwehr-Gerätehaus Al., Gemeinschaftsr., 1. OG, Bühlstraße 15, 71155 Altdorf
END:VEVENT
BEGIN:VEVENT
DTSTAMP:20260421T152521
DTSTART;TZID=Europe/Berlin:20261019T171500
DTEND;TZID=Europe/Berlin:20261019T184500
UID:W32543312-20261019T171500@VHSBÖBLINGEN-SINDELFINGEN
SUMMARY:Hatha Yoga (W32543312) 
LOCATION:AL, Feuerwehr-Gerätehaus Al., Gemeinschaftsr., 1. OG, Bühlstraße 15, 71155 Altdorf
END:VEVENT
BEGIN:VEVENT
DTSTAMP:20260421T152521
DTSTART;TZID=Europe/Berlin:20261102T171500
DTEND;TZID=Europe/Berlin:20261102T184500
UID:W32543312-20261102T171500@VHSBÖBLINGEN-SINDELFINGEN
SUMMARY:Hatha Yoga (W32543312) 
LOCATION:AL, Feuerwehr-Gerätehaus Al., Gemeinschaftsr., 1. OG, Bühlstraße 15, 71155 Altdorf
END:VEVENT
BEGIN:VEVENT
DTSTAMP:20260421T152521
DTSTART;TZID=Europe/Berlin:20261109T171500
DTEND;TZID=Europe/Berlin:20261109T184500
UID:W32543312-20261109T171500@VHSBÖBLINGEN-SINDELFINGEN
SUMMARY:Hatha Yoga (W32543312) 
LOCATION:AL, Feuerwehr-Gerätehaus Al., Gemeinschaftsr., 1. OG, Bühlstraße 15, 71155 Altdorf
END:VEVENT
BEGIN:VEVENT
DTSTAMP:20260421T152521
DTSTART;TZID=Europe/Berlin:20261116T171500
DTEND;TZID=Europe/Berlin:20261116T184500
UID:W32543312-20261116T171500@VHSBÖBLINGEN-SINDELFINGEN
SUMMARY:Hatha Yoga (W32543312) 
LOCATION:AL, Feuerwehr-Gerätehaus Al., Gemeinschaftsr., 1. OG, Bühlstraße 15, 71155 Altdorf
END:VEVENT
BEGIN:VEVENT
DTSTAMP:20260421T152521
DTSTART;TZID=Europe/Berlin:20261123T171500
DTEND;TZID=Europe/Berlin:20261123T184500
UID:W32543312-20261123T171500@VHSBÖBLINGEN-SINDELFINGEN
SUMMARY:Hatha Yoga (W32543312) 
LOCATION:AL, Feuerwehr-Gerätehaus Al., Gemeinschaftsr., 1. OG, Bühlstraße 15, 71155 Altdorf
END:VEVENT
BEGIN:VEVENT
DTSTAMP:20260421T152521
DTSTART;TZID=Europe/Berlin:20261130T171500
DTEND;TZID=Europe/Berlin:20261130T184500
UID:W32543312-20261130T171500@VHSBÖBLINGEN-SINDELFINGEN
SUMMARY:Hatha Yoga (W32543312) 
LOCATION:AL, Feuerwehr-Gerätehaus Al., Gemeinschaftsr., 1. OG, Bühlstraße 15, 71155 Altdorf
END:VEVENT
BEGIN:VEVENT
DTSTAMP:20260421T152521
DTSTART;TZID=Europe/Berlin:20261207T171500
DTEND;TZID=Europe/Berlin:20261207T184500
UID:W32543312-20261207T171500@VHSBÖBLINGEN-SINDELFINGEN
SUMMARY:Hatha Yoga (W32543312) 
LOCATION:AL, Feuerwehr-Gerätehaus Al., Gemeinschaftsr., 1. OG, Bühlstraße 15, 71155 Altdorf
END:VEVENT
BEGIN:VEVENT
DTSTAMP:20260421T152521
DTSTART;TZID=Europe/Berlin:20261214T171500
DTEND;TZID=Europe/Berlin:20261214T184500
UID:W32543312-20261214T171500@VHSBÖBLINGEN-SINDELFINGEN
SUMMARY:Hatha Yoga (W32543312) 
LOCATION:AL, Feuerwehr-Gerätehaus Al., Gemeinschaftsr., 1. OG, Bühlstraße 15, 71155 Altdorf
END:VEVENT
BEGIN:VEVENT
DTSTAMP:20260421T152521
DTSTART;TZID=Europe/Berlin:20270111T171500
DTEND;TZID=Europe/Berlin:20270111T184500
UID:W32543312-20270111T171500@VHSBÖBLINGEN-SINDELFINGEN
SUMMARY:Hatha Yoga (W32543312) 
LOCATION:AL, Feuerwehr-Gerätehaus Al., Gemeinschaftsr., 1. OG, Bühlstraße 15, 71155 Altdorf
END:VEVENT
BEGIN:VEVENT
DTSTAMP:20260421T152521
DTSTART;TZID=Europe/Berlin:20270118T171500
DTEND;TZID=Europe/Berlin:20270118T184500
UID:W32543312-20270118T171500@VHSBÖBLINGEN-SINDELFINGEN
SUMMARY:Hatha Yoga (W32543312) 
LOCATION:AL, Feuerwehr-Gerätehaus Al., Gemeinschaftsr., 1. OG, Bühlstraße 15, 71155 Altdorf
END:VEVENT
BEGIN:VEVENT
DTSTAMP:20260421T152521
DTSTART;TZID=Europe/Berlin:20270125T171500
DTEND;TZID=Europe/Berlin:20270125T184500
UID:W32543312-20270125T171500@VHSBÖBLINGEN-SINDELFINGEN
SUMMARY:Hatha Yoga (W32543312) 
LOCATION:AL, Feuerwehr-Gerätehaus Al., Gemeinschaftsr., 1. OG, Bühlstraße 15, 71155 Altdorf
END:VEVENT
END:VCALENDAR