BEGIN:VCALENDAR
VERSION:2.0
PRODID:https://www.kufer.de/kuferweb / DE
METHOD:PUBLISH
CALSCALE:GREGORIAN
X-WR-TIMEZONE:Europe/Berlin
BEGIN:VTIMEZONE
TZID:Europe/Berlin
X-LIC-LOCATION:Europe/Berlin
BEGIN:DAYLIGHT
TZOFFSETFROM:+0100
TZOFFSETTO:+0200
TZNAME:CEST
DTSTART:19700329T020000
RRULE:FREQ=YEARLY;INTERVAL=1;BYDAY=-1SU;BYMONTH=3
END:DAYLIGHT
BEGIN:STANDARD
TZOFFSETFROM:+0200
TZOFFSETTO:+0100
TZNAME:CET
DTSTART:19701025T030000
RRULE:FREQ=YEARLY;INTERVAL=1;BYDAY=-1SU;BYMONTH=10
END:STANDARD
END:VTIMEZONE
BEGIN:VEVENT
DTSTAMP:20260421T161039
DTSTART;TZID=Europe/Berlin:20260921T081500
DTEND;TZID=Europe/Berlin:20260921T093000
UID:W32543012-20260921T081500@VHSBÖBLINGEN-SINDELFINGEN
SUMMARY:Hatha Yoga (W32543012) 
LOCATION:AL, Feuerwehr-Gerätehaus Hi., Gemeinschaftsr., 1. OG, Hofäckerstraße 9, 71157 Hildrizhausen
END:VEVENT
BEGIN:VEVENT
DTSTAMP:20260421T161039
DTSTART;TZID=Europe/Berlin:20260928T081500
DTEND;TZID=Europe/Berlin:20260928T093000
UID:W32543012-20260928T081500@VHSBÖBLINGEN-SINDELFINGEN
SUMMARY:Hatha Yoga (W32543012) 
LOCATION:AL, Feuerwehr-Gerätehaus Hi., Gemeinschaftsr., 1. OG, Hofäckerstraße 9, 71157 Hildrizhausen
END:VEVENT
BEGIN:VEVENT
DTSTAMP:20260421T161039
DTSTART;TZID=Europe/Berlin:20261005T081500
DTEND;TZID=Europe/Berlin:20261005T093000
UID:W32543012-20261005T081500@VHSBÖBLINGEN-SINDELFINGEN
SUMMARY:Hatha Yoga (W32543012) 
LOCATION:AL, Feuerwehr-Gerätehaus Hi., Gemeinschaftsr., 1. OG, Hofäckerstraße 9, 71157 Hildrizhausen
END:VEVENT
BEGIN:VEVENT
DTSTAMP:20260421T161039
DTSTART;TZID=Europe/Berlin:20261012T081500
DTEND;TZID=Europe/Berlin:20261012T093000
UID:W32543012-20261012T081500@VHSBÖBLINGEN-SINDELFINGEN
SUMMARY:Hatha Yoga (W32543012) 
LOCATION:AL, Feuerwehr-Gerätehaus Hi., Gemeinschaftsr., 1. OG, Hofäckerstraße 9, 71157 Hildrizhausen
END:VEVENT
BEGIN:VEVENT
DTSTAMP:20260421T161039
DTSTART;TZID=Europe/Berlin:20261019T081500
DTEND;TZID=Europe/Berlin:20261019T093000
UID:W32543012-20261019T081500@VHSBÖBLINGEN-SINDELFINGEN
SUMMARY:Hatha Yoga (W32543012) 
LOCATION:AL, Feuerwehr-Gerätehaus Hi., Gemeinschaftsr., 1. OG, Hofäckerstraße 9, 71157 Hildrizhausen
END:VEVENT
BEGIN:VEVENT
DTSTAMP:20260421T161039
DTSTART;TZID=Europe/Berlin:20261102T081500
DTEND;TZID=Europe/Berlin:20261102T093000
UID:W32543012-20261102T081500@VHSBÖBLINGEN-SINDELFINGEN
SUMMARY:Hatha Yoga (W32543012) 
LOCATION:AL, Feuerwehr-Gerätehaus Hi., Gemeinschaftsr., 1. OG, Hofäckerstraße 9, 71157 Hildrizhausen
END:VEVENT
BEGIN:VEVENT
DTSTAMP:20260421T161039
DTSTART;TZID=Europe/Berlin:20261109T081500
DTEND;TZID=Europe/Berlin:20261109T093000
UID:W32543012-20261109T081500@VHSBÖBLINGEN-SINDELFINGEN
SUMMARY:Hatha Yoga (W32543012) 
LOCATION:AL, Feuerwehr-Gerätehaus Hi., Gemeinschaftsr., 1. OG, Hofäckerstraße 9, 71157 Hildrizhausen
END:VEVENT
BEGIN:VEVENT
DTSTAMP:20260421T161039
DTSTART;TZID=Europe/Berlin:20261116T081500
DTEND;TZID=Europe/Berlin:20261116T093000
UID:W32543012-20261116T081500@VHSBÖBLINGEN-SINDELFINGEN
SUMMARY:Hatha Yoga (W32543012) 
LOCATION:AL, Feuerwehr-Gerätehaus Hi., Gemeinschaftsr., 1. OG, Hofäckerstraße 9, 71157 Hildrizhausen
END:VEVENT
BEGIN:VEVENT
DTSTAMP:20260421T161039
DTSTART;TZID=Europe/Berlin:20261123T081500
DTEND;TZID=Europe/Berlin:20261123T093000
UID:W32543012-20261123T081500@VHSBÖBLINGEN-SINDELFINGEN
SUMMARY:Hatha Yoga (W32543012) 
LOCATION:AL, Feuerwehr-Gerätehaus Hi., Gemeinschaftsr., 1. OG, Hofäckerstraße 9, 71157 Hildrizhausen
END:VEVENT
BEGIN:VEVENT
DTSTAMP:20260421T161039
DTSTART;TZID=Europe/Berlin:20261130T081500
DTEND;TZID=Europe/Berlin:20261130T093000
UID:W32543012-20261130T081500@VHSBÖBLINGEN-SINDELFINGEN
SUMMARY:Hatha Yoga (W32543012) 
LOCATION:AL, Feuerwehr-Gerätehaus Hi., Gemeinschaftsr., 1. OG, Hofäckerstraße 9, 71157 Hildrizhausen
END:VEVENT
BEGIN:VEVENT
DTSTAMP:20260421T161039
DTSTART;TZID=Europe/Berlin:20261207T081500
DTEND;TZID=Europe/Berlin:20261207T093000
UID:W32543012-20261207T081500@VHSBÖBLINGEN-SINDELFINGEN
SUMMARY:Hatha Yoga (W32543012) 
LOCATION:AL, Feuerwehr-Gerätehaus Hi., Gemeinschaftsr., 1. OG, Hofäckerstraße 9, 71157 Hildrizhausen
END:VEVENT
BEGIN:VEVENT
DTSTAMP:20260421T161039
DTSTART;TZID=Europe/Berlin:20261214T081500
DTEND;TZID=Europe/Berlin:20261214T093000
UID:W32543012-20261214T081500@VHSBÖBLINGEN-SINDELFINGEN
SUMMARY:Hatha Yoga (W32543012) 
LOCATION:AL, Feuerwehr-Gerätehaus Hi., Gemeinschaftsr., 1. OG, Hofäckerstraße 9, 71157 Hildrizhausen
END:VEVENT
BEGIN:VEVENT
DTSTAMP:20260421T161039
DTSTART;TZID=Europe/Berlin:20261221T081500
DTEND;TZID=Europe/Berlin:20261221T093000
UID:W32543012-20261221T081500@VHSBÖBLINGEN-SINDELFINGEN
SUMMARY:Hatha Yoga (W32543012) 
LOCATION:AL, Feuerwehr-Gerätehaus Hi., Gemeinschaftsr., 1. OG, Hofäckerstraße 9, 71157 Hildrizhausen
END:VEVENT
BEGIN:VEVENT
DTSTAMP:20260421T161039
DTSTART;TZID=Europe/Berlin:20270111T081500
DTEND;TZID=Europe/Berlin:20270111T093000
UID:W32543012-20270111T081500@VHSBÖBLINGEN-SINDELFINGEN
SUMMARY:Hatha Yoga (W32543012) 
LOCATION:AL, Feuerwehr-Gerätehaus Hi., Gemeinschaftsr., 1. OG, Hofäckerstraße 9, 71157 Hildrizhausen
END:VEVENT
BEGIN:VEVENT
DTSTAMP:20260421T161039
DTSTART;TZID=Europe/Berlin:20270118T081500
DTEND;TZID=Europe/Berlin:20270118T093000
UID:W32543012-20270118T081500@VHSBÖBLINGEN-SINDELFINGEN
SUMMARY:Hatha Yoga (W32543012) 
LOCATION:AL, Feuerwehr-Gerätehaus Hi., Gemeinschaftsr., 1. OG, Hofäckerstraße 9, 71157 Hildrizhausen
END:VEVENT
BEGIN:VEVENT
DTSTAMP:20260421T161039
DTSTART;TZID=Europe/Berlin:20270125T081500
DTEND;TZID=Europe/Berlin:20270125T093000
UID:W32543012-20270125T081500@VHSBÖBLINGEN-SINDELFINGEN
SUMMARY:Hatha Yoga (W32543012) 
LOCATION:AL, Feuerwehr-Gerätehaus Hi., Gemeinschaftsr., 1. OG, Hofäckerstraße 9, 71157 Hildrizhausen
END:VEVENT
END:VCALENDAR