BEGIN:VCALENDAR
VERSION:2.0
PRODID:https://www.kufer.de/kuferweb / DE
METHOD:PUBLISH
CALSCALE:GREGORIAN
X-WR-TIMEZONE:Europe/Berlin
BEGIN:VTIMEZONE
TZID:Europe/Berlin
X-LIC-LOCATION:Europe/Berlin
BEGIN:DAYLIGHT
TZOFFSETFROM:+0100
TZOFFSETTO:+0200
TZNAME:CEST
DTSTART:19700329T020000
RRULE:FREQ=YEARLY;INTERVAL=1;BYDAY=-1SU;BYMONTH=3
END:DAYLIGHT
BEGIN:STANDARD
TZOFFSETFROM:+0200
TZOFFSETTO:+0100
TZNAME:CET
DTSTART:19701025T030000
RRULE:FREQ=YEARLY;INTERVAL=1;BYDAY=-1SU;BYMONTH=10
END:STANDARD
END:VTIMEZONE
BEGIN:VEVENT
DTSTAMP:20260421T153546
DTSTART;TZID=Europe/Berlin:20260918T090000
DTEND;TZID=Europe/Berlin:20260918T103000
UID:W32538010-20260918T090000@VHSBÖBLINGEN-SINDELFINGEN
SUMMARY:Hatha Yoga (W32538010) 
LOCATION:Höfle, Saal, 107, 1. OG, Pestalozzistr. 4, 71032 Böblingen
END:VEVENT
BEGIN:VEVENT
DTSTAMP:20260421T153546
DTSTART;TZID=Europe/Berlin:20260925T090000
DTEND;TZID=Europe/Berlin:20260925T103000
UID:W32538010-20260925T090000@VHSBÖBLINGEN-SINDELFINGEN
SUMMARY:Hatha Yoga (W32538010) 
LOCATION:Höfle, Saal, 107, 1. OG, Pestalozzistr. 4, 71032 Böblingen
END:VEVENT
BEGIN:VEVENT
DTSTAMP:20260421T153546
DTSTART;TZID=Europe/Berlin:20261002T090000
DTEND;TZID=Europe/Berlin:20261002T103000
UID:W32538010-20261002T090000@VHSBÖBLINGEN-SINDELFINGEN
SUMMARY:Hatha Yoga (W32538010) 
LOCATION:Höfle, Saal, 107, 1. OG, Pestalozzistr. 4, 71032 Böblingen
END:VEVENT
BEGIN:VEVENT
DTSTAMP:20260421T153546
DTSTART;TZID=Europe/Berlin:20261009T090000
DTEND;TZID=Europe/Berlin:20261009T103000
UID:W32538010-20261009T090000@VHSBÖBLINGEN-SINDELFINGEN
SUMMARY:Hatha Yoga (W32538010) 
LOCATION:Höfle, Saal, 107, 1. OG, Pestalozzistr. 4, 71032 Böblingen
END:VEVENT
BEGIN:VEVENT
DTSTAMP:20260421T153546
DTSTART;TZID=Europe/Berlin:20261016T090000
DTEND;TZID=Europe/Berlin:20261016T103000
UID:W32538010-20261016T090000@VHSBÖBLINGEN-SINDELFINGEN
SUMMARY:Hatha Yoga (W32538010) 
LOCATION:Höfle, Saal, 107, 1. OG, Pestalozzistr. 4, 71032 Böblingen
END:VEVENT
BEGIN:VEVENT
DTSTAMP:20260421T153546
DTSTART;TZID=Europe/Berlin:20261023T090000
DTEND;TZID=Europe/Berlin:20261023T103000
UID:W32538010-20261023T090000@VHSBÖBLINGEN-SINDELFINGEN
SUMMARY:Hatha Yoga (W32538010) 
LOCATION:Höfle, Saal, 107, 1. OG, Pestalozzistr. 4, 71032 Böblingen
END:VEVENT
BEGIN:VEVENT
DTSTAMP:20260421T153546
DTSTART;TZID=Europe/Berlin:20261106T090000
DTEND;TZID=Europe/Berlin:20261106T103000
UID:W32538010-20261106T090000@VHSBÖBLINGEN-SINDELFINGEN
SUMMARY:Hatha Yoga (W32538010) 
LOCATION:Höfle, Saal, 107, 1. OG, Pestalozzistr. 4, 71032 Böblingen
END:VEVENT
BEGIN:VEVENT
DTSTAMP:20260421T153546
DTSTART;TZID=Europe/Berlin:20261113T090000
DTEND;TZID=Europe/Berlin:20261113T103000
UID:W32538010-20261113T090000@VHSBÖBLINGEN-SINDELFINGEN
SUMMARY:Hatha Yoga (W32538010) 
LOCATION:Höfle, Saal, 107, 1. OG, Pestalozzistr. 4, 71032 Böblingen
END:VEVENT
BEGIN:VEVENT
DTSTAMP:20260421T153546
DTSTART;TZID=Europe/Berlin:20261120T090000
DTEND;TZID=Europe/Berlin:20261120T103000
UID:W32538010-20261120T090000@VHSBÖBLINGEN-SINDELFINGEN
SUMMARY:Hatha Yoga (W32538010) 
LOCATION:Höfle, Saal, 107, 1. OG, Pestalozzistr. 4, 71032 Böblingen
END:VEVENT
BEGIN:VEVENT
DTSTAMP:20260421T153546
DTSTART;TZID=Europe/Berlin:20261127T090000
DTEND;TZID=Europe/Berlin:20261127T103000
UID:W32538010-20261127T090000@VHSBÖBLINGEN-SINDELFINGEN
SUMMARY:Hatha Yoga (W32538010) 
LOCATION:Höfle, Saal, 107, 1. OG, Pestalozzistr. 4, 71032 Böblingen
END:VEVENT
BEGIN:VEVENT
DTSTAMP:20260421T153546
DTSTART;TZID=Europe/Berlin:20261204T090000
DTEND;TZID=Europe/Berlin:20261204T103000
UID:W32538010-20261204T090000@VHSBÖBLINGEN-SINDELFINGEN
SUMMARY:Hatha Yoga (W32538010) 
LOCATION:Höfle, Saal, 107, 1. OG, Pestalozzistr. 4, 71032 Böblingen
END:VEVENT
BEGIN:VEVENT
DTSTAMP:20260421T153546
DTSTART;TZID=Europe/Berlin:20261211T090000
DTEND;TZID=Europe/Berlin:20261211T103000
UID:W32538010-20261211T090000@VHSBÖBLINGEN-SINDELFINGEN
SUMMARY:Hatha Yoga (W32538010) 
LOCATION:Höfle, Saal, 107, 1. OG, Pestalozzistr. 4, 71032 Böblingen
END:VEVENT
BEGIN:VEVENT
DTSTAMP:20260421T153546
DTSTART;TZID=Europe/Berlin:20261218T090000
DTEND;TZID=Europe/Berlin:20261218T103000
UID:W32538010-20261218T090000@VHSBÖBLINGEN-SINDELFINGEN
SUMMARY:Hatha Yoga (W32538010) 
LOCATION:Höfle, Saal, 107, 1. OG, Pestalozzistr. 4, 71032 Böblingen
END:VEVENT
BEGIN:VEVENT
DTSTAMP:20260421T153546
DTSTART;TZID=Europe/Berlin:20270115T090000
DTEND;TZID=Europe/Berlin:20270115T103000
UID:W32538010-20270115T090000@VHSBÖBLINGEN-SINDELFINGEN
SUMMARY:Hatha Yoga (W32538010) 
LOCATION:Höfle, Saal, 107, 1. OG, Pestalozzistr. 4, 71032 Böblingen
END:VEVENT
BEGIN:VEVENT
DTSTAMP:20260421T153546
DTSTART;TZID=Europe/Berlin:20270122T090000
DTEND;TZID=Europe/Berlin:20270122T103000
UID:W32538010-20270122T090000@VHSBÖBLINGEN-SINDELFINGEN
SUMMARY:Hatha Yoga (W32538010) 
LOCATION:Höfle, Saal, 107, 1. OG, Pestalozzistr. 4, 71032 Böblingen
END:VEVENT
BEGIN:VEVENT
DTSTAMP:20260421T153546
DTSTART;TZID=Europe/Berlin:20270129T090000
DTEND;TZID=Europe/Berlin:20270129T103000
UID:W32538010-20270129T090000@VHSBÖBLINGEN-SINDELFINGEN
SUMMARY:Hatha Yoga (W32538010) 
LOCATION:Höfle, Saal, 107, 1. OG, Pestalozzistr. 4, 71032 Böblingen
END:VEVENT
BEGIN:VEVENT
DTSTAMP:20260421T153546
DTSTART;TZID=Europe/Berlin:20270205T090000
DTEND;TZID=Europe/Berlin:20270205T103000
UID:W32538010-20270205T090000@VHSBÖBLINGEN-SINDELFINGEN
SUMMARY:Hatha Yoga (W32538010) 
LOCATION:Höfle, Saal, 107, 1. OG, Pestalozzistr. 4, 71032 Böblingen
END:VEVENT
END:VCALENDAR