BEGIN:VCALENDAR
VERSION:2.0
PRODID:https://www.kufer.de/kuferweb / DE
METHOD:PUBLISH
CALSCALE:GREGORIAN
X-WR-TIMEZONE:Europe/Berlin
BEGIN:VTIMEZONE
TZID:Europe/Berlin
X-LIC-LOCATION:Europe/Berlin
BEGIN:DAYLIGHT
TZOFFSETFROM:+0100
TZOFFSETTO:+0200
TZNAME:CEST
DTSTART:19700329T020000
RRULE:FREQ=YEARLY;INTERVAL=1;BYDAY=-1SU;BYMONTH=3
END:DAYLIGHT
BEGIN:STANDARD
TZOFFSETFROM:+0200
TZOFFSETTO:+0100
TZNAME:CET
DTSTART:19701025T030000
RRULE:FREQ=YEARLY;INTERVAL=1;BYDAY=-1SU;BYMONTH=10
END:STANDARD
END:VTIMEZONE
BEGIN:VEVENT
DTSTAMP:20260421T144420
DTSTART;TZID=Europe/Berlin:20260924T174500
DTEND;TZID=Europe/Berlin:20260924T190000
UID:W32535710-20260924T174500@VHSBÖBLINGEN-SINDELFINGEN
SUMMARY:Hatha Yoga (W32535710) 
LOCATION:Höfle, Saal, 107, 1. OG, Pestalozzistr. 4, 71032 Böblingen
END:VEVENT
BEGIN:VEVENT
DTSTAMP:20260421T144420
DTSTART;TZID=Europe/Berlin:20261008T174500
DTEND;TZID=Europe/Berlin:20261008T190000
UID:W32535710-20261008T174500@VHSBÖBLINGEN-SINDELFINGEN
SUMMARY:Hatha Yoga (W32535710) 
LOCATION:Höfle, Saal, 107, 1. OG, Pestalozzistr. 4, 71032 Böblingen
END:VEVENT
BEGIN:VEVENT
DTSTAMP:20260421T144420
DTSTART;TZID=Europe/Berlin:20261015T174500
DTEND;TZID=Europe/Berlin:20261015T190000
UID:W32535710-20261015T174500@VHSBÖBLINGEN-SINDELFINGEN
SUMMARY:Hatha Yoga (W32535710) 
LOCATION:Höfle, Saal, 107, 1. OG, Pestalozzistr. 4, 71032 Böblingen
END:VEVENT
BEGIN:VEVENT
DTSTAMP:20260421T144420
DTSTART;TZID=Europe/Berlin:20261022T174500
DTEND;TZID=Europe/Berlin:20261022T190000
UID:W32535710-20261022T174500@VHSBÖBLINGEN-SINDELFINGEN
SUMMARY:Hatha Yoga (W32535710) 
LOCATION:Höfle, Saal, 107, 1. OG, Pestalozzistr. 4, 71032 Böblingen
END:VEVENT
BEGIN:VEVENT
DTSTAMP:20260421T144420
DTSTART;TZID=Europe/Berlin:20261112T174500
DTEND;TZID=Europe/Berlin:20261112T190000
UID:W32535710-20261112T174500@VHSBÖBLINGEN-SINDELFINGEN
SUMMARY:Hatha Yoga (W32535710) 
LOCATION:Höfle, Saal, 107, 1. OG, Pestalozzistr. 4, 71032 Böblingen
END:VEVENT
BEGIN:VEVENT
DTSTAMP:20260421T144420
DTSTART;TZID=Europe/Berlin:20261119T174500
DTEND;TZID=Europe/Berlin:20261119T190000
UID:W32535710-20261119T174500@VHSBÖBLINGEN-SINDELFINGEN
SUMMARY:Hatha Yoga (W32535710) 
LOCATION:Höfle, Saal, 107, 1. OG, Pestalozzistr. 4, 71032 Böblingen
END:VEVENT
BEGIN:VEVENT
DTSTAMP:20260421T144420
DTSTART;TZID=Europe/Berlin:20261126T174500
DTEND;TZID=Europe/Berlin:20261126T190000
UID:W32535710-20261126T174500@VHSBÖBLINGEN-SINDELFINGEN
SUMMARY:Hatha Yoga (W32535710) 
LOCATION:Höfle, Saal, 107, 1. OG, Pestalozzistr. 4, 71032 Böblingen
END:VEVENT
BEGIN:VEVENT
DTSTAMP:20260421T144420
DTSTART;TZID=Europe/Berlin:20261203T174500
DTEND;TZID=Europe/Berlin:20261203T190000
UID:W32535710-20261203T174500@VHSBÖBLINGEN-SINDELFINGEN
SUMMARY:Hatha Yoga (W32535710) 
LOCATION:Höfle, Saal, 107, 1. OG, Pestalozzistr. 4, 71032 Böblingen
END:VEVENT
BEGIN:VEVENT
DTSTAMP:20260421T144420
DTSTART;TZID=Europe/Berlin:20261210T174500
DTEND;TZID=Europe/Berlin:20261210T190000
UID:W32535710-20261210T174500@VHSBÖBLINGEN-SINDELFINGEN
SUMMARY:Hatha Yoga (W32535710) 
LOCATION:Höfle, Saal, 107, 1. OG, Pestalozzistr. 4, 71032 Böblingen
END:VEVENT
BEGIN:VEVENT
DTSTAMP:20260421T144420
DTSTART;TZID=Europe/Berlin:20261217T174500
DTEND;TZID=Europe/Berlin:20261217T190000
UID:W32535710-20261217T174500@VHSBÖBLINGEN-SINDELFINGEN
SUMMARY:Hatha Yoga (W32535710) 
LOCATION:Höfle, Saal, 107, 1. OG, Pestalozzistr. 4, 71032 Böblingen
END:VEVENT
BEGIN:VEVENT
DTSTAMP:20260421T144420
DTSTART;TZID=Europe/Berlin:20270114T174500
DTEND;TZID=Europe/Berlin:20270114T190000
UID:W32535710-20270114T174500@VHSBÖBLINGEN-SINDELFINGEN
SUMMARY:Hatha Yoga (W32535710) 
LOCATION:Höfle, Saal, 107, 1. OG, Pestalozzistr. 4, 71032 Böblingen
END:VEVENT
BEGIN:VEVENT
DTSTAMP:20260421T144420
DTSTART;TZID=Europe/Berlin:20270121T174500
DTEND;TZID=Europe/Berlin:20270121T190000
UID:W32535710-20270121T174500@VHSBÖBLINGEN-SINDELFINGEN
SUMMARY:Hatha Yoga (W32535710) 
LOCATION:Höfle, Saal, 107, 1. OG, Pestalozzistr. 4, 71032 Böblingen
END:VEVENT
BEGIN:VEVENT
DTSTAMP:20260421T144420
DTSTART;TZID=Europe/Berlin:20270128T174500
DTEND;TZID=Europe/Berlin:20270128T190000
UID:W32535710-20270128T174500@VHSBÖBLINGEN-SINDELFINGEN
SUMMARY:Hatha Yoga (W32535710) 
LOCATION:Höfle, Saal, 107, 1. OG, Pestalozzistr. 4, 71032 Böblingen
END:VEVENT
BEGIN:VEVENT
DTSTAMP:20260421T144420
DTSTART;TZID=Europe/Berlin:20270204T174500
DTEND;TZID=Europe/Berlin:20270204T190000
UID:W32535710-20270204T174500@VHSBÖBLINGEN-SINDELFINGEN
SUMMARY:Hatha Yoga (W32535710) 
LOCATION:Höfle, Saal, 107, 1. OG, Pestalozzistr. 4, 71032 Böblingen
END:VEVENT
END:VCALENDAR