BEGIN:VCALENDAR
VERSION:2.0
PRODID:https://www.kufer.de/kuferweb / DE
METHOD:PUBLISH
CALSCALE:GREGORIAN
X-WR-TIMEZONE:Europe/Berlin
BEGIN:VTIMEZONE
TZID:Europe/Berlin
X-LIC-LOCATION:Europe/Berlin
BEGIN:DAYLIGHT
TZOFFSETFROM:+0100
TZOFFSETTO:+0200
TZNAME:CEST
DTSTART:19700329T020000
RRULE:FREQ=YEARLY;INTERVAL=1;BYDAY=-1SU;BYMONTH=3
END:DAYLIGHT
BEGIN:STANDARD
TZOFFSETFROM:+0200
TZOFFSETTO:+0100
TZNAME:CET
DTSTART:19701025T030000
RRULE:FREQ=YEARLY;INTERVAL=1;BYDAY=-1SU;BYMONTH=10
END:STANDARD
END:VTIMEZONE
BEGIN:VEVENT
DTSTAMP:20260421T153551
DTSTART;TZID=Europe/Berlin:20260917T193000
DTEND;TZID=Europe/Berlin:20260917T210000
UID:W32535210-20260917T193000@VHSBÖBLINGEN-SINDELFINGEN
SUMMARY:Hatha Yoga (W32535210) 
LOCATION:Paul-Lechler-Schule 2, ___, Pestalozzistr. 9, 71032 Böblingen
END:VEVENT
BEGIN:VEVENT
DTSTAMP:20260421T153551
DTSTART;TZID=Europe/Berlin:20260924T193000
DTEND;TZID=Europe/Berlin:20260924T210000
UID:W32535210-20260924T193000@VHSBÖBLINGEN-SINDELFINGEN
SUMMARY:Hatha Yoga (W32535210) 
LOCATION:Paul-Lechler-Schule 2, ___, Pestalozzistr. 9, 71032 Böblingen
END:VEVENT
BEGIN:VEVENT
DTSTAMP:20260421T153551
DTSTART;TZID=Europe/Berlin:20261001T193000
DTEND;TZID=Europe/Berlin:20261001T210000
UID:W32535210-20261001T193000@VHSBÖBLINGEN-SINDELFINGEN
SUMMARY:Hatha Yoga (W32535210) 
LOCATION:Paul-Lechler-Schule 2, ___, Pestalozzistr. 9, 71032 Böblingen
END:VEVENT
BEGIN:VEVENT
DTSTAMP:20260421T153551
DTSTART;TZID=Europe/Berlin:20261008T193000
DTEND;TZID=Europe/Berlin:20261008T210000
UID:W32535210-20261008T193000@VHSBÖBLINGEN-SINDELFINGEN
SUMMARY:Hatha Yoga (W32535210) 
LOCATION:Paul-Lechler-Schule 2, ___, Pestalozzistr. 9, 71032 Böblingen
END:VEVENT
BEGIN:VEVENT
DTSTAMP:20260421T153551
DTSTART;TZID=Europe/Berlin:20261015T193000
DTEND;TZID=Europe/Berlin:20261015T210000
UID:W32535210-20261015T193000@VHSBÖBLINGEN-SINDELFINGEN
SUMMARY:Hatha Yoga (W32535210) 
LOCATION:Paul-Lechler-Schule 2, ___, Pestalozzistr. 9, 71032 Böblingen
END:VEVENT
BEGIN:VEVENT
DTSTAMP:20260421T153551
DTSTART;TZID=Europe/Berlin:20261022T193000
DTEND;TZID=Europe/Berlin:20261022T210000
UID:W32535210-20261022T193000@VHSBÖBLINGEN-SINDELFINGEN
SUMMARY:Hatha Yoga (W32535210) 
LOCATION:Paul-Lechler-Schule 2, ___, Pestalozzistr. 9, 71032 Böblingen
END:VEVENT
BEGIN:VEVENT
DTSTAMP:20260421T153551
DTSTART;TZID=Europe/Berlin:20261105T193000
DTEND;TZID=Europe/Berlin:20261105T210000
UID:W32535210-20261105T193000@VHSBÖBLINGEN-SINDELFINGEN
SUMMARY:Hatha Yoga (W32535210) 
LOCATION:Paul-Lechler-Schule 2, ___, Pestalozzistr. 9, 71032 Böblingen
END:VEVENT
BEGIN:VEVENT
DTSTAMP:20260421T153551
DTSTART;TZID=Europe/Berlin:20261112T193000
DTEND;TZID=Europe/Berlin:20261112T210000
UID:W32535210-20261112T193000@VHSBÖBLINGEN-SINDELFINGEN
SUMMARY:Hatha Yoga (W32535210) 
LOCATION:Paul-Lechler-Schule 2, ___, Pestalozzistr. 9, 71032 Böblingen
END:VEVENT
BEGIN:VEVENT
DTSTAMP:20260421T153551
DTSTART;TZID=Europe/Berlin:20261119T193000
DTEND;TZID=Europe/Berlin:20261119T210000
UID:W32535210-20261119T193000@VHSBÖBLINGEN-SINDELFINGEN
SUMMARY:Hatha Yoga (W32535210) 
LOCATION:Paul-Lechler-Schule 2, ___, Pestalozzistr. 9, 71032 Böblingen
END:VEVENT
BEGIN:VEVENT
DTSTAMP:20260421T153551
DTSTART;TZID=Europe/Berlin:20261126T193000
DTEND;TZID=Europe/Berlin:20261126T210000
UID:W32535210-20261126T193000@VHSBÖBLINGEN-SINDELFINGEN
SUMMARY:Hatha Yoga (W32535210) 
LOCATION:Paul-Lechler-Schule 2, ___, Pestalozzistr. 9, 71032 Böblingen
END:VEVENT
BEGIN:VEVENT
DTSTAMP:20260421T153551
DTSTART;TZID=Europe/Berlin:20261203T193000
DTEND;TZID=Europe/Berlin:20261203T210000
UID:W32535210-20261203T193000@VHSBÖBLINGEN-SINDELFINGEN
SUMMARY:Hatha Yoga (W32535210) 
LOCATION:Paul-Lechler-Schule 2, ___, Pestalozzistr. 9, 71032 Böblingen
END:VEVENT
BEGIN:VEVENT
DTSTAMP:20260421T153551
DTSTART;TZID=Europe/Berlin:20261210T193000
DTEND;TZID=Europe/Berlin:20261210T210000
UID:W32535210-20261210T193000@VHSBÖBLINGEN-SINDELFINGEN
SUMMARY:Hatha Yoga (W32535210) 
LOCATION:Paul-Lechler-Schule 2, ___, Pestalozzistr. 9, 71032 Böblingen
END:VEVENT
BEGIN:VEVENT
DTSTAMP:20260421T153551
DTSTART;TZID=Europe/Berlin:20261217T193000
DTEND;TZID=Europe/Berlin:20261217T210000
UID:W32535210-20261217T193000@VHSBÖBLINGEN-SINDELFINGEN
SUMMARY:Hatha Yoga (W32535210) 
LOCATION:Paul-Lechler-Schule 2, ___, Pestalozzistr. 9, 71032 Böblingen
END:VEVENT
BEGIN:VEVENT
DTSTAMP:20260421T153551
DTSTART;TZID=Europe/Berlin:20270114T193000
DTEND;TZID=Europe/Berlin:20270114T210000
UID:W32535210-20270114T193000@VHSBÖBLINGEN-SINDELFINGEN
SUMMARY:Hatha Yoga (W32535210) 
LOCATION:Paul-Lechler-Schule 2, ___, Pestalozzistr. 9, 71032 Böblingen
END:VEVENT
BEGIN:VEVENT
DTSTAMP:20260421T153551
DTSTART;TZID=Europe/Berlin:20270121T193000
DTEND;TZID=Europe/Berlin:20270121T210000
UID:W32535210-20270121T193000@VHSBÖBLINGEN-SINDELFINGEN
SUMMARY:Hatha Yoga (W32535210) 
LOCATION:Paul-Lechler-Schule 2, ___, Pestalozzistr. 9, 71032 Böblingen
END:VEVENT
BEGIN:VEVENT
DTSTAMP:20260421T153551
DTSTART;TZID=Europe/Berlin:20270128T193000
DTEND;TZID=Europe/Berlin:20270128T210000
UID:W32535210-20270128T193000@VHSBÖBLINGEN-SINDELFINGEN
SUMMARY:Hatha Yoga (W32535210) 
LOCATION:Paul-Lechler-Schule 2, ___, Pestalozzistr. 9, 71032 Böblingen
END:VEVENT
BEGIN:VEVENT
DTSTAMP:20260421T153551
DTSTART;TZID=Europe/Berlin:20270204T193000
DTEND;TZID=Europe/Berlin:20270204T210000
UID:W32535210-20270204T193000@VHSBÖBLINGEN-SINDELFINGEN
SUMMARY:Hatha Yoga (W32535210) 
LOCATION:Paul-Lechler-Schule 2, ___, Pestalozzistr. 9, 71032 Böblingen
END:VEVENT
END:VCALENDAR