BEGIN:VCALENDAR
VERSION:2.0
PRODID:https://www.kufer.de/kuferweb / DE
METHOD:PUBLISH
CALSCALE:GREGORIAN
X-WR-TIMEZONE:Europe/Berlin
BEGIN:VTIMEZONE
TZID:Europe/Berlin
X-LIC-LOCATION:Europe/Berlin
BEGIN:DAYLIGHT
TZOFFSETFROM:+0100
TZOFFSETTO:+0200
TZNAME:CEST
DTSTART:19700329T020000
RRULE:FREQ=YEARLY;INTERVAL=1;BYDAY=-1SU;BYMONTH=3
END:DAYLIGHT
BEGIN:STANDARD
TZOFFSETFROM:+0200
TZOFFSETTO:+0100
TZNAME:CET
DTSTART:19701025T030000
RRULE:FREQ=YEARLY;INTERVAL=1;BYDAY=-1SU;BYMONTH=10
END:STANDARD
END:VTIMEZONE
BEGIN:VEVENT
DTSTAMP:20260421T134555
DTSTART;TZID=Europe/Berlin:20260922T174500
DTEND;TZID=Europe/Berlin:20260922T190000
UID:W32533710-20260922T174500@VHSBÖBLINGEN-SINDELFINGEN
SUMMARY:Hatha Yoga (W32533710) 
LOCATION:Turn- und Festhalle Darmsheim, ___, Karlsstr. 27, 71069 Sindelfingen
END:VEVENT
BEGIN:VEVENT
DTSTAMP:20260421T134555
DTSTART;TZID=Europe/Berlin:20260929T174500
DTEND;TZID=Europe/Berlin:20260929T190000
UID:W32533710-20260929T174500@VHSBÖBLINGEN-SINDELFINGEN
SUMMARY:Hatha Yoga (W32533710) 
LOCATION:Turn- und Festhalle Darmsheim, ___, Karlsstr. 27, 71069 Sindelfingen
END:VEVENT
BEGIN:VEVENT
DTSTAMP:20260421T134555
DTSTART;TZID=Europe/Berlin:20261006T174500
DTEND;TZID=Europe/Berlin:20261006T190000
UID:W32533710-20261006T174500@VHSBÖBLINGEN-SINDELFINGEN
SUMMARY:Hatha Yoga (W32533710) 
LOCATION:Turn- und Festhalle Darmsheim, ___, Karlsstr. 27, 71069 Sindelfingen
END:VEVENT
BEGIN:VEVENT
DTSTAMP:20260421T134555
DTSTART;TZID=Europe/Berlin:20261013T174500
DTEND;TZID=Europe/Berlin:20261013T190000
UID:W32533710-20261013T174500@VHSBÖBLINGEN-SINDELFINGEN
SUMMARY:Hatha Yoga (W32533710) 
LOCATION:Turn- und Festhalle Darmsheim, ___, Karlsstr. 27, 71069 Sindelfingen
END:VEVENT
BEGIN:VEVENT
DTSTAMP:20260421T134555
DTSTART;TZID=Europe/Berlin:20261020T174500
DTEND;TZID=Europe/Berlin:20261020T190000
UID:W32533710-20261020T174500@VHSBÖBLINGEN-SINDELFINGEN
SUMMARY:Hatha Yoga (W32533710) 
LOCATION:Turn- und Festhalle Darmsheim, ___, Karlsstr. 27, 71069 Sindelfingen
END:VEVENT
BEGIN:VEVENT
DTSTAMP:20260421T134555
DTSTART;TZID=Europe/Berlin:20261103T174500
DTEND;TZID=Europe/Berlin:20261103T190000
UID:W32533710-20261103T174500@VHSBÖBLINGEN-SINDELFINGEN
SUMMARY:Hatha Yoga (W32533710) 
LOCATION:Turn- und Festhalle Darmsheim, ___, Karlsstr. 27, 71069 Sindelfingen
END:VEVENT
BEGIN:VEVENT
DTSTAMP:20260421T134555
DTSTART;TZID=Europe/Berlin:20261110T174500
DTEND;TZID=Europe/Berlin:20261110T190000
UID:W32533710-20261110T174500@VHSBÖBLINGEN-SINDELFINGEN
SUMMARY:Hatha Yoga (W32533710) 
LOCATION:Turn- und Festhalle Darmsheim, ___, Karlsstr. 27, 71069 Sindelfingen
END:VEVENT
BEGIN:VEVENT
DTSTAMP:20260421T134555
DTSTART;TZID=Europe/Berlin:20261117T174500
DTEND;TZID=Europe/Berlin:20261117T190000
UID:W32533710-20261117T174500@VHSBÖBLINGEN-SINDELFINGEN
SUMMARY:Hatha Yoga (W32533710) 
LOCATION:Turn- und Festhalle Darmsheim, ___, Karlsstr. 27, 71069 Sindelfingen
END:VEVENT
BEGIN:VEVENT
DTSTAMP:20260421T134555
DTSTART;TZID=Europe/Berlin:20261124T174500
DTEND;TZID=Europe/Berlin:20261124T190000
UID:W32533710-20261124T174500@VHSBÖBLINGEN-SINDELFINGEN
SUMMARY:Hatha Yoga (W32533710) 
LOCATION:Turn- und Festhalle Darmsheim, ___, Karlsstr. 27, 71069 Sindelfingen
END:VEVENT
BEGIN:VEVENT
DTSTAMP:20260421T134555
DTSTART;TZID=Europe/Berlin:20261201T174500
DTEND;TZID=Europe/Berlin:20261201T190000
UID:W32533710-20261201T174500@VHSBÖBLINGEN-SINDELFINGEN
SUMMARY:Hatha Yoga (W32533710) 
LOCATION:Turn- und Festhalle Darmsheim, ___, Karlsstr. 27, 71069 Sindelfingen
END:VEVENT
BEGIN:VEVENT
DTSTAMP:20260421T134555
DTSTART;TZID=Europe/Berlin:20261208T174500
DTEND;TZID=Europe/Berlin:20261208T190000
UID:W32533710-20261208T174500@VHSBÖBLINGEN-SINDELFINGEN
SUMMARY:Hatha Yoga (W32533710) 
LOCATION:Turn- und Festhalle Darmsheim, ___, Karlsstr. 27, 71069 Sindelfingen
END:VEVENT
BEGIN:VEVENT
DTSTAMP:20260421T134555
DTSTART;TZID=Europe/Berlin:20261215T174500
DTEND;TZID=Europe/Berlin:20261215T190000
UID:W32533710-20261215T174500@VHSBÖBLINGEN-SINDELFINGEN
SUMMARY:Hatha Yoga (W32533710) 
LOCATION:Turn- und Festhalle Darmsheim, ___, Karlsstr. 27, 71069 Sindelfingen
END:VEVENT
BEGIN:VEVENT
DTSTAMP:20260421T134555
DTSTART;TZID=Europe/Berlin:20270112T174500
DTEND;TZID=Europe/Berlin:20270112T190000
UID:W32533710-20270112T174500@VHSBÖBLINGEN-SINDELFINGEN
SUMMARY:Hatha Yoga (W32533710) 
LOCATION:Turn- und Festhalle Darmsheim, ___, Karlsstr. 27, 71069 Sindelfingen
END:VEVENT
BEGIN:VEVENT
DTSTAMP:20260421T134555
DTSTART;TZID=Europe/Berlin:20270119T174500
DTEND;TZID=Europe/Berlin:20270119T190000
UID:W32533710-20270119T174500@VHSBÖBLINGEN-SINDELFINGEN
SUMMARY:Hatha Yoga (W32533710) 
LOCATION:Turn- und Festhalle Darmsheim, ___, Karlsstr. 27, 71069 Sindelfingen
END:VEVENT
BEGIN:VEVENT
DTSTAMP:20260421T134555
DTSTART;TZID=Europe/Berlin:20270126T174500
DTEND;TZID=Europe/Berlin:20270126T190000
UID:W32533710-20270126T174500@VHSBÖBLINGEN-SINDELFINGEN
SUMMARY:Hatha Yoga (W32533710) 
LOCATION:Turn- und Festhalle Darmsheim, ___, Karlsstr. 27, 71069 Sindelfingen
END:VEVENT
END:VCALENDAR