BEGIN:VCALENDAR
VERSION:2.0
PRODID:https://www.kufer.de/kuferweb / DE
METHOD:PUBLISH
CALSCALE:GREGORIAN
X-WR-TIMEZONE:Europe/Berlin
BEGIN:VTIMEZONE
TZID:Europe/Berlin
X-LIC-LOCATION:Europe/Berlin
BEGIN:DAYLIGHT
TZOFFSETFROM:+0100
TZOFFSETTO:+0200
TZNAME:CEST
DTSTART:19700329T020000
RRULE:FREQ=YEARLY;INTERVAL=1;BYDAY=-1SU;BYMONTH=3
END:DAYLIGHT
BEGIN:STANDARD
TZOFFSETFROM:+0200
TZOFFSETTO:+0100
TZNAME:CET
DTSTART:19701025T030000
RRULE:FREQ=YEARLY;INTERVAL=1;BYDAY=-1SU;BYMONTH=10
END:STANDARD
END:VTIMEZONE
BEGIN:VEVENT
DTSTAMP:20260421T153526
DTSTART;TZID=Europe/Berlin:20260922T191000
DTEND;TZID=Europe/Berlin:20260922T202500
UID:W32533510-20260922T191000@VHSBÖBLINGEN-SINDELFINGEN
SUMMARY:Hatha Yoga (W32533510) 
LOCATION:Turn- und Festhalle Darmsheim, ___, Karlsstr. 27, 71069 Sindelfingen
END:VEVENT
BEGIN:VEVENT
DTSTAMP:20260421T153526
DTSTART;TZID=Europe/Berlin:20260929T191000
DTEND;TZID=Europe/Berlin:20260929T202500
UID:W32533510-20260929T191000@VHSBÖBLINGEN-SINDELFINGEN
SUMMARY:Hatha Yoga (W32533510) 
LOCATION:Turn- und Festhalle Darmsheim, ___, Karlsstr. 27, 71069 Sindelfingen
END:VEVENT
BEGIN:VEVENT
DTSTAMP:20260421T153526
DTSTART;TZID=Europe/Berlin:20261006T191000
DTEND;TZID=Europe/Berlin:20261006T202500
UID:W32533510-20261006T191000@VHSBÖBLINGEN-SINDELFINGEN
SUMMARY:Hatha Yoga (W32533510) 
LOCATION:Turn- und Festhalle Darmsheim, ___, Karlsstr. 27, 71069 Sindelfingen
END:VEVENT
BEGIN:VEVENT
DTSTAMP:20260421T153526
DTSTART;TZID=Europe/Berlin:20261013T191000
DTEND;TZID=Europe/Berlin:20261013T202500
UID:W32533510-20261013T191000@VHSBÖBLINGEN-SINDELFINGEN
SUMMARY:Hatha Yoga (W32533510) 
LOCATION:Turn- und Festhalle Darmsheim, ___, Karlsstr. 27, 71069 Sindelfingen
END:VEVENT
BEGIN:VEVENT
DTSTAMP:20260421T153526
DTSTART;TZID=Europe/Berlin:20261020T191000
DTEND;TZID=Europe/Berlin:20261020T202500
UID:W32533510-20261020T191000@VHSBÖBLINGEN-SINDELFINGEN
SUMMARY:Hatha Yoga (W32533510) 
LOCATION:Turn- und Festhalle Darmsheim, ___, Karlsstr. 27, 71069 Sindelfingen
END:VEVENT
BEGIN:VEVENT
DTSTAMP:20260421T153526
DTSTART;TZID=Europe/Berlin:20261103T191000
DTEND;TZID=Europe/Berlin:20261103T202500
UID:W32533510-20261103T191000@VHSBÖBLINGEN-SINDELFINGEN
SUMMARY:Hatha Yoga (W32533510) 
LOCATION:Turn- und Festhalle Darmsheim, ___, Karlsstr. 27, 71069 Sindelfingen
END:VEVENT
BEGIN:VEVENT
DTSTAMP:20260421T153526
DTSTART;TZID=Europe/Berlin:20261110T191000
DTEND;TZID=Europe/Berlin:20261110T202500
UID:W32533510-20261110T191000@VHSBÖBLINGEN-SINDELFINGEN
SUMMARY:Hatha Yoga (W32533510) 
LOCATION:Turn- und Festhalle Darmsheim, ___, Karlsstr. 27, 71069 Sindelfingen
END:VEVENT
BEGIN:VEVENT
DTSTAMP:20260421T153526
DTSTART;TZID=Europe/Berlin:20261117T191000
DTEND;TZID=Europe/Berlin:20261117T202500
UID:W32533510-20261117T191000@VHSBÖBLINGEN-SINDELFINGEN
SUMMARY:Hatha Yoga (W32533510) 
LOCATION:Turn- und Festhalle Darmsheim, ___, Karlsstr. 27, 71069 Sindelfingen
END:VEVENT
BEGIN:VEVENT
DTSTAMP:20260421T153526
DTSTART;TZID=Europe/Berlin:20261124T191000
DTEND;TZID=Europe/Berlin:20261124T202500
UID:W32533510-20261124T191000@VHSBÖBLINGEN-SINDELFINGEN
SUMMARY:Hatha Yoga (W32533510) 
LOCATION:Turn- und Festhalle Darmsheim, ___, Karlsstr. 27, 71069 Sindelfingen
END:VEVENT
BEGIN:VEVENT
DTSTAMP:20260421T153526
DTSTART;TZID=Europe/Berlin:20261201T191000
DTEND;TZID=Europe/Berlin:20261201T202500
UID:W32533510-20261201T191000@VHSBÖBLINGEN-SINDELFINGEN
SUMMARY:Hatha Yoga (W32533510) 
LOCATION:Turn- und Festhalle Darmsheim, ___, Karlsstr. 27, 71069 Sindelfingen
END:VEVENT
BEGIN:VEVENT
DTSTAMP:20260421T153526
DTSTART;TZID=Europe/Berlin:20261208T191000
DTEND;TZID=Europe/Berlin:20261208T202500
UID:W32533510-20261208T191000@VHSBÖBLINGEN-SINDELFINGEN
SUMMARY:Hatha Yoga (W32533510) 
LOCATION:Turn- und Festhalle Darmsheim, ___, Karlsstr. 27, 71069 Sindelfingen
END:VEVENT
BEGIN:VEVENT
DTSTAMP:20260421T153526
DTSTART;TZID=Europe/Berlin:20261215T191000
DTEND;TZID=Europe/Berlin:20261215T202500
UID:W32533510-20261215T191000@VHSBÖBLINGEN-SINDELFINGEN
SUMMARY:Hatha Yoga (W32533510) 
LOCATION:Turn- und Festhalle Darmsheim, ___, Karlsstr. 27, 71069 Sindelfingen
END:VEVENT
BEGIN:VEVENT
DTSTAMP:20260421T153526
DTSTART;TZID=Europe/Berlin:20270112T191000
DTEND;TZID=Europe/Berlin:20270112T202500
UID:W32533510-20270112T191000@VHSBÖBLINGEN-SINDELFINGEN
SUMMARY:Hatha Yoga (W32533510) 
LOCATION:Turn- und Festhalle Darmsheim, ___, Karlsstr. 27, 71069 Sindelfingen
END:VEVENT
BEGIN:VEVENT
DTSTAMP:20260421T153526
DTSTART;TZID=Europe/Berlin:20270119T191000
DTEND;TZID=Europe/Berlin:20270119T202500
UID:W32533510-20270119T191000@VHSBÖBLINGEN-SINDELFINGEN
SUMMARY:Hatha Yoga (W32533510) 
LOCATION:Turn- und Festhalle Darmsheim, ___, Karlsstr. 27, 71069 Sindelfingen
END:VEVENT
BEGIN:VEVENT
DTSTAMP:20260421T153526
DTSTART;TZID=Europe/Berlin:20270126T191000
DTEND;TZID=Europe/Berlin:20270126T202500
UID:W32533510-20270126T191000@VHSBÖBLINGEN-SINDELFINGEN
SUMMARY:Hatha Yoga (W32533510) 
LOCATION:Turn- und Festhalle Darmsheim, ___, Karlsstr. 27, 71069 Sindelfingen
END:VEVENT
END:VCALENDAR