BEGIN:VCALENDAR
VERSION:2.0
PRODID:https://www.kufer.de/kuferweb / DE
METHOD:PUBLISH
CALSCALE:GREGORIAN
X-WR-TIMEZONE:Europe/Berlin
BEGIN:VTIMEZONE
TZID:Europe/Berlin
X-LIC-LOCATION:Europe/Berlin
BEGIN:DAYLIGHT
TZOFFSETFROM:+0100
TZOFFSETTO:+0200
TZNAME:CEST
DTSTART:19700329T020000
RRULE:FREQ=YEARLY;INTERVAL=1;BYDAY=-1SU;BYMONTH=3
END:DAYLIGHT
BEGIN:STANDARD
TZOFFSETFROM:+0200
TZOFFSETTO:+0100
TZNAME:CET
DTSTART:19701025T030000
RRULE:FREQ=YEARLY;INTERVAL=1;BYDAY=-1SU;BYMONTH=10
END:STANDARD
END:VTIMEZONE
BEGIN:VEVENT
DTSTAMP:20260420T214157
DTSTART;TZID=Europe/Berlin:20260924T180000
DTEND;TZID=Europe/Berlin:20260924T190000
UID:W32533210-20260924T180000@VHSBÖBLINGEN-SINDELFINGEN
SUMMARY:Hatha Yoga (W32533210) 
LOCATION:vhs.Werk, Halle 1, Wurmbergstr. 5, 71063 Sindelfingen
END:VEVENT
BEGIN:VEVENT
DTSTAMP:20260420T214157
DTSTART;TZID=Europe/Berlin:20261001T180000
DTEND;TZID=Europe/Berlin:20261001T190000
UID:W32533210-20261001T180000@VHSBÖBLINGEN-SINDELFINGEN
SUMMARY:Hatha Yoga (W32533210) 
LOCATION:vhs.Werk, Halle 1, Wurmbergstr. 5, 71063 Sindelfingen
END:VEVENT
BEGIN:VEVENT
DTSTAMP:20260420T214157
DTSTART;TZID=Europe/Berlin:20261008T180000
DTEND;TZID=Europe/Berlin:20261008T190000
UID:W32533210-20261008T180000@VHSBÖBLINGEN-SINDELFINGEN
SUMMARY:Hatha Yoga (W32533210) 
LOCATION:vhs.Werk, Halle 1, Wurmbergstr. 5, 71063 Sindelfingen
END:VEVENT
BEGIN:VEVENT
DTSTAMP:20260420T214157
DTSTART;TZID=Europe/Berlin:20261015T180000
DTEND;TZID=Europe/Berlin:20261015T190000
UID:W32533210-20261015T180000@VHSBÖBLINGEN-SINDELFINGEN
SUMMARY:Hatha Yoga (W32533210) 
LOCATION:vhs.Werk, Halle 1, Wurmbergstr. 5, 71063 Sindelfingen
END:VEVENT
BEGIN:VEVENT
DTSTAMP:20260420T214157
DTSTART;TZID=Europe/Berlin:20261022T180000
DTEND;TZID=Europe/Berlin:20261022T190000
UID:W32533210-20261022T180000@VHSBÖBLINGEN-SINDELFINGEN
SUMMARY:Hatha Yoga (W32533210) 
LOCATION:vhs.Werk, Halle 1, Wurmbergstr. 5, 71063 Sindelfingen
END:VEVENT
BEGIN:VEVENT
DTSTAMP:20260420T214157
DTSTART;TZID=Europe/Berlin:20261105T180000
DTEND;TZID=Europe/Berlin:20261105T190000
UID:W32533210-20261105T180000@VHSBÖBLINGEN-SINDELFINGEN
SUMMARY:Hatha Yoga (W32533210) 
LOCATION:vhs.Werk, Halle 1, Wurmbergstr. 5, 71063 Sindelfingen
END:VEVENT
BEGIN:VEVENT
DTSTAMP:20260420T214157
DTSTART;TZID=Europe/Berlin:20261112T180000
DTEND;TZID=Europe/Berlin:20261112T190000
UID:W32533210-20261112T180000@VHSBÖBLINGEN-SINDELFINGEN
SUMMARY:Hatha Yoga (W32533210) 
LOCATION:vhs.Werk, Halle 1, Wurmbergstr. 5, 71063 Sindelfingen
END:VEVENT
BEGIN:VEVENT
DTSTAMP:20260420T214157
DTSTART;TZID=Europe/Berlin:20261126T180000
DTEND;TZID=Europe/Berlin:20261126T190000
UID:W32533210-20261126T180000@VHSBÖBLINGEN-SINDELFINGEN
SUMMARY:Hatha Yoga (W32533210) 
LOCATION:vhs.Werk, Halle 1, Wurmbergstr. 5, 71063 Sindelfingen
END:VEVENT
BEGIN:VEVENT
DTSTAMP:20260420T214157
DTSTART;TZID=Europe/Berlin:20261203T180000
DTEND;TZID=Europe/Berlin:20261203T190000
UID:W32533210-20261203T180000@VHSBÖBLINGEN-SINDELFINGEN
SUMMARY:Hatha Yoga (W32533210) 
LOCATION:vhs.Werk, Halle 1, Wurmbergstr. 5, 71063 Sindelfingen
END:VEVENT
BEGIN:VEVENT
DTSTAMP:20260420T214157
DTSTART;TZID=Europe/Berlin:20261210T180000
DTEND;TZID=Europe/Berlin:20261210T190000
UID:W32533210-20261210T180000@VHSBÖBLINGEN-SINDELFINGEN
SUMMARY:Hatha Yoga (W32533210) 
LOCATION:vhs.Werk, Halle 1, Wurmbergstr. 5, 71063 Sindelfingen
END:VEVENT
BEGIN:VEVENT
DTSTAMP:20260420T214157
DTSTART;TZID=Europe/Berlin:20261217T180000
DTEND;TZID=Europe/Berlin:20261217T190000
UID:W32533210-20261217T180000@VHSBÖBLINGEN-SINDELFINGEN
SUMMARY:Hatha Yoga (W32533210) 
LOCATION:vhs.Werk, Halle 1, Wurmbergstr. 5, 71063 Sindelfingen
END:VEVENT
BEGIN:VEVENT
DTSTAMP:20260420T214157
DTSTART;TZID=Europe/Berlin:20270114T180000
DTEND;TZID=Europe/Berlin:20270114T190000
UID:W32533210-20270114T180000@VHSBÖBLINGEN-SINDELFINGEN
SUMMARY:Hatha Yoga (W32533210) 
LOCATION:vhs.Werk, Halle 1, Wurmbergstr. 5, 71063 Sindelfingen
END:VEVENT
BEGIN:VEVENT
DTSTAMP:20260420T214157
DTSTART;TZID=Europe/Berlin:20270121T180000
DTEND;TZID=Europe/Berlin:20270121T190000
UID:W32533210-20270121T180000@VHSBÖBLINGEN-SINDELFINGEN
SUMMARY:Hatha Yoga (W32533210) 
LOCATION:vhs.Werk, Halle 1, Wurmbergstr. 5, 71063 Sindelfingen
END:VEVENT
BEGIN:VEVENT
DTSTAMP:20260420T214157
DTSTART;TZID=Europe/Berlin:20270128T180000
DTEND;TZID=Europe/Berlin:20270128T190000
UID:W32533210-20270128T180000@VHSBÖBLINGEN-SINDELFINGEN
SUMMARY:Hatha Yoga (W32533210) 
LOCATION:vhs.Werk, Halle 1, Wurmbergstr. 5, 71063 Sindelfingen
END:VEVENT
BEGIN:VEVENT
DTSTAMP:20260420T214157
DTSTART;TZID=Europe/Berlin:20270204T180000
DTEND;TZID=Europe/Berlin:20270204T190000
UID:W32533210-20270204T180000@VHSBÖBLINGEN-SINDELFINGEN
SUMMARY:Hatha Yoga (W32533210) 
LOCATION:vhs.Werk, Halle 1, Wurmbergstr. 5, 71063 Sindelfingen
END:VEVENT
END:VCALENDAR